BEGIN:VCALENDAR
VERSION:2.0
PRODID:-//Astrologie | Deutscher Astrologenverband e.V. - ECPv6.1.0//NONSGML v1.0//EN
CALSCALE:GREGORIAN
METHOD:PUBLISH
X-ORIGINAL-URL:https://www.astrologenverband.de
X-WR-CALDESC:Veranstaltungen für Astrologie | Deutscher Astrologenverband e.V.
REFRESH-INTERVAL;VALUE=DURATION:PT1H
X-Robots-Tag:noindex
X-PUBLISHED-TTL:PT1H
BEGIN:VTIMEZONE
TZID:Europe/Berlin
BEGIN:DAYLIGHT
TZOFFSETFROM:+0100
TZOFFSETTO:+0200
TZNAME:CEST
DTSTART:20260329T010000
END:DAYLIGHT
BEGIN:STANDARD
TZOFFSETFROM:+0200
TZOFFSETTO:+0100
TZNAME:CET
DTSTART:20261025T010000
END:STANDARD
END:VTIMEZONE
BEGIN:VEVENT
DTSTART;TZID=Europe/Berlin:20260301T123000
DTEND;TZID=Europe/Berlin:20260301T153000
DTSTAMP:20260421T160018
CREATED:20260217T113620Z
LAST-MODIFIED:20260217T113620Z
UID:10005970-1772368200-1772379000@www.astrologenverband.de
SUMMARY:Webinar: Die Magie der Dunkelheit: Finsternisse als Wegweiser im Leben
DESCRIPTION:Entdecken Sie die klassische Symbolik von Licht und Schatten!\nWie beeinflussen diese dualen Kräfte unsere Motivationen und Lebensausrichtung? Was offenbart die pränatale Finsternis?\nIn diesem Webinar erfahren Sie\, wie Finsternisse in sekundären Progressionen und Solar-Return-Analysen eine Rolle spielen und welche tiefgreifenden Bedeutungen sie für Ihr persönliches Wachstum haben können.\nSeien Sie dabei und lernen Sie\, wie Sie diese Erkenntnisse in Ihrem Leben anwenden können! \nMelden Sie sich jetzt unter www.astro-zorya.eu  an! \nTeilnahmegebühr: 50 Euro
URL:https://www.astrologenverband.de/terminkalender/webinar-die-magie-der-dunkelheit-finsternisse-als-wegweiser-im-leben/
ORGANIZER;CN="Maria%20Lohri":MAILTO:maria.lohri@astro-zorya.eu
END:VEVENT
END:VCALENDAR