BEGIN:VCALENDAR
VERSION:2.0
PRODID:-//Astrologie | Deutscher Astrologenverband e.V. - ECPv6.1.0//NONSGML v1.0//EN
CALSCALE:GREGORIAN
METHOD:PUBLISH
X-WR-CALNAME:Astrologie | Deutscher Astrologenverband e.V.
X-ORIGINAL-URL:https://www.astrologenverband.de
X-WR-CALDESC:Veranstaltungen für Astrologie | Deutscher Astrologenverband e.V.
REFRESH-INTERVAL;VALUE=DURATION:PT1H
X-Robots-Tag:noindex
X-PUBLISHED-TTL:PT1H
BEGIN:VTIMEZONE
TZID:Europe/Berlin
BEGIN:DAYLIGHT
TZOFFSETFROM:+0100
TZOFFSETTO:+0200
TZNAME:CEST
DTSTART:20260329T010000
END:DAYLIGHT
BEGIN:STANDARD
TZOFFSETFROM:+0200
TZOFFSETTO:+0100
TZNAME:CET
DTSTART:20261025T010000
END:STANDARD
END:VTIMEZONE
BEGIN:VEVENT
DTSTART;TZID=Europe/Berlin:20260320T190000
DTEND;TZID=Europe/Berlin:20260320T220000
DTSTAMP:20260425T183201
CREATED:20260224T211412Z
LAST-MODIFIED:20260224T211412Z
UID:10005982-1774033200-1774044000@www.astrologenverband.de
SUMMARY:Tag der Astrologie
DESCRIPTION:Am 20.03.2026 beginnt mit dem Frühlingsanfang ein Merkur-Jahr. \nMerkur steht u.a. für das Denken\, die Kommunikation\, das Lernen\, den Austausch. Daher laden wir Euch ein\, Neues zu entdecken\, einzutauchen in die Welt der Astrologie\, der kosmischen Sprache zu lauschen und uns gemeinsam über das Potenzial dieser Zeit auszutauschen. \nDas Jahr 2026 ist gekennzeichnet durch eine hohe Dynamik\, die Zeichen stehen auf „Sturm“. Daher ist es gut zu wissen\, wie wir unsere Segel setzen wollen\, damit wir unsere Projekte voranbringen können. Gleichzeitig braucht es eine innere Zentrierung\, um bei aller Aufbruchsstimmung die Balance nicht zu verlieren. \nDie Sterne bestimmen nicht unser Leben\, doch sie zeigen uns die Energiequalität\, in der wir uns bewegen. Diese können wir nutzen\, wenn wir um sie wissen! \nDaher laden wir gemeinsam zum Tag der Astrologie ein\, die Energiequalität des Frühlingsanfangs spürend zu erfahren. Wir werden in einer astrologischen Aufstellung das Frühlingsfeuer in uns erleben und dabei intuitiv fühlen\, was diese Energie für uns persönlich bedeutet. \nIn einer meditativen Reise zu den Sternen lassen wir uns vom Feuer des Widders inspirieren. \nAn diesem Abend werden wir \n\nüber die astrologische Zeitqualität sprechen\ndiese in einer astrologischen Aufstellung erfahren\nin einer meditativen Sternenreise eine persönliche Botschaft empfangen\n\nFühle dich willkommen in unserer neuen DAV-Regionalstelle! \nVerena Schäbler und Susanne Sonnenschein \n  \nVeranstaltungsort: Verena Schäbler\, Gailbacher Str. 24\, 63743 Aschaffenburg \nDatum: 20.03.2026 um 19 Uhr \nKosten: 30 Euro
URL:https://www.astrologenverband.de/terminkalender/tag-der-astrologie/
LOCATION:63743 Aschaffenburg\, Gailbacher Str. 24\, Gailbacher Str. 24\, Aschaffenburg\, Bayern\, 63743\, Deutschland
CATEGORIES:DAV Regionalstelle,Vortrag Präsenz
ORGANIZER;CN="DAV%20Regionalstelle%20Aschaffenburg":MAILTO:s.sonnenschein@posteo.de
END:VEVENT
END:VCALENDAR