BEGIN:VCALENDAR
VERSION:2.0
PRODID:-//Astrologie | Deutscher Astrologenverband e.V. - ECPv6.1.0//NONSGML v1.0//EN
CALSCALE:GREGORIAN
METHOD:PUBLISH
X-ORIGINAL-URL:https://www.astrologenverband.de
X-WR-CALDESC:Veranstaltungen für Astrologie | Deutscher Astrologenverband e.V.
REFRESH-INTERVAL;VALUE=DURATION:PT1H
X-Robots-Tag:noindex
X-PUBLISHED-TTL:PT1H
BEGIN:VTIMEZONE
TZID:Europe/Berlin
BEGIN:DAYLIGHT
TZOFFSETFROM:+0100
TZOFFSETTO:+0200
TZNAME:CEST
DTSTART:20260329T010000
END:DAYLIGHT
BEGIN:STANDARD
TZOFFSETFROM:+0200
TZOFFSETTO:+0100
TZNAME:CET
DTSTART:20261025T010000
END:STANDARD
END:VTIMEZONE
BEGIN:VEVENT
DTSTART;TZID=Europe/Berlin:20260414T190000
DTEND;TZID=Europe/Berlin:20260414T203000
DTSTAMP:20260422T120918
CREATED:20260311T145938Z
LAST-MODIFIED:20260311T145938Z
UID:10006058-1776193200-1776198600@www.astrologenverband.de
SUMMARY:"Zwei Schritte vorwärts\, drei Schritte zurück - Über Sinn und Unsinn der rückläufigen Planeten" mit Monika Heer
DESCRIPTION:Die rückläufigen Phasen der Planeten werden in der astrologischen Deutung unterschiedlich gesehen. Während die traditionelle Astrologie einen Planeten im Rückwärtsgang als geschwächt versteht\, sehen Esoteriker den gleichen Planeten eher im Kontext von karmischen Verfehlungen. Doch der Blick und damit auch die Deutung verändern sich\, wenn wir die Retrophasen der Planeten als Teil eines gesamten Zyklus verstehen und die ästhetische Struktur erkennen\, die sich bildet\, indem wir die Schleifen der Planeten über größere Zeiträume beobachten.  \nAm Beispiel ausgewählter Horoskope werden die Retro-Bewegungen der Planeten als Gesetze des Lebens beschrieben. Sie zeigen nämlich nicht nur\, wie wir (er)leben und leben\, sondern auch wie Lernen und Entwicklung geschieht\, nämlich selten nur vorwärts\, sondern oft genug durch Umwege oder Wiederholungen. Und wenn wir genau hinschauen\, können wir die Schleifen der Planeten als Chancen für ein Wachstum sehen und unsere Deutungen entsprechend konstruktiv formulieren.
URL:https://www.astrologenverband.de/terminkalender/zwei-schritte-vorwaerts-drei-schritte-zurueck-ueber-sinn-und-unsinn-der-ruecklaeufigen-planeten-mit-monika-heer/
LOCATION:www.astrologie-ag-stuttgart.de\, Dieter.Gollong@t-online.de
ORGANIZER;CN="Astrologische%20Arbeitsgemeinschaft%20Stuttgart%20e.%20V":MAILTO:astrologie.ag.stuttgart@t-online.de
END:VEVENT
BEGIN:VEVENT
DTSTART;TZID=Europe/Berlin:20260310T190000
DTEND;TZID=Europe/Berlin:20260310T203000
DTSTAMP:20260422T120918
CREATED:20260211T160940Z
LAST-MODIFIED:20260211T160940Z
UID:10005969-1773169200-1773174600@www.astrologenverband.de
SUMMARY:"Das vorgeburtliche Neumond-Horsoskop"          von Martin Sebastian Moritz
DESCRIPTION:Der vorgeburtliche Neumond\, auch karibischer Neumond genannt\, ist der letzte Neumond vor der Geburt\, jener Moment\, in dem Sonne und Mond in Konjunktion stehen\, bevor sich die Seele physisch verkörpert. In der karmischen Astrologie gilt er als energetischer Fingerabdruck der Inkarnation; ein kosmischer Startimpuls\, der das seelische Erbe aus früheren Leben mit den Lebensaufgaben des neuen Daseins verbindet
URL:https://www.astrologenverband.de/terminkalender/das-vorgeburtliche-neumond-horsoskop-von-martin-sebastian-moritz/
LOCATION:ONline Astrologische Arbeitsgemeinchaft Stuttgart .V.\, Dieter.Gollong@t-online.de
ORGANIZER;CN="Astrologische%20Arbeitsgemeinschaft%20Stuttgart%20e.%20V":MAILTO:astrologie.ag.stuttgart@t-online.de
END:VEVENT
BEGIN:VEVENT
DTSTART;TZID=Europe/Berlin:20260210T190000
DTEND;TZID=Europe/Berlin:20260210T203000
DTSTAMP:20260422T120918
CREATED:20260117T093100Z
LAST-MODIFIED:20260117T093127Z
UID:10005919-1770750000-1770755400@www.astrologenverband.de
SUMMARY:"Der Fahrplan des Lebens" von Petra Dörfert
DESCRIPTION:„Neben den individuellen Auslösungen bestimmen verschiedene Zyklen unser Leben\, die für alle Menschen gleich sind. Dazu zählen u.a. der Jupiter-\, Saturn- und Uranuszyklus\, die Chiron-Wiederkehr\, die Achsenwiederkehr im Solar sowie das 60. Sonnenbogenjahr. Der Vortrag beleuchtet\, wie sich die einzelnen Lebensphasen (z.B. Einschulung\, Pubertät\, Erwachsenwerden\, Midlife-Krise\, Rente) vor dem Hintergrund dieser Faktoren vollziehen; einige Fallbeispiele runden das Thema ab.“
URL:https://www.astrologenverband.de/terminkalender/der-fahrplan-des-lebens-von-petra-doerfert/
LOCATION:ONline Astrologische Arbeitsgemeinchaft Stuttgart .V.\, Dieter.Gollong@t-online.de
ORGANIZER;CN="Astrologische%20Arbeitsgemeinschaft%20Stuttgart%20e.%20V":MAILTO:astrologie.ag.stuttgart@t-online.de
END:VEVENT
END:VCALENDAR