BEGIN:VCALENDAR
VERSION:2.0
PRODID:-//Astrologie | Deutscher Astrologenverband e.V. - ECPv6.1.0//NONSGML v1.0//EN
CALSCALE:GREGORIAN
METHOD:PUBLISH
X-WR-CALNAME:Astrologie | Deutscher Astrologenverband e.V.
X-ORIGINAL-URL:https://www.astrologenverband.de
X-WR-CALDESC:Veranstaltungen für Astrologie | Deutscher Astrologenverband e.V.
REFRESH-INTERVAL;VALUE=DURATION:PT1H
X-Robots-Tag:noindex
X-PUBLISHED-TTL:PT1H
BEGIN:VTIMEZONE
TZID:Europe/Berlin
BEGIN:DAYLIGHT
TZOFFSETFROM:+0100
TZOFFSETTO:+0200
TZNAME:CEST
DTSTART:20260329T010000
END:DAYLIGHT
BEGIN:STANDARD
TZOFFSETFROM:+0200
TZOFFSETTO:+0100
TZNAME:CET
DTSTART:20261025T010000
END:STANDARD
END:VTIMEZONE
BEGIN:VEVENT
DTSTART;TZID=Europe/Berlin:20261116T193000
DTEND;TZID=Europe/Berlin:20261116T213000
DTSTAMP:20260424T171806
CREATED:20250129T152241Z
LAST-MODIFIED:20250210T165651Z
UID:10004619-1794857400-1794864600@www.astrologenverband.de
SUMMARY:Online-Aufbaukurs Partnerschaftsastrologie (13)
DESCRIPTION:in 15 Abend-Webinaren (jeweils montags 19:30 Uhr – 21:30 Uhr) erhalten sie durch die Astrologin Petra Dörfert eine umfassende Einführung in das Thema Partnerschaftsastrologie. Kursinhalte sind neben den Methoden Synastrie\, Composit und Combin die gründliche Analyse der Radix auf Partnerschaftsthemen hin sowie die Frage\, wie man typische Partnerschaftsprobleme erkennt und löst. \nSämtliche Informationen zur Ausbildung finden Sie hier. \nFür die Anmeldung nehmen Sie bitte per E-Mail oder telefonisch Kontakt mit mir auf (siehe unten)\, dann sende ich Ihnen das Anmeldeformular zu. \nDer Aufbaukurs Partnerschaftsastrologie richtet sich an Fortgeschrittene und ist Teil der 3-4-jährigen Online-Ausbildung Astrologie mit dem einjährigen Grundkurs und den weiteren Aufbaukursen Prognose\, Beratertraining und DAV-Prüfungsvorbereitung (jedes Modul ist einzeln buchbar). Mehr dazu finden Sie auf der Homepage der Online Akademie Astrologie Petra Dörfert.
URL:https://www.astrologenverband.de/terminkalender/online-aufbaukurs-partnerschaftsastrologie-13-2/
LOCATION:Online\, Deutschland
CATEGORIES:DAV Ausbildungszentrum,Seminar Online
ORGANIZER;CN="Online%20Akademie%20Astrologie%20Petra%20D%C3%B6rfert%20%2F%20DAV%20Ausbildungszentrum":MAILTO:info@online-akademie-astrologie.com
END:VEVENT
BEGIN:VEVENT
DTSTART;TZID=Europe/Berlin:20261117T190000
DTEND;TZID=Europe/Berlin:20261117T210000
DTSTAMP:20260424T171806
CREATED:20250726T170226Z
LAST-MODIFIED:20250726T170226Z
UID:10005473-1794942000-1794949200@www.astrologenverband.de
SUMMARY:Online-Grundausbildung Astrologie 2026 (29)
DESCRIPTION:Die beliebte Astrologos-Grundausbildung wird ab 13. Januar 2026 erneut angeboten. Im Verlauf von 30 Abenden und einem Tagesseminar vor Ort werden die Deutungsansätze der wichtigen Astrologie-Schulen systemübergreifend vermittelt. Psychologische Theorien und Konzepte ergänzen die Inhalte\, so dass Sie die astrologischen Symbole sinnvoll in ihrer Arbeit einsetzen können. \nIm Verlauf von zwei Grundstufen lernen Sie\, Horoskope zu deuten und entdecken schrittweise das uralte Wissen der Astrologie. Gleichzeitig lernen Sie ihr persönliches Horoskop kennen und entdecken so einem Weg der Selbstentwicklung und Selbstentfaltung. \nIm Anschluss an jeden Abend erhalten Sie das Video und zu jedem Thema ein ausführliches Skript\, so dass Sie verpasste Termine nacharbeiten können. \nEin kostenloser Infoabend zu dieser Astrologie-Ausbildung findet am 12. November 2025 statt. \nAusführliche Informationen zur Ausbildung finden Sie auf der Astrologos-Website. Für weitere Informationen und die Anmeldung nehmen Sie bitte per E-Mail oder telefonisch Kontakt mit mir auf. \nDie E-Mail-Adresse ist: kontakt@astrologos.de\, die Telefonnummer: 0234-683723.
URL:https://www.astrologenverband.de/terminkalender/online-grundausbildung-astrologie-2026-29/
LOCATION:DAV-Zentrum Bochum-Ruhrgebiet\, Deutschland
CATEGORIES:DAV Ausbildungszentrum,Seminar Online
ORGANIZER;CN="DAV-Astrologiezentrum%20Ruhrgebiet":MAILTO:kontakt@astrologos.de
END:VEVENT
BEGIN:VEVENT
DTSTART;TZID=Europe/Berlin:20261117T190000
DTEND;TZID=Europe/Berlin:20261117T210000
DTSTAMP:20260424T171806
CREATED:20260131T190830Z
LAST-MODIFIED:20260410T154906Z
UID:10005960-1794942000-1794949200@www.astrologenverband.de
SUMMARY:Fachausbildung Astromedizin 32
DESCRIPTION:Fachausbildung für medizinisch interessierte Astrologen und astrologisch interessierte Therapeuten\n60 Veranstaltungen in 30 Monaten\, jeweils 19-21 Uhr\nLive mit Interaktion auf meiner Online-Akademie\nDen TeilnehmerInnen stehen Skript\, Präsentation und Videoaufnahme zur Verfügung. \nFachseminare über die verschiedenen Organbereiche: \n1.Das zentrale und periphere Nervensystem – Forschung anhand von Fallbeispielen: Schwindel\, Epilepsie\, Apoplexie\, Enzephalitis\, Morbus Parkinson und Polyneuropathie\n2. Das endokrine System 1 – Erkrankungen von Schilddrüse und Nebenschilddrüse anhand von Fallbeispielen: Unter- und Überfunktion\, Hashimoto\n3. Das endokrine System 2 – Hypothalamus\, Hypophyse\, Epiphyse\, Thymus\, Nebenniere und ihre möglichen Fehlfunktionen mit Auswirkungen: z. B. Cushing\, Wachstumsstörungen\, Unfruchtbarkeit\, Virilismus und Hirsutismus\n4. Blut und lymphoretikuläres System – Schwerpunkte: Anämie\, Leukämie\, Hodgkin\, Non Hodgkin\, AIDS\n5. Kreislaufsystem – Erkrankungen von Arterien und Venen – Schwerpunkt Verschlüsse und Aneurysmen\n6. Herz und Atmungssystem – Schwerpunkte der Fallanalysen: Herzfehler\, Asthma und Lungenembolie\n7. Verdauungssystem 1 – Erkrankungen des Magen-Darm-Traktes: z. B. Morbus Crohn und Colitis ulcerosa\n8. Verdauungssystem 2 – Leber\, Galle\, Bauchspeicheldrüse – Schwerpunkte: Hepatitis\, Leberzirrhose\, Gallensteinleiden\n9. Stoffwechsel – insbesondere Diabetes aus astromedizinischer Sicht\n10.Ausscheidungssystem – Erkrankungen der Nieren – Forschungsschwerpunkt: Die Beteiligung von Isis bei Nierenleiden\n11.Bewegungsapparat 1 – Gelenk- und Wirbelsäulenerkrankungen – Schwerpunkt: Arthrose und Morbus Bechterew\n12. Bewegungsapparat 2 – Kollagenosen\, Vaskulitiden\, Schwerpunktthema: Fibromyalgie \nWeitere Info: www.astromedizin.info\nAusbildungsplan anfordern: hp.heidetrautmann@astromedizin.info
URL:https://www.astrologenverband.de/terminkalender/fachausbildung-astromedizin-32/
LOCATION:Online-Akademie Heide Trautmann\, Schillerstraße\, Blieskastel\, 66440\, Deutschland
CATEGORIES:Seminar Online
ORGANIZER;CN="Heide%20Trautmann%2C%20Heilpraktikerin%20und%20Astromedizinerin":MAILTO:hp.heidetrautmann@astromedizin.info
END:VEVENT
BEGIN:VEVENT
DTSTART;TZID=Europe/Berlin:20261117T193000
DTEND;TZID=Europe/Berlin:20261117T213000
DTSTAMP:20260424T171806
CREATED:20250129T160828Z
LAST-MODIFIED:20250210T181915Z
UID:10004650-1794943800-1794951000@www.astrologenverband.de
SUMMARY:Einjährige Online-Grundausbildung Astrologie (29)
DESCRIPTION:In 31 Abend-Webinaren (jeweils dienstags 19:30 – 21:30 Uhr) bis Dezember erhalten Sie durch die Astrologin Petra Dörfert eine umfassende Einführung in die Horoskopdeutung. Alle Termine finden live statt\, so dass viel Zeit für Fragen und gemeinsames Üben bleibt. Unterrichtsbegleitende Materialien runden den Kurs ab. \nAlle Informationen zur Ausbildung finden Sie hier. \nFür die Anmeldung nehmen Sie bitte per E-Mail oder telefonisch Kontakt mit mir auf (siehe unten)\, dann sende ich Ihnen das Anmeldeformular zu. \nDer Grundkurs ist Teil der 3-4-jährigen Online-Ausbildung Astrologie mit den Aufbaukursen Prognose\, Partnerschaftsastrologie\, Beratertraining und DAV-Prüfungsvorbereitung (jedes Modul ist einzeln buchbar). Mehr dazu finden Sie auf der Homepage der Online Akademie Astrologie Petra Dörfert. \nDie nächste Grundausbildung startet im kommenden Januar!
URL:https://www.astrologenverband.de/terminkalender/einjaehrige-online-grundausbildung-astrologie-29/
LOCATION:Online\, Deutschland
CATEGORIES:DAV Ausbildungszentrum,Seminar Online
ORGANIZER;CN="Online%20Akademie%20Astrologie%20Petra%20D%C3%B6rfert%20%2F%20DAV%20Ausbildungszentrum":MAILTO:info@online-akademie-astrologie.com
END:VEVENT
BEGIN:VEVENT
DTSTART;TZID=Europe/Berlin:20261118T181500
DTEND;TZID=Europe/Berlin:20261118T201500
DTSTAMP:20260424T171806
CREATED:20260409T105504Z
LAST-MODIFIED:20260409T105934Z
UID:10006110-1795025700-1795032900@www.astrologenverband.de
SUMMARY:Online-Seminar: Praxis der Stundenastrologie
DESCRIPTION:Horoskope können nicht nur für Menschen gedeutet werden\, sondern ebenso für Ereignisse und für besondere Fragen. Zum Beispiel für Begegnungen\, Vertragsunterschriften oder Wohnungsbesichtigungen. \nDas Fundament einer neuen Situation und alles\, was darauf aufbaut\, zeigt sich am besten im Ereignishoroskop. Steht eine Entscheidung noch bevor\, hat es sich hingegen bewährt\, das Horoskop für den Moment der Fragestellung zu deuten. Dies zeigt dann\, was hinter der Frage steht und wie sich die Situation entwickeln wird. \n\nDarüber hinaus ermöglicht die Stundenastrologie Einblicke in größeres gesellschaftliches Geschehen. Hier sind Horoskope von Wahlen und von Staatengründungen besonders interessant. Aber auch aktuelle Konstellationen sowie die Zeichenwechsel wichtiger Planeten sollten beachtet werden\, wenn wir wissen möchten\, welche Themen anstehen. \nEin weiterer Bereich der Stundenastrologie ist dann noch die Terminplanung\, zum Beispiel für eine Geschäftseröffnung oder eine bevorstehende Operation. Hier gibt es stichhaltige Erfahrungswerte\, die wir unbedingt berücksichtigen sollten. \nIm Verlauf des Kurses werden wir mit vielen Beispielhoroskopen üben\, auch zu aktuellen Anlässen. Für die Deutung kommen wichtige Regeln der klassischen Astrologie zur Anwendung. Hier prüfen wir\, welche alten Regeln in der heutigen Realität bestehen können und welche neu beleuchtet werden müssen. Außerdem werden wir Elemente aus der Münchner Rhythmenlehre verwenden. Denn die wirken in Stundenhoroskopen ähnlich wie in Geburtshoroskopen. So können wir zusätzlich von den Stundenhoroskopen lernen\, persönliche Konstellationen bildhafter zu verstehen. \n\n\n\nTHEMEN \n\nGrundlagen der Stundenastrologie\nDeutung und Sinn von Ereignishoroskopen\nDeutung von Fragehoroskopen\nSiebener-Rhythmus und Prognosemethoden im Stundenhoroskop\nAstrologische Terminplanung\nHoroskope für Heilbehandlungen und OPs\nHoroskope für politische Ereignisse\nMundankonstellationen\nSinnvolle neue und alte Methoden der Deutung\n\n\nBeginn: Mi. 13.5.2026 \nZeit: 18.15 – 20.15 Uhr \nDauer: 12 Abende\, mittwochs \nKursgebühr: 420 Euro \n\nOrt: Online-Seminar der Astrologie-Schule Bremen \nVoranmeldung
URL:https://www.astrologenverband.de/terminkalender/online-seminar-praxis-der-stundenastrologie/2026-11-18/
LOCATION:Online\, Astrologie-Schule Bremen\, Deutschland
CATEGORIES:DAV Regionalstelle,Fernstudium,Seminar Online
END:VEVENT
BEGIN:VEVENT
DTSTART;TZID=Europe/Berlin:20261118T190000
DTEND;TZID=Europe/Berlin:20261118T210000
DTSTAMP:20260424T171806
CREATED:20260126T174640Z
LAST-MODIFIED:20260126T174640Z
UID:10005933-1795028400-1795035600@www.astrologenverband.de
SUMMARY:Online Intensivausbildung Astrologie (12)
DESCRIPTION:Auf Wunsch von vielen Astroschüler*innen der Astrologos-Ausbildungen gibt es ab März 2026 erstmals eine Intensivausbildung Astrologie als Online-Angebot. Sie wendet sich an Teilnehmer mit guten Grundkenntnissen\, die ihr gelerntes Wissen für die astrologische Beratungsarbeit nutzen möchten – und gleichzeitig nach einer attraktiven Synthese von traditioneller und moderner psychologischer Astrologie suchen. \nIm Verlauf von 12 Abenden und einem Tagesseminar vor Ort werden einzelne Bereiche der astrologischen Deutung vertieft und es geht um Methoden\, die Schlüsselthemen eines Horoskops und den roten Faden bei der Deutung sichtbar zu machen. \nDas Beste aus beiden Welten – zum Wohle der Ratsuchenden! \nThemen sind u.a. die Basics der traditionellen Astrologie\, Grundlagen der Elektionsastrologie\, Strukturdeutungm Combinhoroskope\, Astrokartografie und Astromedizin. \nDie Abende finden über die Online-Plattform Zoom statt. Den Teilnehmenden wir die Möglichkeit geboten\, zu jedem Abend ein Video zu bekommen. Mit ausführlichen Skripten zu jedem Thema können Sie so verpasste Inhalte nacharbeiten. \nAusführliche Informationen zur Ausbildung zu diesem Weiterbildungsangebot finden Sie auf der Astrologos-Website. \nFür weitere Informationen und die Anmeldung nehmen Sie bitte per E-Mail oder telefonisch Kontakt mit mir auf. \nDie E-Mail-Adresse ist: kontakt@astrologos.de\, die Telefonnummer: 0234-683723.
URL:https://www.astrologenverband.de/terminkalender/online-intensivausbildung-astrologie-12/
LOCATION:DAV-Zentrum Bochum-Ruhrgebiet\, Deutschland
CATEGORIES:DAV Ausbildungszentrum,Seminar Online
ORGANIZER;CN="DAV-Astrologiezentrum%20Ruhrgebiet":MAILTO:kontakt@astrologos.de
END:VEVENT
BEGIN:VEVENT
DTSTART;TZID=Europe/Berlin:20261119T183000
DTEND;TZID=Europe/Berlin:20261119T200000
DTSTAMP:20260424T171806
CREATED:20260310T150819Z
LAST-MODIFIED:20260310T150819Z
UID:10006057-1795113000-1795118400@www.astrologenverband.de
SUMMARY:Online-Workshop: Astrologie und Sexualität - wenn Intimität verletzlich macht
DESCRIPTION:Online-Workshop Do. 19.11.2026\, 18:30 – 20:00 Uhr mit Manuela Reher \nSexualität zeigt\, wie wir Nähe\, Vertrauen und Hingabe in Beziehungen erleben. In der Astrologie spiegeln vor allem Mars\, Venus\, Pluto\, Lilith und das achte Haus\, wie wir begehren\, lieben und mit Intimität umgehen. \nIn diesem Workshop erforschst du\, wie sich Leidenschaft\, Sehnsucht\, Zurückhaltung und Macht- oder Bindungsmuster im Horoskop zeigen. Dabei geht es nicht um Bewertung\, sondern um Bewusstwerdung: Tabus\, Ängste und Verletzlichkeit werden als Hinweise auf tiefere Bedürfnisse und Entwicklungsmöglichkeiten verstanden. \nDer Workshop verbindet astrologisches Wissen mit persönlicher Reflexion und eröffnet neue Perspektiven auf Beziehung\, Intimität und bewusst gelebte Sexualität.  ✨ \n \n  \nManuela Reher ist eine bekannte\, freiberufliche Astrologin. Sie unterstützt die Astropraxis seit fast 20 Jahren mit ihrer hervorragenden fachlichen und pädagogischen Expertise. Als Tutorin und Praktikumsleiterin spielt sie eine Schlüsselrolle im Erfolg des Teams. Mehr zu Manuela Reher. \n  \n  \n  \nMehr Infos zu diesem Workshop und anderen astrologischen Workshops und Vorträgen findet ihr hier: \nhttps://astrologie-ausbildung.eu/online-workshops/wenn-intimitaet-verletzlich-macht-astrologie-und-sexualitaet \n  \n  \n 
URL:https://www.astrologenverband.de/terminkalender/online-workshop-astrologie-und-sexualitaet-wenn-intimitaet-verletzlich-macht/
LOCATION:Online-Zoom-Veranstaltung\, Astropraxis Helen Fritsch\, Deutschland
CATEGORIES:DAV Ausbildungszentrum,Vortrag Online
END:VEVENT
BEGIN:VEVENT
DTSTART;TZID=Europe/Berlin:20261121T140000
DTEND;TZID=Europe/Berlin:20261122T150000
DTSTAMP:20260424T171806
CREATED:20251107T164725Z
LAST-MODIFIED:20251107T164725Z
UID:10005730-1795269600-1795359600@www.astrologenverband.de
SUMMARY:Online-Aufbaukurs Beratertraining (2. WE)
DESCRIPTION:4 Wochenenden plus eine Einzelsupervision mit Petra Dörfert\, jeweils samstags 14.00 – 18.00 Uhr und sonntags 11:00 – 15:00 Uhr \nDer Aufbaukurs beleuchtet alle Aspekte rund um das Thema Beraten – mit vielen Praxisbeispielen und konkreten Tipps für den Einstieg in die eigene Beratertätigkeit. \nDie im Kurs enthaltene Supervision kann bei der DAV-Prüfung als Nachweis vorgelegt werden. \nSämtliche Infos zum Beratertraining finden Sie hier. \nFür die Anmeldung nehmen Sie bitte per E-Mail oder telefonisch Kontakt mit mir auf (siehe unten)\, dann sende ich Ihnen das Anmeldeformular. \nDas Beratertraining bildet den Abschluss der 3-4-jährigen Online-Ausbildung Astrologie mit dem einjährigen Grundkurs und den weiteren Aufbaukursen Prognose\, Partnerschaftsastrologie und DAV-Prüfungsvorbereitung (jedes Modul ist einzeln buchbar). Mehr dazu finden Sie auf der Homepage der Online Akademie Astrologie Petra Dörfert.
URL:https://www.astrologenverband.de/terminkalender/online-aufbaukurs-beratertraining-2-we/
LOCATION:Online\, Deutschland
CATEGORIES:DAV Ausbildungszentrum,Seminar Online
ORGANIZER;CN="Online%20Akademie%20Astrologie%20Petra%20D%C3%B6rfert%20%2F%20DAV%20Ausbildungszentrum":MAILTO:info@online-akademie-astrologie.com
END:VEVENT
END:VCALENDAR