BEGIN:VCALENDAR
VERSION:2.0
PRODID:-//Astrologie | Deutscher Astrologenverband e.V. - ECPv6.1.0//NONSGML v1.0//EN
CALSCALE:GREGORIAN
METHOD:PUBLISH
X-ORIGINAL-URL:https://www.astrologenverband.de
X-WR-CALDESC:Veranstaltungen für Astrologie | Deutscher Astrologenverband e.V.
REFRESH-INTERVAL;VALUE=DURATION:PT1H
X-Robots-Tag:noindex
X-PUBLISHED-TTL:PT1H
BEGIN:VTIMEZONE
TZID:Europe/Berlin
BEGIN:DAYLIGHT
TZOFFSETFROM:+0100
TZOFFSETTO:+0200
TZNAME:CEST
DTSTART:20260329T010000
END:DAYLIGHT
BEGIN:STANDARD
TZOFFSETFROM:+0200
TZOFFSETTO:+0100
TZNAME:CET
DTSTART:20261025T010000
END:STANDARD
END:VTIMEZONE
BEGIN:VEVENT
DTSTART;TZID=Europe/Berlin:20261109T190000
DTEND;TZID=Europe/Berlin:20261109T210000
DTSTAMP:20260424T173019
CREATED:20250115T103340Z
LAST-MODIFIED:20250414T163511Z
UID:10005051-1794250800-1794258000@www.astrologenverband.de
SUMMARY:Astrologie Café
DESCRIPTION:Offene Abende für Astrologie Begeisterte!\nBring dein Horoskop oder deine Daten (Geburtsort & Zeit) und deine Fragen.\nDie Abende sind deinen Fragen gewidmet.\nAsk us anythink!\nGemeinsam in der Gruppe\, und wundervoller Umgebung\, schauen wir dann\, wo sich die Antworten in deinem Geburtsbild finden lassen.\nJede*r ist willkommen\, die einzigen Vorausetzungen sind deine Neugier & Freude an den Sternen!\nWir freuen uns auf Dich!
URL:https://www.astrologenverband.de/terminkalender/astrologie-cafe-2/2026-11-09/
LOCATION:Zukunft25\, Rotes Haus\, Kallmünz\, Vilsgasse 25\, Kallmünz\, Bayern\, 93183\, Deutschland
ORGANIZER;CN="Astrologische%20Psychologie%20lernen":MAILTO:info@ap-lernen.de
END:VEVENT
BEGIN:VEVENT
DTSTART;TZID=Europe/Berlin:20261110T190000
DTEND;TZID=Europe/Berlin:20261110T210000
DTSTAMP:20260424T173019
CREATED:20260410T144057Z
LAST-MODIFIED:20260410T144057Z
UID:10006356-1794337200-1794344400@www.astrologenverband.de
SUMMARY:Einführung und Grundlagen Astromedizin 13
DESCRIPTION:Diese Seminarreihe über 15 Veranstaltungen richtet sich an alle InteressentenInnen der Astromedizin.\nAufgrund entsprechender Nachfrage beginnt am 2. Juni2026 eine weitere Einführung.\nDiese Einführung eignet sich zur Orientierung und zur Vorbereitung auf die Teilnahme\nan der Fachausbildung Astromedizin. \nInhalte:\nHistorischer Hintergrund Astromedizin\nDefinition von Krankheit\nPlanetendispositionen\nZuordnung von Tierkreiszeichen und Planeten zu Organen\nKrankheitsdispositionen im Horoskop\nPhysische und psychische Disposition der Tierkreiszeichen\nPlanetenhierarchie\nBedeutung der Häuser\nTherapeutischer Nutzen der Astromedizin\nEthik \nGrundlagen Astromedizin\nVertiefung folgender Krankheitsdispositionen\nSaturn – Hüter der Schwelle\, Ablagerungs-und Abnutzungsneigungen\, Funktionsschwächen\nChiron – Indikator für den Weg von der Verletzung zur Heilung\nMondknotenachse in der Astromedizin – Erbinformationen\, schicksalhafte Dispositionen \nVeranstaltungen online\nLive mit Interaktion\nVideoaufnahmen stehen zur Verfügung\nSkripte und Präsentationen werden vor der Veranstaltung zugesandt\nAnonymisierte Fallbeispiele werden einbezogen \n15 Abendveranstaltungen à 2 Stunden 600 €\nzahlbar über 6 Monate à 100 € ab Juni 2026\nFür Wiederholer Sondervereinbarungen \nTermine:\n2. Juni\, 16. Juni\, 30. Juni\, 14. Juli\, 28. Juli\, 11. August\, 25. August\, 8. September\,\n22. September\, 6. Oktober\, 20. Oktober\, 27. Oktober\, 10. November\, 24. November\, 8. Dezember 2026. \nSollte ein Termin aus einem wichtigen Grund ausfallen\, wird ein Ersatztermin angeboten. \nUmfassende Informationen und Ausbildungsplan: Infoabend Astromedizin \nInteressierte melden sich bitte per Mail an: hp.heidetrautmann@astromedizin.info
URL:https://www.astrologenverband.de/terminkalender/einfuehrung-und-grundlagen-astromedizin-13/
LOCATION:Online-Akademie Heide Trautmann\, Schillerstraße\, Blieskastel\, 66440\, Deutschland
CATEGORIES:Seminar Online
ORGANIZER;CN="Heide%20Trautmann%2C%20Heilpraktikerin%20und%20Astromedizinerin":MAILTO:hp.heidetrautmann@astromedizin.info
END:VEVENT
BEGIN:VEVENT
DTSTART;TZID=Europe/Berlin:20261110T193000
DTEND;TZID=Europe/Berlin:20261110T213000
DTSTAMP:20260424T173019
CREATED:20250129T160755Z
LAST-MODIFIED:20250210T181831Z
UID:10004649-1794339000-1794346200@www.astrologenverband.de
SUMMARY:Einjährige Online-Grundausbildung Astrologie (28)
DESCRIPTION:In 31 Abend-Webinaren (jeweils dienstags 19:30 – 21:30 Uhr) bis Dezember erhalten Sie durch die Astrologin Petra Dörfert eine umfassende Einführung in die Horoskopdeutung. Alle Termine finden live statt\, so dass viel Zeit für Fragen und gemeinsames Üben bleibt. Unterrichtsbegleitende Materialien runden den Kurs ab. \nAlle Informationen zur Ausbildung finden Sie hier. \nFür die Anmeldung nehmen Sie bitte per E-Mail oder telefonisch Kontakt mit mir auf (siehe unten)\, dann sende ich Ihnen das Anmeldeformular zu. \nDer Grundkurs ist Teil der 3-4-jährigen Online-Ausbildung Astrologie mit den Aufbaukursen Prognose\, Partnerschaftsastrologie\, Beratertraining und DAV-Prüfungsvorbereitung (jedes Modul ist einzeln buchbar). Mehr dazu finden Sie auf der Homepage der Online Akademie Astrologie Petra Dörfert. \nDie nächste Grundausbildung startet im kommenden Januar!
URL:https://www.astrologenverband.de/terminkalender/einjaehrige-online-grundausbildung-astrologie-28/
LOCATION:Online\, Deutschland
CATEGORIES:DAV Ausbildungszentrum,Seminar Online
ORGANIZER;CN="Online%20Akademie%20Astrologie%20Petra%20D%C3%B6rfert%20%2F%20DAV%20Ausbildungszentrum":MAILTO:info@online-akademie-astrologie.com
END:VEVENT
BEGIN:VEVENT
DTSTART;TZID=Europe/Berlin:20261111T181500
DTEND;TZID=Europe/Berlin:20261111T201500
DTSTAMP:20260424T173019
CREATED:20260409T105504Z
LAST-MODIFIED:20260409T105934Z
UID:10006109-1794420900-1794428100@www.astrologenverband.de
SUMMARY:Online-Seminar: Praxis der Stundenastrologie
DESCRIPTION:Horoskope können nicht nur für Menschen gedeutet werden\, sondern ebenso für Ereignisse und für besondere Fragen. Zum Beispiel für Begegnungen\, Vertragsunterschriften oder Wohnungsbesichtigungen. \nDas Fundament einer neuen Situation und alles\, was darauf aufbaut\, zeigt sich am besten im Ereignishoroskop. Steht eine Entscheidung noch bevor\, hat es sich hingegen bewährt\, das Horoskop für den Moment der Fragestellung zu deuten. Dies zeigt dann\, was hinter der Frage steht und wie sich die Situation entwickeln wird. \n\nDarüber hinaus ermöglicht die Stundenastrologie Einblicke in größeres gesellschaftliches Geschehen. Hier sind Horoskope von Wahlen und von Staatengründungen besonders interessant. Aber auch aktuelle Konstellationen sowie die Zeichenwechsel wichtiger Planeten sollten beachtet werden\, wenn wir wissen möchten\, welche Themen anstehen. \nEin weiterer Bereich der Stundenastrologie ist dann noch die Terminplanung\, zum Beispiel für eine Geschäftseröffnung oder eine bevorstehende Operation. Hier gibt es stichhaltige Erfahrungswerte\, die wir unbedingt berücksichtigen sollten. \nIm Verlauf des Kurses werden wir mit vielen Beispielhoroskopen üben\, auch zu aktuellen Anlässen. Für die Deutung kommen wichtige Regeln der klassischen Astrologie zur Anwendung. Hier prüfen wir\, welche alten Regeln in der heutigen Realität bestehen können und welche neu beleuchtet werden müssen. Außerdem werden wir Elemente aus der Münchner Rhythmenlehre verwenden. Denn die wirken in Stundenhoroskopen ähnlich wie in Geburtshoroskopen. So können wir zusätzlich von den Stundenhoroskopen lernen\, persönliche Konstellationen bildhafter zu verstehen. \n\n\n\nTHEMEN \n\nGrundlagen der Stundenastrologie\nDeutung und Sinn von Ereignishoroskopen\nDeutung von Fragehoroskopen\nSiebener-Rhythmus und Prognosemethoden im Stundenhoroskop\nAstrologische Terminplanung\nHoroskope für Heilbehandlungen und OPs\nHoroskope für politische Ereignisse\nMundankonstellationen\nSinnvolle neue und alte Methoden der Deutung\n\n\nBeginn: Mi. 13.5.2026 \nZeit: 18.15 – 20.15 Uhr \nDauer: 12 Abende\, mittwochs \nKursgebühr: 420 Euro \n\nOrt: Online-Seminar der Astrologie-Schule Bremen \nVoranmeldung
URL:https://www.astrologenverband.de/terminkalender/online-seminar-praxis-der-stundenastrologie/2026-11-11/
LOCATION:Online\, Astrologie-Schule Bremen\, Deutschland
CATEGORIES:DAV Regionalstelle,Fernstudium,Seminar Online
END:VEVENT
BEGIN:VEVENT
DTSTART;TZID=Europe/Berlin:20261111T193000
DTEND;TZID=Europe/Berlin:20261111T213000
DTSTAMP:20260424T173019
CREATED:20251107T203749Z
LAST-MODIFIED:20251107T203749Z
UID:10005768-1794425400-1794432600@www.astrologenverband.de
SUMMARY:Online-Ausbildung Astromedizin (6)
DESCRIPTION:In 21 Abenden (jeweils mittwochs von 19:30 – 21:30 Uhr) erhalten Sie durch die Astrologin Petra Dörfert eine umfassende Einführung in die Astromedizin. Neben den Grundlagen (Zuordnung von Organen und Krankheiten zu den Tierkreiszeichen\, Häusern und Planeten) beschäftigen wir uns mit zahlreichen körperlichen und psychischen Erkrankungen\, der Frage der Prävention\, der Kinderwunschberatung sowie der Berechnung von OP-Terminen. \nSämtliche Informationen zur Ausbildung finden Sie hier. \nFür die Anmeldung nehmen Sie bitte per E-Mail oder telefonisch Kontakt mit mir auf (siehe unten)\, dann sende ich Ihnen das Anmeldeformular zu. \nDer nächste Astromedizin-Zyklus startet im kommenden September!
URL:https://www.astrologenverband.de/terminkalender/online-ausbildung-astromedizin-6-3/
LOCATION:Online\, Deutschland
CATEGORIES:DAV Ausbildungszentrum,Seminar Online
ORGANIZER;CN="Online%20Akademie%20Astrologie%20Petra%20D%C3%B6rfert%20%2F%20DAV%20Ausbildungszentrum":MAILTO:info@online-akademie-astrologie.com
END:VEVENT
END:VCALENDAR