BEGIN:VCALENDAR
VERSION:2.0
PRODID:-//Astrologie | Deutscher Astrologenverband e.V. - ECPv6.1.0//NONSGML v1.0//EN
CALSCALE:GREGORIAN
METHOD:PUBLISH
X-ORIGINAL-URL:https://www.astrologenverband.de
X-WR-CALDESC:Veranstaltungen für Astrologie | Deutscher Astrologenverband e.V.
REFRESH-INTERVAL;VALUE=DURATION:PT1H
X-Robots-Tag:noindex
X-PUBLISHED-TTL:PT1H
BEGIN:VTIMEZONE
TZID:Europe/Berlin
BEGIN:DAYLIGHT
TZOFFSETFROM:+0100
TZOFFSETTO:+0200
TZNAME:CEST
DTSTART:20260329T010000
END:DAYLIGHT
BEGIN:STANDARD
TZOFFSETFROM:+0200
TZOFFSETTO:+0100
TZNAME:CET
DTSTART:20261025T010000
END:STANDARD
END:VTIMEZONE
BEGIN:VEVENT
DTSTART;VALUE=DATE:20261002
DTEND;VALUE=DATE:20261006
DTSTAMP:20260424T154230
CREATED:20230318T101448Z
LAST-MODIFIED:20251127T094815Z
UID:10000679-1790928000-1791187199@www.astrologenverband.de
SUMMARY:DAV Kongress 02. bis 04.10.2026
DESCRIPTION:Wir sind Astrologie – Die Vielfalt als verbindende Kraft. \nUnter diesem Motto laden wir Sie herzlich zum nächsten DAV Kongress in Bad Kissingen ein. Mit dabei sind die bekannten Astrologinnen und Astrologen Mona Riegger\, Dr. Bernhard Firgau\, Ingrid Zinnel und Ute Flörchinger. Wir freuen uns sehr! \nNicht nur DAV-Mitglieder\, sondern viele Astrologie-Interessierte kommen jedes Jahr zusammen\, um prominenten internationalen und nationalen Referenten zuzuhören\, ihr astrologisches Wissen auszuweiten und sich mit anderen Kolleginnen und Kollegen auszutauschen. Ein tolles Programm wartet auf Sie. \nUnd… nutzen Sie als DAV Mitglied den deutlich günstigeren Ticketpreis!
URL:https://www.astrologenverband.de/terminkalender/dav-kongress-20-bis-22-09-2024/
LOCATION:Hotel Sonnenhügel Bad Kissingen\, Burgstr. 15\, Bad Kissingen\, 97688\, Deutschland
CATEGORIES:Seminar Präsenz,Vortrag Präsenz
ORGANIZER;CN="DAV":MAILTO:dav@astrologenverband.de
END:VEVENT
BEGIN:VEVENT
DTSTART;TZID=Europe/Berlin:20261005T190000
DTEND;TZID=Europe/Berlin:20261005T210000
DTSTAMP:20260424T154230
CREATED:20250414T163908Z
LAST-MODIFIED:20250414T163908Z
UID:10005236-1791226800-1791234000@www.astrologenverband.de
SUMMARY:Astrologie Café ONLINE
DESCRIPTION:Offene Abende für Astrologie Begeisterte!\nBring dein Horoskop oder deine Daten (Geburtsort & Zeit) und deine Fragen.\nDie Abende sind deinen Fragen gewidmet.\nAsk us anythink!\nGemeinsam in der Gruppe schauen wir dann\, wo sich die Antworten in deinem Geburtsbild finden lassen.\nJede*r ist willkommen\, die einzigen Vorausetzungen sind deine Neugier & Freude an den Sternen!\nWir freuen uns auf Dich! \n  \n  \nZoom-Link zur Veranstaltung: \nhttps://us06web.zoom.us/j/84779092924?pwd=Vzegx7TtlGr1ZDmcFeyZIJ8GcXGyGH.1 \nMeeting-ID: 847 7909 2924\nKenncode: 535610
URL:https://www.astrologenverband.de/terminkalender/astrologie-cafe-online/2026-10-05/
LOCATION:ONLINE  ZOOM
ORGANIZER;CN="Astrologische%20Psychologie%20lernen":MAILTO:info@ap-lernen.de
END:VEVENT
BEGIN:VEVENT
DTSTART;TZID=Europe/Berlin:20261005T193000
DTEND;TZID=Europe/Berlin:20261005T213000
DTSTAMP:20260424T154230
CREATED:20250129T152153Z
LAST-MODIFIED:20250210T165603Z
UID:10004617-1791228600-1791235800@www.astrologenverband.de
SUMMARY:Online-Aufbaukurs Partnerschaftsastrologie (11)
DESCRIPTION:in 15 Abend-Webinaren (jeweils montags 19:30 Uhr – 21:30 Uhr) erhalten sie durch die Astrologin Petra Dörfert eine umfassende Einführung in das Thema Partnerschaftsastrologie. Kursinhalte sind neben den Methoden Synastrie\, Composit und Combin die gründliche Analyse der Radix auf Partnerschaftsthemen hin sowie die Frage\, wie man typische Partnerschaftsprobleme erkennt und löst. \nSämtliche Informationen zur Ausbildung finden Sie hier. \nFür die Anmeldung nehmen Sie bitte per E-Mail oder telefonisch Kontakt mit mir auf (siehe unten)\, dann sende ich Ihnen das Anmeldeformular zu. \nDer Aufbaukurs Partnerschaftsastrologie richtet sich an Fortgeschrittene und ist Teil der 3-4-jährigen Online-Ausbildung Astrologie mit dem einjährigen Grundkurs und den weiteren Aufbaukursen Prognose\, Beratertraining und DAV-Prüfungsvorbereitung (jedes Modul ist einzeln buchbar). Mehr dazu finden Sie auf der Homepage der Online Akademie Astrologie Petra Dörfert.
URL:https://www.astrologenverband.de/terminkalender/online-aufbaukurs-partnerschaftsastrologie-11/
LOCATION:Online\, Deutschland
CATEGORIES:DAV Ausbildungszentrum,Seminar Online
ORGANIZER;CN="Online%20Akademie%20Astrologie%20Petra%20D%C3%B6rfert%20%2F%20DAV%20Ausbildungszentrum":MAILTO:info@online-akademie-astrologie.com
END:VEVENT
BEGIN:VEVENT
DTSTART;TZID=Europe/Berlin:20261006T190000
DTEND;TZID=Europe/Berlin:20261006T210000
DTSTAMP:20260424T154230
CREATED:20250726T165602Z
LAST-MODIFIED:20250726T170355Z
UID:10005469-1791313200-1791320400@www.astrologenverband.de
SUMMARY:Online-Grundausbildung Astrologie 2026 (26)
DESCRIPTION:Die beliebte Astrologos-Grundausbildung wird ab 13. Januar 2026 erneut angeboten. Im Verlauf von 30 Abenden und einem Tagesseminar vor Ort werden die Deutungsansätze der wichtigen Astrologie-Schulen systemübergreifend vermittelt. Psychologische Theorien und Konzepte ergänzen die Inhalte\, so dass Sie die astrologischen Symbole sinnvoll in ihrer Arbeit einsetzen können. \nIm Verlauf von zwei Grundstufen lernen Sie\, Horoskope zu deuten und entdecken schrittweise das uralte Wissen der Astrologie. Gleichzeitig lernen Sie ihr persönliches Horoskop kennen und entdecken so einem Weg der Selbstentwicklung und Selbstentfaltung. \nIm Anschluss an jeden Abend erhalten Sie das Video und zu jedem Thema ein ausführliches Skript\, so dass Sie verpasste Termine nacharbeiten können. \nEin kostenloser Infoabend zu dieser Astrologie-Ausbildung findet am 12. November 2025 statt. \nAusführliche Informationen zur Ausbildung finden Sie auf der Astrologos-Website. Für weitere Informationen und die Anmeldung nehmen Sie bitte per E-Mail oder telefonisch Kontakt mit mir auf. \nDie E-Mail-Adresse ist: kontakt@astrologos.de\, die Telefonnummer: 0234-683723.
URL:https://www.astrologenverband.de/terminkalender/online-grundausbildung-astrologie-2026-26/
LOCATION:DAV-Zentrum Bochum-Ruhrgebiet\, Deutschland
CATEGORIES:Seminar Präsenz
ORGANIZER;CN="DAV-Astrologiezentrum%20Ruhrgebiet":MAILTO:kontakt@astrologos.de
END:VEVENT
BEGIN:VEVENT
DTSTART;TZID=Europe/Berlin:20261006T190000
DTEND;TZID=Europe/Berlin:20261006T210000
DTSTAMP:20260424T154230
CREATED:20260410T143704Z
LAST-MODIFIED:20260410T152226Z
UID:10006353-1791313200-1791320400@www.astrologenverband.de
SUMMARY:Einführung und Grundlagen Astromedizin 10
DESCRIPTION:Diese Seminarreihe über 15 Veranstaltungen richtet sich an alle InteressentenInnen der Astromedizin.\nAufgrund entsprechender Nachfrage beginnt am 2. Juni2026 eine weitere Einführung.\nDiese Einführung eignet sich zur Orientierung und zur Vorbereitung auf die Teilnahme\nan der Fachausbildung Astromedizin. \nInhalte:\nHistorischer Hintergrund Astromedizin\nDefinition von Krankheit\nPlanetendispositionen\nZuordnung von Tierkreiszeichen und Planeten zu Organen\nKrankheitsdispositionen im Horoskop\nPhysische und psychische Disposition der Tierkreiszeichen\nPlanetenhierarchie\nBedeutung der Häuser\nTherapeutischer Nutzen der Astromedizin\nEthik \nGrundlagen Astromedizin\nVertiefung folgender Krankheitsdispositionen\nSaturn – Hüter der Schwelle\, Ablagerungs-und Abnutzungsneigungen\, Funktionsschwächen\nChiron – Indikator für den Weg von der Verletzung zur Heilung\nMondknotenachse in der Astromedizin – Erbinformationen\, schicksalhafte Dispositionen \nVeranstaltungen online\nLive mit Interaktion\nVideoaufnahmen stehen zur Verfügung\nSkripte und Präsentationen werden vor der Veranstaltung zugesandt\nAnonymisierte Fallbeispiele werden einbezogen \n15 Abendveranstaltungen à 2 Stunden 600 €\nzahlbar über 6 Monate à 100 € ab Juni 2026\nFür Wiederholer Sondervereinbarungen \nTermine:\n2. Juni\, 16. Juni\, 30. Juni\, 14. Juli\, 28. Juli\, 11. August\, 25. August\, 8. September\,\n22. September\, 6. Oktober\, 20. Oktober\, 27. Oktober\, 10. November\, 24. November\, 8. Dezember 2026. \nSollte ein Termin aus einem wichtigen Grund ausfallen\, wird ein Ersatztermin angeboten. \nUmfassende Informationen und Ausbildungsplan: Infoabend Astromedizin \nInteressierte melden sich bitte per Mail an: hp.heidetrautmann@astromedizin.info
URL:https://www.astrologenverband.de/terminkalender/einfuehrung-und-grundlagen-astromedizin-10/
LOCATION:Online-Akademie Heide Trautmann\, Schillerstraße\, Blieskastel\, 66440\, Deutschland
CATEGORIES:Seminar Online
ORGANIZER;CN="Heide%20Trautmann%2C%20Heilpraktikerin%20und%20Astromedizinerin":MAILTO:hp.heidetrautmann@astromedizin.info
END:VEVENT
BEGIN:VEVENT
DTSTART;TZID=Europe/Berlin:20261006T193000
DTEND;TZID=Europe/Berlin:20261006T213000
DTSTAMP:20260424T154230
CREATED:20250129T160624Z
LAST-MODIFIED:20250210T181658Z
UID:10004646-1791315000-1791322200@www.astrologenverband.de
SUMMARY:Einjährige Online-Grundausbildung Astrologie (25)
DESCRIPTION:In 31 Abend-Webinaren (jeweils dienstags 19:30 – 21:30 Uhr) bis Dezember erhalten Sie durch die Astrologin Petra Dörfert eine umfassende Einführung in die Horoskopdeutung. Alle Termine finden live statt\, so dass viel Zeit für Fragen und gemeinsames Üben bleibt. Unterrichtsbegleitende Materialien runden den Kurs ab. \nAlle Informationen zur Ausbildung finden Sie hier. \nFür die Anmeldung nehmen Sie bitte per E-Mail oder telefonisch Kontakt mit mir auf (siehe unten)\, dann sende ich Ihnen das Anmeldeformular zu. \nDer Grundkurs ist Teil der 3-4-jährigen Online-Ausbildung Astrologie mit den Aufbaukursen Prognose\, Partnerschaftsastrologie\, Beratertraining und DAV-Prüfungsvorbereitung (jedes Modul ist einzeln buchbar). Mehr dazu finden Sie auf der Homepage der Online Akademie Astrologie Petra Dörfert. \nDie nächste Grundausbildung startet im kommenden Januar!
URL:https://www.astrologenverband.de/terminkalender/einjaehrige-online-grundausbildung-astrologie-25/
LOCATION:Online\, Deutschland
CATEGORIES:DAV Ausbildungszentrum,Seminar Online
ORGANIZER;CN="Online%20Akademie%20Astrologie%20Petra%20D%C3%B6rfert%20%2F%20DAV%20Ausbildungszentrum":MAILTO:info@online-akademie-astrologie.com
END:VEVENT
BEGIN:VEVENT
DTSTART;TZID=Europe/Berlin:20261007T181500
DTEND;TZID=Europe/Berlin:20261007T201500
DTSTAMP:20260424T154230
CREATED:20260409T105504Z
LAST-MODIFIED:20260409T105934Z
UID:10006104-1791396900-1791404100@www.astrologenverband.de
SUMMARY:Online-Seminar: Praxis der Stundenastrologie
DESCRIPTION:Horoskope können nicht nur für Menschen gedeutet werden\, sondern ebenso für Ereignisse und für besondere Fragen. Zum Beispiel für Begegnungen\, Vertragsunterschriften oder Wohnungsbesichtigungen. \nDas Fundament einer neuen Situation und alles\, was darauf aufbaut\, zeigt sich am besten im Ereignishoroskop. Steht eine Entscheidung noch bevor\, hat es sich hingegen bewährt\, das Horoskop für den Moment der Fragestellung zu deuten. Dies zeigt dann\, was hinter der Frage steht und wie sich die Situation entwickeln wird. \n\nDarüber hinaus ermöglicht die Stundenastrologie Einblicke in größeres gesellschaftliches Geschehen. Hier sind Horoskope von Wahlen und von Staatengründungen besonders interessant. Aber auch aktuelle Konstellationen sowie die Zeichenwechsel wichtiger Planeten sollten beachtet werden\, wenn wir wissen möchten\, welche Themen anstehen. \nEin weiterer Bereich der Stundenastrologie ist dann noch die Terminplanung\, zum Beispiel für eine Geschäftseröffnung oder eine bevorstehende Operation. Hier gibt es stichhaltige Erfahrungswerte\, die wir unbedingt berücksichtigen sollten. \nIm Verlauf des Kurses werden wir mit vielen Beispielhoroskopen üben\, auch zu aktuellen Anlässen. Für die Deutung kommen wichtige Regeln der klassischen Astrologie zur Anwendung. Hier prüfen wir\, welche alten Regeln in der heutigen Realität bestehen können und welche neu beleuchtet werden müssen. Außerdem werden wir Elemente aus der Münchner Rhythmenlehre verwenden. Denn die wirken in Stundenhoroskopen ähnlich wie in Geburtshoroskopen. So können wir zusätzlich von den Stundenhoroskopen lernen\, persönliche Konstellationen bildhafter zu verstehen. \n\n\n\nTHEMEN \n\nGrundlagen der Stundenastrologie\nDeutung und Sinn von Ereignishoroskopen\nDeutung von Fragehoroskopen\nSiebener-Rhythmus und Prognosemethoden im Stundenhoroskop\nAstrologische Terminplanung\nHoroskope für Heilbehandlungen und OPs\nHoroskope für politische Ereignisse\nMundankonstellationen\nSinnvolle neue und alte Methoden der Deutung\n\n\nBeginn: Mi. 13.5.2026 \nZeit: 18.15 – 20.15 Uhr \nDauer: 12 Abende\, mittwochs \nKursgebühr: 420 Euro \n\nOrt: Online-Seminar der Astrologie-Schule Bremen \nVoranmeldung
URL:https://www.astrologenverband.de/terminkalender/online-seminar-praxis-der-stundenastrologie/2026-10-07/
LOCATION:Online\, Astrologie-Schule Bremen\, Deutschland
CATEGORIES:DAV Regionalstelle,Fernstudium,Seminar Online
END:VEVENT
BEGIN:VEVENT
DTSTART;TZID=Europe/Berlin:20261007T190000
DTEND;TZID=Europe/Berlin:20261007T210000
DTSTAMP:20260424T154230
CREATED:20260126T174838Z
LAST-MODIFIED:20260126T174838Z
UID:10005935-1791399600-1791406800@www.astrologenverband.de
SUMMARY:Online Intensivausbildung Astrologie (10)
DESCRIPTION:Auf Wunsch von vielen Astroschüler*innen der Astrologos-Ausbildungen gibt es ab März 2026 erstmals eine Intensivausbildung Astrologie als Online-Angebot. Sie wendet sich an Teilnehmer mit guten Grundkenntnissen\, die ihr gelerntes Wissen für die astrologische Beratungsarbeit nutzen möchten – und gleichzeitig nach einer attraktiven Synthese von traditioneller und moderner psychologischer Astrologie suchen. \nIm Verlauf von 12 Abenden und einem Tagesseminar vor Ort werden einzelne Bereiche der astrologischen Deutung vertieft und es geht um Methoden\, die Schlüsselthemen eines Horoskops und den roten Faden bei der Deutung sichtbar zu machen. \nDas Beste aus beiden Welten – zum Wohle der Ratsuchenden! \nThemen sind u.a. die Basics der traditionellen Astrologie\, Grundlagen der Elektionsastrologie\, Strukturdeutungm Combinhoroskope\, Astrokartografie und Astromedizin. \nDie Abende finden über die Online-Plattform Zoom statt. Den Teilnehmenden wir die Möglichkeit geboten\, zu jedem Abend ein Video zu bekommen. Mit ausführlichen Skripten zu jedem Thema können Sie so verpasste Inhalte nacharbeiten. \nAusführliche Informationen zur Ausbildung zu diesem Weiterbildungsangebot finden Sie auf der Astrologos-Website. \nFür weitere Informationen und die Anmeldung nehmen Sie bitte per E-Mail oder telefonisch Kontakt mit mir auf. \nDie E-Mail-Adresse ist: kontakt@astrologos.de\, die Telefonnummer: 0234-683723.
URL:https://www.astrologenverband.de/terminkalender/online-intensivausbildung-astrologie-10/
LOCATION:DAV-Zentrum Bochum-Ruhrgebiet\, Deutschland
CATEGORIES:DAV Ausbildungszentrum,Seminar Online
ORGANIZER;CN="DAV-Astrologiezentrum%20Ruhrgebiet":MAILTO:kontakt@astrologos.de
END:VEVENT
BEGIN:VEVENT
DTSTART;TZID=Europe/Berlin:20261007T193000
DTEND;TZID=Europe/Berlin:20261007T213000
DTSTAMP:20260424T154230
CREATED:20251107T203634Z
LAST-MODIFIED:20251107T203634Z
UID:10005766-1791401400-1791408600@www.astrologenverband.de
SUMMARY:Online-Ausbildung Astromedizin (4)
DESCRIPTION:In 21 Abenden (jeweils mittwochs von 19:30 – 21:30 Uhr) erhalten Sie durch die Astrologin Petra Dörfert eine umfassende Einführung in die Astromedizin. Neben den Grundlagen (Zuordnung von Organen und Krankheiten zu den Tierkreiszeichen\, Häusern und Planeten) beschäftigen wir uns mit zahlreichen körperlichen und psychischen Erkrankungen\, der Frage der Prävention\, der Kinderwunschberatung sowie der Berechnung von OP-Terminen. \nSämtliche Informationen zur Ausbildung finden Sie hier. \nFür die Anmeldung nehmen Sie bitte per E-Mail oder telefonisch Kontakt mit mir auf (siehe unten)\, dann sende ich Ihnen das Anmeldeformular zu. \nDer nächste Astromedizin-Zyklus startet im kommenden September!
URL:https://www.astrologenverband.de/terminkalender/online-ausbildung-astromedizin-4-2/
LOCATION:Online\, Deutschland
CATEGORIES:DAV Ausbildungszentrum,Seminar Online
ORGANIZER;CN="Online%20Akademie%20Astrologie%20Petra%20D%C3%B6rfert%20%2F%20DAV%20Ausbildungszentrum":MAILTO:info@online-akademie-astrologie.com
END:VEVENT
BEGIN:VEVENT
DTSTART;TZID=Europe/Berlin:20261008T183000
DTEND;TZID=Europe/Berlin:20261008T200000
DTSTAMP:20260424T154230
CREATED:20260310T150014Z
LAST-MODIFIED:20260310T150251Z
UID:10006056-1791484200-1791489600@www.astrologenverband.de
SUMMARY:Online-Workshop: Astrologie und das 12. Haus - wenn Selbstsabotage am Werk ist
DESCRIPTION:Online-Workshop Do. 08.10.2026\, 18:30 – 20:00 Uhr mit Manuela Reher \nDas 12. Haus im Horoskop \nDas zwölfte Haus gehört zu den geheimnisvollsten Bereichen der Astrologie. Es steht für das Unbewusste\, verborgene Ängste und Muster – aber auch für Rückzug\, Intuition und spirituelle Tiefe. \nIn diesem Workshop erfährst du\, wie Planeten im 12. Haus wirken und welche inneren Themen sie ansprechen können\, etwa Rückzug\, Anpassung oder unbewusste Selbstsabotage. Gleichzeitig wird gezeigt\, welche spirituellen und heilenden Potenziale in diesem Haus liegen. \nAnhand von Beispielen lernst du\, verborgene Muster besser zu verstehen und zu erkennen\, wie aus Angst oder Schuld innere Stärke\, Bewusstsein und persönliche Entwicklung entstehen können. ✨ \n \n  \nManuela Reher ist eine bekannte\, freiberufliche Astrologin. Sie unterstützt die Astropraxis seit fast 20 Jahren mit ihrer hervorragenden fachlichen und pädagogischen Expertise. Als Tutorin und Praktikumsleiterin spielt sie eine Schlüsselrolle im Erfolg des Teams. Mehr zu Manuela Reher. \n  \n  \n  \nMehr Infos zu diesem Workshop und anderen astrologischen Workshops und Vorträgen findet ihr hier: \nhttps://astrologie-ausbildung.eu/online-workshops/wenn-selbstsabotage-am-werk-ist-astrologie-und-das-12-haus \n  \n  \n 
URL:https://www.astrologenverband.de/terminkalender/online-workshop-astrologie-und-das-12-haus-wenn-selbstsabotage-am-werk-ist/
LOCATION:Online-Zoom-Veranstaltung\, Astropraxis Helen Fritsch\, Deutschland
CATEGORIES:DAV Ausbildungszentrum,Vortrag Online
END:VEVENT
END:VCALENDAR