BEGIN:VCALENDAR
VERSION:2.0
PRODID:-//Astrologie | Deutscher Astrologenverband e.V. - ECPv6.1.0//NONSGML v1.0//EN
CALSCALE:GREGORIAN
METHOD:PUBLISH
X-ORIGINAL-URL:https://www.astrologenverband.de
X-WR-CALDESC:Veranstaltungen für Astrologie | Deutscher Astrologenverband e.V.
REFRESH-INTERVAL;VALUE=DURATION:PT1H
X-Robots-Tag:noindex
X-PUBLISHED-TTL:PT1H
BEGIN:VTIMEZONE
TZID:Europe/Berlin
BEGIN:DAYLIGHT
TZOFFSETFROM:+0100
TZOFFSETTO:+0200
TZNAME:CEST
DTSTART:20260329T010000
END:DAYLIGHT
BEGIN:STANDARD
TZOFFSETFROM:+0200
TZOFFSETTO:+0100
TZNAME:CET
DTSTART:20261025T010000
END:STANDARD
END:VTIMEZONE
BEGIN:VEVENT
DTSTART;TZID=Europe/Berlin:20260921T193000
DTEND;TZID=Europe/Berlin:20260921T213000
DTSTAMP:20260424T123605
CREATED:20250129T152128Z
LAST-MODIFIED:20250210T165533Z
UID:10004616-1790019000-1790026200@www.astrologenverband.de
SUMMARY:Online-Aufbaukurs Partnerschaftsastrologie (10)
DESCRIPTION:in 15 Abend-Webinaren (jeweils montags 19:30 Uhr – 21:30 Uhr) erhalten sie durch die Astrologin Petra Dörfert eine umfassende Einführung in das Thema Partnerschaftsastrologie. Kursinhalte sind neben den Methoden Synastrie\, Composit und Combin die gründliche Analyse der Radix auf Partnerschaftsthemen hin sowie die Frage\, wie man typische Partnerschaftsprobleme erkennt und löst. \nSämtliche Informationen zur Ausbildung finden Sie hier. \nFür die Anmeldung nehmen Sie bitte per E-Mail oder telefonisch Kontakt mit mir auf (siehe unten)\, dann sende ich Ihnen das Anmeldeformular zu. \nDer Aufbaukurs Partnerschaftsastrologie richtet sich an Fortgeschrittene und ist Teil der 3-4-jährigen Online-Ausbildung Astrologie mit dem einjährigen Grundkurs und den weiteren Aufbaukursen Prognose\, Beratertraining und DAV-Prüfungsvorbereitung (jedes Modul ist einzeln buchbar). Mehr dazu finden Sie auf der Homepage der Online Akademie Astrologie Petra Dörfert.
URL:https://www.astrologenverband.de/terminkalender/online-aufbaukurs-partnerschaftsastrologie-10-2/
LOCATION:Online\, Deutschland
CATEGORIES:DAV Ausbildungszentrum,Seminar Online
ORGANIZER;CN="Online%20Akademie%20Astrologie%20Petra%20D%C3%B6rfert%20%2F%20DAV%20Ausbildungszentrum":MAILTO:info@online-akademie-astrologie.com
END:VEVENT
BEGIN:VEVENT
DTSTART;TZID=Europe/Berlin:20260922T190000
DTEND;TZID=Europe/Berlin:20260922T210000
DTSTAMP:20260424T123605
CREATED:20250726T165525Z
LAST-MODIFIED:20250726T165525Z
UID:10005468-1790103600-1790110800@www.astrologenverband.de
SUMMARY:Online-Grundausbildung Astrologie 2026 (25)
DESCRIPTION:Die beliebte Astrologos-Grundausbildung wird ab 13. Januar 2026 erneut angeboten. Im Verlauf von 30 Abenden und einem Tagesseminar vor Ort werden die Deutungsansätze der wichtigen Astrologie-Schulen systemübergreifend vermittelt. Psychologische Theorien und Konzepte ergänzen die Inhalte\, so dass Sie die astrologischen Symbole sinnvoll in ihrer Arbeit einsetzen können. \nIm Verlauf von zwei Grundstufen lernen Sie\, Horoskope zu deuten und entdecken schrittweise das uralte Wissen der Astrologie. Gleichzeitig lernen Sie ihr persönliches Horoskop kennen und entdecken so einem Weg der Selbstentwicklung und Selbstentfaltung. \nIm Anschluss an jeden Abend erhalten Sie das Video und zu jedem Thema ein ausführliches Skript\, so dass Sie verpasste Termine nacharbeiten können. \nEin kostenloser Infoabend zu dieser Astrologie-Ausbildung findet am 12. November 2025 statt. \nAusführliche Informationen zur Ausbildung finden Sie auf der Astrologos-Website. Für weitere Informationen und die Anmeldung nehmen Sie bitte per E-Mail oder telefonisch Kontakt mit mir auf. \nDie E-Mail-Adresse ist: kontakt@astrologos.de\, die Telefonnummer: 0234-683723.
URL:https://www.astrologenverband.de/terminkalender/online-grundausbildung-astrologie-2026-25/
LOCATION:DAV-Zentrum Bochum-Ruhrgebiet\, Deutschland
CATEGORIES:DAV Ausbildungszentrum,Seminar Online
END:VEVENT
BEGIN:VEVENT
DTSTART;TZID=Europe/Berlin:20260922T190000
DTEND;TZID=Europe/Berlin:20260922T210000
DTSTAMP:20260424T123605
CREATED:20260410T143551Z
LAST-MODIFIED:20260410T151955Z
UID:10006352-1790103600-1790110800@www.astrologenverband.de
SUMMARY:Einführung und Grundlagen Astromedizin 9
DESCRIPTION:Diese Seminarreihe über 15 Veranstaltungen richtet sich an alle InteressentenInnen der Astromedizin.\nAufgrund entsprechender Nachfrage beginnt am 2. Juni2026 eine weitere Einführung.\nDiese Einführung eignet sich zur Orientierung und zur Vorbereitung auf die Teilnahme\nan der Fachausbildung Astromedizin. \nInhalte:\nHistorischer Hintergrund Astromedizin\nDefinition von Krankheit\nPlanetendispositionen\nZuordnung von Tierkreiszeichen und Planeten zu Organen\nKrankheitsdispositionen im Horoskop\nPhysische und psychische Disposition der Tierkreiszeichen\nPlanetenhierarchie\nBedeutung der Häuser\nTherapeutischer Nutzen der Astromedizin\nEthik \nGrundlagen Astromedizin\nVertiefung folgender Krankheitsdispositionen\nSaturn – Hüter der Schwelle\, Ablagerungs-und Abnutzungsneigungen\, Funktionsschwächen\nChiron – Indikator für den Weg von der Verletzung zur Heilung\nMondknotenachse in der Astromedizin – Erbinformationen\, schicksalhafte Dispositionen \nVeranstaltungen online\nLive mit Interaktion\nVideoaufnahmen stehen zur Verfügung\nSkripte und Präsentationen werden vor der Veranstaltung zugesandt\nAnonymisierte Fallbeispiele werden einbezogen \n15 Abendveranstaltungen à 2 Stunden 600 €\nzahlbar über 6 Monate à 100 € ab Juni 2026\nFür Wiederholer Sondervereinbarungen \nTermine:\n2. Juni\, 16. Juni\, 30. Juni\, 14. Juli\, 28. Juli\, 11. August\, 25. August\, 8. September\,\n22. September\, 6. Oktober\, 20. Oktober\, 27. Oktober\, 10. November\, 24. November\, 8. Dezember 2026. \nSollte ein Termin aus einem wichtigen Grund ausfallen\, wird ein Ersatztermin angeboten. \nUmfassende Informationen und Ausbildungsplan: Infoabend Astromedizin \nInteressierte melden sich bitte per Mail an: hp.heidetrautmann@astromedizin.info
URL:https://www.astrologenverband.de/terminkalender/einfuehrung-und-grundlagen-astromedizin-9/
LOCATION:Online-Akademie Heide Trautmann\, Schillerstraße\, Blieskastel\, 66440\, Deutschland
CATEGORIES:Seminar Online
ORGANIZER;CN="Heide%20Trautmann%2C%20Heilpraktikerin%20und%20Astromedizinerin":MAILTO:hp.heidetrautmann@astromedizin.info
END:VEVENT
BEGIN:VEVENT
DTSTART;TZID=Europe/Berlin:20260922T193000
DTEND;TZID=Europe/Berlin:20260922T213000
DTSTAMP:20260424T123605
CREATED:20250129T160522Z
LAST-MODIFIED:20250210T181552Z
UID:10004644-1790105400-1790112600@www.astrologenverband.de
SUMMARY:Einjährige Online-Grundausbildung Astrologie (23)
DESCRIPTION:In 31 Abend-Webinaren (jeweils dienstags 19:30 – 21:30 Uhr) bis Dezember erhalten Sie durch die Astrologin Petra Dörfert eine umfassende Einführung in die Horoskopdeutung. Alle Termine finden live statt\, so dass viel Zeit für Fragen und gemeinsames Üben bleibt. Unterrichtsbegleitende Materialien runden den Kurs ab. \nAlle Informationen zur Ausbildung finden Sie hier. \nFür die Anmeldung nehmen Sie bitte per E-Mail oder telefonisch Kontakt mit mir auf (siehe unten)\, dann sende ich Ihnen das Anmeldeformular zu. \nDer Grundkurs ist Teil der 3-4-jährigen Online-Ausbildung Astrologie mit den Aufbaukursen Prognose\, Partnerschaftsastrologie\, Beratertraining und DAV-Prüfungsvorbereitung (jedes Modul ist einzeln buchbar). Mehr dazu finden Sie auf der Homepage der Online Akademie Astrologie Petra Dörfert. \nDie nächste Grundausbildung startet im kommenden Januar!
URL:https://www.astrologenverband.de/terminkalender/einjaehrige-online-grundausbildung-astrologie-23/
LOCATION:Online\, Deutschland
CATEGORIES:DAV Ausbildungszentrum,Seminar Online
ORGANIZER;CN="Online%20Akademie%20Astrologie%20Petra%20D%C3%B6rfert%20%2F%20DAV%20Ausbildungszentrum":MAILTO:info@online-akademie-astrologie.com
END:VEVENT
BEGIN:VEVENT
DTSTART;TZID=Europe/Berlin:20260923T181500
DTEND;TZID=Europe/Berlin:20260923T201500
DTSTAMP:20260424T123605
CREATED:20260409T105504Z
LAST-MODIFIED:20260409T105934Z
UID:10006102-1790187300-1790194500@www.astrologenverband.de
SUMMARY:Online-Seminar: Praxis der Stundenastrologie
DESCRIPTION:Horoskope können nicht nur für Menschen gedeutet werden\, sondern ebenso für Ereignisse und für besondere Fragen. Zum Beispiel für Begegnungen\, Vertragsunterschriften oder Wohnungsbesichtigungen. \nDas Fundament einer neuen Situation und alles\, was darauf aufbaut\, zeigt sich am besten im Ereignishoroskop. Steht eine Entscheidung noch bevor\, hat es sich hingegen bewährt\, das Horoskop für den Moment der Fragestellung zu deuten. Dies zeigt dann\, was hinter der Frage steht und wie sich die Situation entwickeln wird. \n\nDarüber hinaus ermöglicht die Stundenastrologie Einblicke in größeres gesellschaftliches Geschehen. Hier sind Horoskope von Wahlen und von Staatengründungen besonders interessant. Aber auch aktuelle Konstellationen sowie die Zeichenwechsel wichtiger Planeten sollten beachtet werden\, wenn wir wissen möchten\, welche Themen anstehen. \nEin weiterer Bereich der Stundenastrologie ist dann noch die Terminplanung\, zum Beispiel für eine Geschäftseröffnung oder eine bevorstehende Operation. Hier gibt es stichhaltige Erfahrungswerte\, die wir unbedingt berücksichtigen sollten. \nIm Verlauf des Kurses werden wir mit vielen Beispielhoroskopen üben\, auch zu aktuellen Anlässen. Für die Deutung kommen wichtige Regeln der klassischen Astrologie zur Anwendung. Hier prüfen wir\, welche alten Regeln in der heutigen Realität bestehen können und welche neu beleuchtet werden müssen. Außerdem werden wir Elemente aus der Münchner Rhythmenlehre verwenden. Denn die wirken in Stundenhoroskopen ähnlich wie in Geburtshoroskopen. So können wir zusätzlich von den Stundenhoroskopen lernen\, persönliche Konstellationen bildhafter zu verstehen. \n\n\n\nTHEMEN \n\nGrundlagen der Stundenastrologie\nDeutung und Sinn von Ereignishoroskopen\nDeutung von Fragehoroskopen\nSiebener-Rhythmus und Prognosemethoden im Stundenhoroskop\nAstrologische Terminplanung\nHoroskope für Heilbehandlungen und OPs\nHoroskope für politische Ereignisse\nMundankonstellationen\nSinnvolle neue und alte Methoden der Deutung\n\n\nBeginn: Mi. 13.5.2026 \nZeit: 18.15 – 20.15 Uhr \nDauer: 12 Abende\, mittwochs \nKursgebühr: 420 Euro \n\nOrt: Online-Seminar der Astrologie-Schule Bremen \nVoranmeldung
URL:https://www.astrologenverband.de/terminkalender/online-seminar-praxis-der-stundenastrologie/2026-09-23/
LOCATION:Online\, Astrologie-Schule Bremen\, Deutschland
CATEGORIES:DAV Regionalstelle,Fernstudium,Seminar Online
END:VEVENT
BEGIN:VEVENT
DTSTART;TZID=Europe/Berlin:20260923T193000
DTEND;TZID=Europe/Berlin:20260923T213000
DTSTAMP:20260424T123605
CREATED:20251107T203606Z
LAST-MODIFIED:20251107T203606Z
UID:10005765-1790191800-1790199000@www.astrologenverband.de
SUMMARY:Online-Ausbildung Astromedizin (3)
DESCRIPTION:In 21 Abenden (jeweils mittwochs von 19:30 – 21:30 Uhr) erhalten Sie durch die Astrologin Petra Dörfert eine umfassende Einführung in die Astromedizin. Neben den Grundlagen (Zuordnung von Organen und Krankheiten zu den Tierkreiszeichen\, Häusern und Planeten) beschäftigen wir uns mit zahlreichen körperlichen und psychischen Erkrankungen\, der Frage der Prävention\, der Kinderwunschberatung sowie der Berechnung von OP-Terminen. \nSämtliche Informationen zur Ausbildung finden Sie hier. \nFür die Anmeldung nehmen Sie bitte per E-Mail oder telefonisch Kontakt mit mir auf (siehe unten)\, dann sende ich Ihnen das Anmeldeformular zu. \nDer nächste Astromedizin-Zyklus startet im kommenden September!
URL:https://www.astrologenverband.de/terminkalender/online-ausbildung-astromedizin-3-2/
LOCATION:Online\, Deutschland
CATEGORIES:DAV Ausbildungszentrum,Seminar Online
ORGANIZER;CN="Online%20Akademie%20Astrologie%20Petra%20D%C3%B6rfert%20%2F%20DAV%20Ausbildungszentrum":MAILTO:info@online-akademie-astrologie.com
END:VEVENT
END:VCALENDAR