BEGIN:VCALENDAR
VERSION:2.0
PRODID:-//Astrologie | Deutscher Astrologenverband e.V. - ECPv6.1.0//NONSGML v1.0//EN
CALSCALE:GREGORIAN
METHOD:PUBLISH
X-ORIGINAL-URL:https://www.astrologenverband.de
X-WR-CALDESC:Veranstaltungen für Astrologie | Deutscher Astrologenverband e.V.
REFRESH-INTERVAL;VALUE=DURATION:PT1H
X-Robots-Tag:noindex
X-PUBLISHED-TTL:PT1H
BEGIN:VTIMEZONE
TZID:Europe/Berlin
BEGIN:DAYLIGHT
TZOFFSETFROM:+0100
TZOFFSETTO:+0200
TZNAME:CEST
DTSTART:20260329T010000
END:DAYLIGHT
BEGIN:STANDARD
TZOFFSETFROM:+0200
TZOFFSETTO:+0100
TZNAME:CET
DTSTART:20261025T010000
END:STANDARD
END:VTIMEZONE
BEGIN:VEVENT
DTSTART;TZID=Europe/Berlin:20260721T190000
DTEND;TZID=Europe/Berlin:20260721T210000
DTSTAMP:20260426T004634
CREATED:20250726T165328Z
LAST-MODIFIED:20250726T165328Z
UID:10005465-1784660400-1784667600@www.astrologenverband.de
SUMMARY:Online-Grundausbildung Astrologie 2026 (22)
DESCRIPTION:Die beliebte Astrologos-Grundausbildung wird ab 13. Januar 2026 erneut angeboten. Im Verlauf von 30 Abenden und einem Tagesseminar vor Ort werden die Deutungsansätze der wichtigen Astrologie-Schulen systemübergreifend vermittelt. Psychologische Theorien und Konzepte ergänzen die Inhalte\, so dass Sie die astrologischen Symbole sinnvoll in ihrer Arbeit einsetzen können. \nIm Verlauf von zwei Grundstufen lernen Sie\, Horoskope zu deuten und entdecken schrittweise das uralte Wissen der Astrologie. Gleichzeitig lernen Sie ihr persönliches Horoskop kennen und entdecken so einem Weg der Selbstentwicklung und Selbstentfaltung. \nIm Anschluss an jeden Abend erhalten Sie das Video und zu jedem Thema ein ausführliches Skript\, so dass Sie verpasste Termine nacharbeiten können. \nEin kostenloser Infoabend zu dieser Astrologie-Ausbildung findet am 12. November 2025 statt. \nAusführliche Informationen zur Ausbildung finden Sie auf der Astrologos-Website. Für weitere Informationen und die Anmeldung nehmen Sie bitte per E-Mail oder telefonisch Kontakt mit mir auf. \nDie E-Mail-Adresse ist: kontakt@astrologos.de\, die Telefonnummer: 0234-683723.
URL:https://www.astrologenverband.de/terminkalender/online-grundausbildung-astrologie-2026-22/
LOCATION:DAV-Zentrum Bochum-Ruhrgebiet\, Deutschland
CATEGORIES:DAV Ausbildungszentrum,Seminar Online
ORGANIZER;CN="DAV-Astrologiezentrum%20Ruhrgebiet":MAILTO:kontakt@astrologos.de
END:VEVENT
BEGIN:VEVENT
DTSTART;TZID=Europe/Berlin:20260721T190000
DTEND;TZID=Europe/Berlin:20260721T210000
DTSTAMP:20260426T004634
CREATED:20260131T184940Z
LAST-MODIFIED:20260410T153811Z
UID:10005952-1784660400-1784667600@www.astrologenverband.de
SUMMARY:Fachausbildung Astromedizin 24
DESCRIPTION:Fachausbildung für medizinisch interessierte Astrologen und astrologisch interessierte Therapeuten\n60 Veranstaltungen in 30 Monaten\, jeweils 19-21 Uhr\nLive mit Interaktion auf meiner Online-Akademie\nDen TeilnehmerInnen stehen Skript\, Präsentation und Videoaufnahme zur Verfügung. \nFachseminare über die verschiedenen Organbereiche: \n1.Das zentrale und periphere Nervensystem – Forschung anhand von Fallbeispielen: Schwindel\, Epilepsie\, Apoplexie\, Enzephalitis\, Morbus Parkinson und Polyneuropathie\n2. Das endokrine System 1 – Erkrankungen von Schilddrüse und Nebenschilddrüse anhand von Fallbeispielen: Unter- und Überfunktion\, Hashimoto\n3. Das endokrine System 2 – Hypothalamus\, Hypophyse\, Epiphyse\, Thymus\, Nebenniere und ihre möglichen Fehlfunktionen mit Auswirkungen: z. B. Cushing\, Wachstumsstörungen\, Unfruchtbarkeit\, Virilismus und Hirsutismus\n4. Blut und lymphoretikuläres System – Schwerpunkte: Anämie\, Leukämie\, Hodgkin\, Non Hodgkin\, AIDS\n5. Kreislaufsystem – Erkrankungen von Arterien und Venen – Schwerpunkt Verschlüsse und Aneurysmen\n6. Herz und Atmungssystem – Schwerpunkte der Fallanalysen: Herzfehler\, Asthma und Lungenembolie\n7. Verdauungssystem 1 – Erkrankungen des Magen-Darm-Traktes: z. B. Morbus Crohn und Colitis ulcerosa\n8. Verdauungssystem 2 – Leber\, Galle\, Bauchspeicheldrüse – Schwerpunkte: Hepatitis\, Leberzirrhose\, Gallensteinleiden\n9. Stoffwechsel – insbesondere Diabetes aus astromedizinischer Sicht\n10.Ausscheidungssystem – Erkrankungen der Nieren – Forschungsschwerpunkt: Die Beteiligung von Isis bei Nierenleiden\n11.Bewegungsapparat 1 – Gelenk- und Wirbelsäulenerkrankungen – Schwerpunkt: Arthrose und Morbus Bechterew\n12. Bewegungsapparat 2 – Kollagenosen\, Vaskulitiden\, Schwerpunktthema: Fibromyalgie \nWeitere Info: www.astromedizin.info\nAusbildungsplan anfordern: hp.heidetrautmann@astromedizin.info
URL:https://www.astrologenverband.de/terminkalender/fachausbildung-astromedizin-24/
LOCATION:Online-Akademie Heide Trautmann\, Schillerstraße\, Blieskastel\, 66440\, Deutschland
ORGANIZER;CN="Heide%20Trautmann%2C%20Heilpraktikerin%20und%20Astromedizinerin":MAILTO:hp.heidetrautmann@astromedizin.info
END:VEVENT
BEGIN:VEVENT
DTSTART;TZID=Europe/Berlin:20260722T181500
DTEND;TZID=Europe/Berlin:20260722T201500
DTSTAMP:20260426T004634
CREATED:20260409T105504Z
LAST-MODIFIED:20260425T110455Z
UID:10006093-1784744100-1784751300@www.astrologenverband.de
SUMMARY:Online-Seminar: Praxis der Stundenastrologie
DESCRIPTION:Horoskope können nicht nur für Menschen erstellt werden\, sondern ebenso für Ereignisse. Und für besondere Fragen. Das nennt sich dann Stundenastrologie. Sie ist hilfreich bei konkreten Anliegen jeder Art\, zum Beispiel bei der Wohnungssuche oder bei anstehenden Entscheidungen. \nIn der Beratungspraxis ist die Stundenastrologie immer dann wichtig\, wenn es zu bestimmten Fragen kommt. Und wenn es ein besonderes Ereignis gegeben hat\, weswegen wir nun schauen wollen\, unter welchen Sternen das Ganze steht. Sie ist außerdem erforderlich\, wenn ein Termin geplant werden soll wie bei einer bevorstehenden Hochzeit oder auch bei einer hilfreichen OP. \nFür die Deutung von Stundenhoroskopen gibt es Regeln\, die wir im Lauf des Kurses lernen werden. In der Praxis bewährt hat es sich\, die klassischen Regeln vereinfacht anzuwenden. Zudem sind manche Zuordnungen aus der Klassik eher unpassend für die heutige Zeit. Im Seminar erfahren wir daher eine reelle\, moderne Stundenastrologie. \nIm Verlauf des Kurses werden wir mit vielen praktischen Beispielhoroskopen üben. Denn die zeigen immer wieder klar\, was sich entwickelt. Hier sind auch Horoskope von Wahlen und von Staatengründungen sehr spannend und lehrreich.  \nAußerdem werden wir einfache Elemente aus der Münchner Rhythmenlehre kennenlernen. Denn die wirken in Stundenhoroskopen ähnlich wie in Geburtshoroskopen – und helfen uns bei der Deutung. Weil die Stundenastrologie sehr konkret ist\, sehen wir mit ihr\, wie sich bestimmte Konstellationen real zeigen. Das ist in der Folge auch für die Einschätzung persönlicher Horoskope hilfreich. \n\n\n\n\nTHEMEN \n\nGrundlagen der Stundenastrologie\nDeutung und Sinn von Ereignishoroskopen\nDeutung von Fragehoroskopen\nSiebener-Rhythmus und Prognosemethoden im Stundenhoroskop\nAstrologische Terminplanung\nHoroskope für Heilbehandlungen und OPs\nHoroskope für politische Ereignisse\nMundankonstellationen\nSinnvolle neue und alte Methoden der Deutung\n\n\nBeginn: Mi. 13.5.2026 \nZeit: 18.15 –20.15 Uhr \nDauer: 12 Abende\, mittwochs \nKursgebühr: 420 Euro \n\nOrt: Online-Seminar der Astrologie-Schule Bremen \nVoranmeldung
URL:https://www.astrologenverband.de/terminkalender/online-seminar-praxis-der-stundenastrologie/2026-07-22/
LOCATION:Online\, Astrologie-Schule Bremen\, Deutschland
CATEGORIES:DAV Regionalstelle,Fernstudium,Seminar Online
END:VEVENT
END:VCALENDAR