BEGIN:VCALENDAR
VERSION:2.0
PRODID:-//Astrologie | Deutscher Astrologenverband e.V. - ECPv6.1.0//NONSGML v1.0//EN
CALSCALE:GREGORIAN
METHOD:PUBLISH
X-ORIGINAL-URL:https://www.astrologenverband.de
X-WR-CALDESC:Veranstaltungen für Astrologie | Deutscher Astrologenverband e.V.
REFRESH-INTERVAL;VALUE=DURATION:PT1H
X-Robots-Tag:noindex
X-PUBLISHED-TTL:PT1H
BEGIN:VTIMEZONE
TZID:Europe/Berlin
BEGIN:DAYLIGHT
TZOFFSETFROM:+0100
TZOFFSETTO:+0200
TZNAME:CEST
DTSTART:20260329T010000
END:DAYLIGHT
BEGIN:STANDARD
TZOFFSETFROM:+0200
TZOFFSETTO:+0100
TZNAME:CET
DTSTART:20261025T010000
END:STANDARD
END:VTIMEZONE
BEGIN:VEVENT
DTSTART;TZID=Europe/Berlin:20260706T190000
DTEND;TZID=Europe/Berlin:20260706T210000
DTSTAMP:20260426T004637
CREATED:20250414T163908Z
LAST-MODIFIED:20250414T163908Z
UID:10005233-1783364400-1783371600@www.astrologenverband.de
SUMMARY:Astrologie Café ONLINE
DESCRIPTION:Offene Abende für Astrologie Begeisterte!\nBring dein Horoskop oder deine Daten (Geburtsort & Zeit) und deine Fragen.\nDie Abende sind deinen Fragen gewidmet.\nAsk us anythink!\nGemeinsam in der Gruppe schauen wir dann\, wo sich die Antworten in deinem Geburtsbild finden lassen.\nJede*r ist willkommen\, die einzigen Vorausetzungen sind deine Neugier & Freude an den Sternen!\nWir freuen uns auf Dich! \n  \n  \nZoom-Link zur Veranstaltung: \nhttps://us06web.zoom.us/j/84779092924?pwd=Vzegx7TtlGr1ZDmcFeyZIJ8GcXGyGH.1 \nMeeting-ID: 847 7909 2924\nKenncode: 535610
URL:https://www.astrologenverband.de/terminkalender/astrologie-cafe-online/2026-07-06/
LOCATION:ONLINE  ZOOM
ORGANIZER;CN="Astrologische%20Psychologie%20lernen":MAILTO:info@ap-lernen.de
END:VEVENT
BEGIN:VEVENT
DTSTART;TZID=Europe/Berlin:20260707T180000
DTEND;TZID=Europe/Berlin:20260707T210000
DTSTAMP:20260426T004637
CREATED:20250802T120117Z
LAST-MODIFIED:20250802T120117Z
UID:10005557-1783447200-1783458000@www.astrologenverband.de
SUMMARY:Offene Gruppe Der stärkste Persönlichkeitsplanet
DESCRIPTION:Dieser für alle offene monatliche ASTRO-DIENSTAG dient Astrologinnen als Erfahrungsaustausch und Supervision. Gemeinsam werden Horoskope aus der Beratungspraxis oder spezielle astrologische Themen diskutiert. Teilnehmer/innen aus allen astrologischen Fachrichtungen sind herzlich eingeladen. Einfach mit einer kurzen Mail anmelden: astro@lummer.de \nHeute besprechen wir… Der stärkste Persönlichkeitsplanet \nKörper\, Geist und Seele – diese drei Ebenen sind eng miteinander verbunden. Der Körper steht für Kraft\, der Geist für den Verstand und somit für Wissen\, die Seele als Ort der Gefühle.\nIn der Huber-Methode werden die drei Hauptplaneten diesen Ebenen zugeteilt. Sonne\, Mond und Saturn symbolisieren jeweils ein ICH beim Menschen auf drei Ebenen\, in der dreifachen Persönlichkeitsstruktur. \n\nSaturn symbolisiert das ICH auf der physischen Ebene\, er ist das Körperbewusstsein mit seinen biologischen Gesetzen.\nDer Mond symbolisiert das Gefühls-ICH\, das als reflektierendes Prinzip Kontakte und Beziehungen ermöglicht.\nDie Sonne\, das autonome ICH\, funktioniert auf der Denk- oder Mentalebene als selbstbewusste Ich-Einheit.\n\nFür die Entwicklung eines ICH-Planeten ist der Grad der Konditionierung und der Umwelteinwirkung maßgeblich. Je verschiedener die Hausqualität zur Zeichenqualität ist\, desto länger dauert die Entwicklung – aber desto größer ist sie auch. Ein ICH-Planet mit einer kleinen Entwicklungsspannung kann seine Lernaufgaben früher erfüllen als ein ICH-Planet mit einer großen Entwicklungsspannung. Je schwerer der Grad der Entwicklungsspannung ist\, desto mehr Zeit benötigt ein Planet\, um die nötige Entwicklung zu bewältigen. Aber umso grösser sind die Entwicklungsschübe und die Veränderung in der Persönlichkeit. \nAn diesem Abend werden wir uns unseren Horoskopen analysieren welcher ICH-Planet in welchem Maß gefordert ist. \n\n\n\nNatürlich werden wir das Thema anhand von praktischen Horoskopen der Teilnehmerinnen behandeln. \n\n\nHier mehr Infos…
URL:https://www.astrologenverband.de/terminkalender/offene-gruppe-der-staerkste-persoenlichkeitsplanet/
LOCATION:Lippstadt / Schule Lummer und Borchardt\, Rüschenkamp12\, Lippstadt\, 59558\, Deutschland
CATEGORIES:Seminar Online
ORGANIZER;CN="Astrologische%20Psychologie%20Birgit%20Lummer%20und%20Saskia%20Borchardt":MAILTO:astro@lummer.de
END:VEVENT
BEGIN:VEVENT
DTSTART;TZID=Europe/Berlin:20260707T190000
DTEND;TZID=Europe/Berlin:20260707T210000
DTSTAMP:20260426T004637
CREATED:20260131T184805Z
LAST-MODIFIED:20260410T153711Z
UID:10005951-1783450800-1783458000@www.astrologenverband.de
SUMMARY:Fachausbildung Astromedizin 23
DESCRIPTION:Fachausbildung für medizinisch interessierte Astrologen und astrologisch interessierte Therapeuten\n60 Veranstaltungen in 30 Monaten\, jeweils 19-21 Uhr\nLive mit Interaktion auf meiner Online-Akademie\nDen TeilnehmerInnen stehen Skript\, Präsentation und Videoaufnahme zur Verfügung. \nFachseminare über die verschiedenen Organbereiche: \n1.Das zentrale und periphere Nervensystem – Forschung anhand von Fallbeispielen: Schwindel\, Epilepsie\, Apoplexie\, Enzephalitis\, Morbus Parkinson und Polyneuropathie\n2. Das endokrine System 1 – Erkrankungen von Schilddrüse und Nebenschilddrüse anhand von Fallbeispielen: Unter- und Überfunktion\, Hashimoto\n3. Das endokrine System 2 – Hypothalamus\, Hypophyse\, Epiphyse\, Thymus\, Nebenniere und ihre möglichen Fehlfunktionen mit Auswirkungen: z. B. Cushing\, Wachstumsstörungen\, Unfruchtbarkeit\, Virilismus und Hirsutismus\n4. Blut und lymphoretikuläres System – Schwerpunkte: Anämie\, Leukämie\, Hodgkin\, Non Hodgkin\, AIDS\n5. Kreislaufsystem – Erkrankungen von Arterien und Venen – Schwerpunkt Verschlüsse und Aneurysmen\n6. Herz und Atmungssystem – Schwerpunkte der Fallanalysen: Herzfehler\, Asthma und Lungenembolie\n7. Verdauungssystem 1 – Erkrankungen des Magen-Darm-Traktes: z. B. Morbus Crohn und Colitis ulcerosa\n8. Verdauungssystem 2 – Leber\, Galle\, Bauchspeicheldrüse – Schwerpunkte: Hepatitis\, Leberzirrhose\, Gallensteinleiden\n9. Stoffwechsel – insbesondere Diabetes aus astromedizinischer Sicht\n10.Ausscheidungssystem – Erkrankungen der Nieren – Forschungsschwerpunkt: Die Beteiligung von Isis bei Nierenleiden\n11.Bewegungsapparat 1 – Gelenk- und Wirbelsäulenerkrankungen – Schwerpunkt: Arthrose und Morbus Bechterew\n12. Bewegungsapparat 2 – Kollagenosen\, Vaskulitiden\, Schwerpunktthema: Fibromyalgie \nWeitere Info: www.astromedizin.info\nAusbildungsplan anfordern: hp.heidetrautmann@astromedizin.info
URL:https://www.astrologenverband.de/terminkalender/fachausbildung-astromedizin-23/
LOCATION:Online-Akademie Heide Trautmann\, Schillerstraße\, Blieskastel\, 66440\, Deutschland
CATEGORIES:Seminar Online
ORGANIZER;CN="Heide%20Trautmann%2C%20Heilpraktikerin%20und%20Astromedizinerin":MAILTO:hp.heidetrautmann@astromedizin.info
END:VEVENT
BEGIN:VEVENT
DTSTART;TZID=Europe/Berlin:20260708T181500
DTEND;TZID=Europe/Berlin:20260708T201500
DTSTAMP:20260426T004637
CREATED:20260409T105504Z
LAST-MODIFIED:20260425T110455Z
UID:10006091-1783534500-1783541700@www.astrologenverband.de
SUMMARY:Online-Seminar: Praxis der Stundenastrologie
DESCRIPTION:Horoskope können nicht nur für Menschen erstellt werden\, sondern ebenso für Ereignisse. Und für besondere Fragen. Das nennt sich dann Stundenastrologie. Sie ist hilfreich bei konkreten Anliegen jeder Art\, zum Beispiel bei der Wohnungssuche oder bei anstehenden Entscheidungen. \nIn der Beratungspraxis ist die Stundenastrologie immer dann wichtig\, wenn es zu bestimmten Fragen kommt. Und wenn es ein besonderes Ereignis gegeben hat\, weswegen wir nun schauen wollen\, unter welchen Sternen das Ganze steht. Sie ist außerdem erforderlich\, wenn ein Termin geplant werden soll wie bei einer bevorstehenden Hochzeit oder auch bei einer hilfreichen OP. \nFür die Deutung von Stundenhoroskopen gibt es Regeln\, die wir im Lauf des Kurses lernen werden. In der Praxis bewährt hat es sich\, die klassischen Regeln vereinfacht anzuwenden. Zudem sind manche Zuordnungen aus der Klassik eher unpassend für die heutige Zeit. Im Seminar erfahren wir daher eine reelle\, moderne Stundenastrologie. \nIm Verlauf des Kurses werden wir mit vielen praktischen Beispielhoroskopen üben. Denn die zeigen immer wieder klar\, was sich entwickelt. Hier sind auch Horoskope von Wahlen und von Staatengründungen sehr spannend und lehrreich.  \nAußerdem werden wir einfache Elemente aus der Münchner Rhythmenlehre kennenlernen. Denn die wirken in Stundenhoroskopen ähnlich wie in Geburtshoroskopen – und helfen uns bei der Deutung. Weil die Stundenastrologie sehr konkret ist\, sehen wir mit ihr\, wie sich bestimmte Konstellationen real zeigen. Das ist in der Folge auch für die Einschätzung persönlicher Horoskope hilfreich. \n\n\n\n\nTHEMEN \n\nGrundlagen der Stundenastrologie\nDeutung und Sinn von Ereignishoroskopen\nDeutung von Fragehoroskopen\nSiebener-Rhythmus und Prognosemethoden im Stundenhoroskop\nAstrologische Terminplanung\nHoroskope für Heilbehandlungen und OPs\nHoroskope für politische Ereignisse\nMundankonstellationen\nSinnvolle neue und alte Methoden der Deutung\n\n\nBeginn: Mi. 13.5.2026 \nZeit: 18.15 –20.15 Uhr \nDauer: 12 Abende\, mittwochs \nKursgebühr: 420 Euro \n\nOrt: Online-Seminar der Astrologie-Schule Bremen \nVoranmeldung
URL:https://www.astrologenverband.de/terminkalender/online-seminar-praxis-der-stundenastrologie/2026-07-08/
LOCATION:Online\, Astrologie-Schule Bremen\, Deutschland
CATEGORIES:DAV Regionalstelle,Fernstudium,Seminar Online
END:VEVENT
BEGIN:VEVENT
DTSTART;TZID=Europe/Berlin:20260709T190000
DTEND;TZID=Europe/Berlin:20260709T210000
DTSTAMP:20260426T004637
CREATED:20241206T133542Z
LAST-MODIFIED:20251127T095302Z
UID:10004304-1783623600-1783630800@www.astrologenverband.de
SUMMARY:DAV ASTRO-TREFF
DESCRIPTION:DAV-ASTRO-TREFF\n09.07.2026 um 19 Uhr / Anmeldung bis 01. Juli 2026\nAlles rund um die astrologische Beratung\nEine astrologische Beratung sollte sehr gut strukturiert sein\, sowohl in der Vorbereitung\, der Durchführung\, dem Ziel und der Nachbereitung. Welche Mittel sind nötig? Was darf oder soll es kosten? In welchem Setting kann es stattfinden. Diese und mehr Fragen werden wir gemeinsam diskutieren. Unterstützt werden wir von unseren versierten Mitgliedern Markus Jehle\, Oleg Doroshov und Birgit Lummer. Es moderieren Wolfgang Steven und René Petersen.\nDauer ca. zwei Stunden. \nDu bist DAV Mitglied? Du möchtest teilnehmen?\nAnmeldung bis 01. Juni 2026\nEinfach eine Mail schreiben an dav@astrologenverband.de. Du bekommst zwei Tage vor dem Termin den Zoom-Link für die Teilnahme zugesandt. \n 
URL:https://www.astrologenverband.de/terminkalender/dav-astro-treff-3/
LOCATION:ONLINE  ZOOM
CATEGORIES:Seminar Online
ORGANIZER;CN="DAV":MAILTO:dav@astrologenverband.de
END:VEVENT
END:VCALENDAR