BEGIN:VCALENDAR
VERSION:2.0
PRODID:-//Astrologie | Deutscher Astrologenverband e.V. - ECPv6.1.0//NONSGML v1.0//EN
CALSCALE:GREGORIAN
METHOD:PUBLISH
X-ORIGINAL-URL:https://www.astrologenverband.de
X-WR-CALDESC:Veranstaltungen für Astrologie | Deutscher Astrologenverband e.V.
REFRESH-INTERVAL;VALUE=DURATION:PT1H
X-Robots-Tag:noindex
X-PUBLISHED-TTL:PT1H
BEGIN:VTIMEZONE
TZID:Europe/Berlin
BEGIN:DAYLIGHT
TZOFFSETFROM:+0100
TZOFFSETTO:+0200
TZNAME:CEST
DTSTART:20260329T010000
END:DAYLIGHT
BEGIN:STANDARD
TZOFFSETFROM:+0200
TZOFFSETTO:+0100
TZNAME:CET
DTSTART:20261025T010000
END:STANDARD
END:VTIMEZONE
BEGIN:VEVENT
DTSTART;TZID=Europe/Berlin:20260615T193000
DTEND;TZID=Europe/Berlin:20260615T193000
DTSTAMP:20260424T062545
CREATED:20260411T135112Z
LAST-MODIFIED:20260411T135326Z
UID:10006361-1781551800-1781551800@www.astrologenverband.de
SUMMARY:Vortrag: Zurück ins Patriarchat? Gesellschaft und Individuum im Feuer-Luft-Zyklus
DESCRIPTION:Bringt die Häufung der Feuer- und Luftzeichen eine typisch „männliche“ Perspektive auf die Gesellschaft? \n\nVortrag von Martin Sebastian Moritz \nNachdem Pluto 2025 mit Eintritt in das Yang-Zeichen Wassermann das Metathema „Aufbruch in eine neue Welt“ angestossen hat\, folgten Saturn und Neptun mit Ingressen in das kriegerische Yang-Zeichen Widder\, das für Neuanfang steht. Der Eintritt von Uranus in das duale Yang-Zeichen Zwillinge hat dann endgültig das Zeitalter des Posthumanismus eingeläutet. \n2026 folgt der Wechsel Jupiters vom Krebs in das selbstbewusste\, stolze Yang-Zeichen Löwe. Die Häufung dieser Feuer- und Luftzeichen bringt einen Fokus auf typisch „männliche“\, sprich Yang-Perspektiven auf die Gesellschaft und das Individuum. Themen wie Durchsetzung\, Ego-Zentrierung\, Konfrontation und Kampf werden deutlich spürbar. Haben patriarchale Strukturen uns also alle in der Hand? \nZum Referenten \nMartin Sebastian Moritz ist Diplom-Psychologe mit Sitz in Hamburg und Berlin. Er arbeitet als Astrologe\, Trendforscher\, Paartherapeut mit Hintergrund als Schauspieler und Psychodrama-Therapeut. Er ist ein international gefragter Redner auf Kongressen\, berät und unterrichtet. Sein YouTube-Kanal und sein Podcast „Astromanie“ erfreuen sich zunehmender Beliebtheit. Sein Buch „Das rätselhafte 8.Haus“ liegt mittlerweile in 3. Auflage vor. Sein Fokus ist psychologisch-therapeutisch; Krisen sieht er als Wachstumschancen.\n\nVeranstalter Schweizer Astrologenbund\nInfos und Anmeldung hier:\nZurück ins Patriarchat? Gesellschaft und Individuum im Feuer-Luft-Zyklus | Schweizer Astrologenbund SAB\, der Berufsverband für Astrologinnen und Astrologen
URL:https://www.astrologenverband.de/terminkalender/vortrag-zurueck-ins-patriarchat-gesellschaft-und-individuum-im-feuer-luft-zyklus/
LOCATION:Schweizer Astrologenbund\, Switzerland
CATEGORIES:Vortrag Online
END:VEVENT
BEGIN:VEVENT
DTSTART;TZID=Europe/Berlin:20260616T190000
DTEND;TZID=Europe/Berlin:20260616T210000
DTSTAMP:20260424T062545
CREATED:20250726T164033Z
LAST-MODIFIED:20250726T164033Z
UID:10005461-1781636400-1781643600@www.astrologenverband.de
SUMMARY:Online-Grundausbildung Astrologie 2026 (19)
DESCRIPTION:Die beliebte Astrologos-Grundausbildung wird ab 13. Januar 2026 erneut angeboten. Im Verlauf von 30 Abenden und einem Tagesseminar vor Ort werden die Deutungsansätze der wichtigen Astrologie-Schulen systemübergreifend vermittelt. Psychologische Theorien und Konzepte ergänzen die Inhalte\, so dass Sie die astrologischen Symbole sinnvoll in ihrer Arbeit einsetzen können. \nIm Verlauf von zwei Grundstufen lernen Sie\, Horoskope zu deuten und entdecken schrittweise das uralte Wissen der Astrologie. Gleichzeitig lernen Sie ihr persönliches Horoskop kennen und entdecken so einem Weg der Selbstentwicklung und Selbstentfaltung. \nIm Anschluss an jeden Abend erhalten Sie das Video und zu jedem Thema ein ausführliches Skript\, so dass Sie verpasste Termine nacharbeiten können. \nEin kostenloser Infoabend zu dieser Astrologie-Ausbildung findet am 12. November 2025 statt. \nAusführliche Informationen zur Ausbildung finden Sie auf der Astrologos-Website. Für weitere Informationen und die Anmeldung nehmen Sie bitte per E-Mail oder telefonisch Kontakt mit mir auf. \nDie E-Mail-Adresse ist: kontakt@astrologos.de\, die Telefonnummer: 0234-683723.
URL:https://www.astrologenverband.de/terminkalender/online-grundausbildung-astrologie-2026-19/
LOCATION:DAV-Zentrum Bochum-Ruhrgebiet\, Deutschland
CATEGORIES:DAV Ausbildungszentrum,Seminar Online
ORGANIZER;CN="DAV-Astrologiezentrum%20Ruhrgebiet":MAILTO:kontakt@astrologos.de
END:VEVENT
BEGIN:VEVENT
DTSTART;TZID=Europe/Berlin:20260616T190000
DTEND;TZID=Europe/Berlin:20260616T210000
DTSTAMP:20260424T062546
CREATED:20260410T142556Z
LAST-MODIFIED:20260410T145742Z
UID:10006345-1781636400-1781643600@www.astrologenverband.de
SUMMARY:Einführung und Grundlagen Astromedizin 2
DESCRIPTION:Diese Seminarreihe über 15 Veranstaltungen richtet sich an alle InteressentenInnen der Astromedizin.\nAufgrund entsprechender Nachfrage beginnt am 2. Juni2026 eine weitere Einführung.\nDiese Einführung eignet sich zur Orientierung und zur Vorbereitung auf die Teilnahme\nan der Fachausbildung Astromedizin. \nInhalte:\nHistorischer Hintergrund Astromedizin\nDefinition von Krankheit\nPlanetendispositionen\nZuordnung von Tierkreiszeichen und Planeten zu Organen\nKrankheitsdispositionen im Horoskop\nPhysische und psychische Disposition der Tierkreiszeichen\nPlanetenhierarchie\nBedeutung der Häuser\nTherapeutischer Nutzen der Astromedizin\nEthik \nGrundlagen Astromedizin\nVertiefung folgender Krankheitsdispositionen\nSaturn – Hüter der Schwelle\, Ablagerungs-und Abnutzungsneigungen\, Funktionsschwächen\nChiron – Indikator für den Weg von der Verletzung zur Heilung\nMondknotenachse in der Astromedizin – Erbinformationen\, schicksalhafte Dispositionen \nVeranstaltungen online\nLive mit Interaktion\nVideoaufnahmen stehen zur Verfügung\nSkripte und Präsentationen werden vor der Veranstaltung zugesandt\nAnonymisierte Fallbeispiele werden einbezogen \n15 Abendveranstaltungen à 2 Stunden 600 €\nzahlbar über 6 Monate à 100 € ab Juni 2026\nFür Wiederholer Sondervereinbarungen \nTermine:\n2. Juni\, 16. Juni\, 30. Juni\, 14. Juli\, 28. Juli\, 11. August\, 25. August\, 8. September\,\n22. September\, 6. Oktober\, 20. Oktober\, 27. Oktober\, 10. November\, 24. November\, 8. Dezember 2026. \nSollte ein Termin aus einem wichtigen Grund ausfallen\, wird ein Ersatztermin angeboten. \nUmfassende Informationen und Ausbildungsplan: Infoabend Astromedizin \nInteressierte melden sich bitte per Mail an: hp.heidetrautmann@astromedizin.info
URL:https://www.astrologenverband.de/terminkalender/einfuehrung-und-grundlagen-astromedizin-2/
LOCATION:Online-Akademie Heide Trautmann\, Schillerstraße\, Blieskastel\, 66440\, Deutschland
CATEGORIES:Seminar Online
ORGANIZER;CN="Heide%20Trautmann%2C%20Heilpraktikerin%20und%20Astromedizinerin":MAILTO:hp.heidetrautmann@astromedizin.info
END:VEVENT
BEGIN:VEVENT
DTSTART;TZID=Europe/Berlin:20260616T193000
DTEND;TZID=Europe/Berlin:20260616T213000
DTSTAMP:20260424T062546
CREATED:20250129T155901Z
LAST-MODIFIED:20250210T181355Z
UID:10004639-1781638200-1781645400@www.astrologenverband.de
SUMMARY:Einjährige Online-Grundausbildung Astrologie (19)
DESCRIPTION:In 31 Abend-Webinaren (jeweils dienstags 19:30 – 21:30 Uhr) bis Dezember erhalten Sie durch die Astrologin Petra Dörfert eine umfassende Einführung in die Horoskopdeutung. Alle Termine finden live statt\, so dass viel Zeit für Fragen und gemeinsames Üben bleibt. Unterrichtsbegleitende Materialien runden den Kurs ab. \nAlle Informationen zur Ausbildung finden Sie hier. \nFür die Anmeldung nehmen Sie bitte per E-Mail oder telefonisch Kontakt mit mir auf (siehe unten)\, dann sende ich Ihnen das Anmeldeformular zu. \nDer Grundkurs ist Teil der 3-4-jährigen Online-Ausbildung Astrologie mit den Aufbaukursen Prognose\, Partnerschaftsastrologie\, Beratertraining und DAV-Prüfungsvorbereitung (jedes Modul ist einzeln buchbar). Mehr dazu finden Sie auf der Homepage der Online Akademie Astrologie Petra Dörfert. \nDie nächste Grundausbildung startet im kommenden Januar!
URL:https://www.astrologenverband.de/terminkalender/einjaehrige-online-grundausbildung-astrologie-19/
LOCATION:Online\, Deutschland
CATEGORIES:DAV Ausbildungszentrum,Seminar Online
ORGANIZER;CN="Online%20Akademie%20Astrologie%20Petra%20D%C3%B6rfert%20%2F%20DAV%20Ausbildungszentrum":MAILTO:info@online-akademie-astrologie.com
END:VEVENT
BEGIN:VEVENT
DTSTART;TZID=Europe/Berlin:20260617T181500
DTEND;TZID=Europe/Berlin:20260617T201500
DTSTAMP:20260424T062546
CREATED:20260409T105504Z
LAST-MODIFIED:20260409T105934Z
UID:10006088-1781720100-1781727300@www.astrologenverband.de
SUMMARY:Online-Seminar: Praxis der Stundenastrologie
DESCRIPTION:Horoskope können nicht nur für Menschen gedeutet werden\, sondern ebenso für Ereignisse und für besondere Fragen. Zum Beispiel für Begegnungen\, Vertragsunterschriften oder Wohnungsbesichtigungen. \nDas Fundament einer neuen Situation und alles\, was darauf aufbaut\, zeigt sich am besten im Ereignishoroskop. Steht eine Entscheidung noch bevor\, hat es sich hingegen bewährt\, das Horoskop für den Moment der Fragestellung zu deuten. Dies zeigt dann\, was hinter der Frage steht und wie sich die Situation entwickeln wird. \n\nDarüber hinaus ermöglicht die Stundenastrologie Einblicke in größeres gesellschaftliches Geschehen. Hier sind Horoskope von Wahlen und von Staatengründungen besonders interessant. Aber auch aktuelle Konstellationen sowie die Zeichenwechsel wichtiger Planeten sollten beachtet werden\, wenn wir wissen möchten\, welche Themen anstehen. \nEin weiterer Bereich der Stundenastrologie ist dann noch die Terminplanung\, zum Beispiel für eine Geschäftseröffnung oder eine bevorstehende Operation. Hier gibt es stichhaltige Erfahrungswerte\, die wir unbedingt berücksichtigen sollten. \nIm Verlauf des Kurses werden wir mit vielen Beispielhoroskopen üben\, auch zu aktuellen Anlässen. Für die Deutung kommen wichtige Regeln der klassischen Astrologie zur Anwendung. Hier prüfen wir\, welche alten Regeln in der heutigen Realität bestehen können und welche neu beleuchtet werden müssen. Außerdem werden wir Elemente aus der Münchner Rhythmenlehre verwenden. Denn die wirken in Stundenhoroskopen ähnlich wie in Geburtshoroskopen. So können wir zusätzlich von den Stundenhoroskopen lernen\, persönliche Konstellationen bildhafter zu verstehen. \n\n\n\nTHEMEN \n\nGrundlagen der Stundenastrologie\nDeutung und Sinn von Ereignishoroskopen\nDeutung von Fragehoroskopen\nSiebener-Rhythmus und Prognosemethoden im Stundenhoroskop\nAstrologische Terminplanung\nHoroskope für Heilbehandlungen und OPs\nHoroskope für politische Ereignisse\nMundankonstellationen\nSinnvolle neue und alte Methoden der Deutung\n\n\nBeginn: Mi. 13.5.2026 \nZeit: 18.15 – 20.15 Uhr \nDauer: 12 Abende\, mittwochs \nKursgebühr: 420 Euro \n\nOrt: Online-Seminar der Astrologie-Schule Bremen \nVoranmeldung
URL:https://www.astrologenverband.de/terminkalender/online-seminar-praxis-der-stundenastrologie/2026-06-17/
LOCATION:Online\, Astrologie-Schule Bremen\, Deutschland
CATEGORIES:DAV Regionalstelle,Fernstudium,Seminar Online
END:VEVENT
BEGIN:VEVENT
DTSTART;TZID=Europe/Berlin:20260617T190000
DTEND;TZID=Europe/Berlin:20260617T203000
DTSTAMP:20260424T062546
CREATED:20260310T085952Z
LAST-MODIFIED:20260310T090123Z
UID:10005992-1781722800-1781728200@www.astrologenverband.de
SUMMARY:Online-Vortrag: T-Quadrat - Spannung als Lebensmotor\, Adolphe Appia als Fallstudie
DESCRIPTION:Online-Vortrag am 17.06.2026 um 19:00-20:30 Uhr mit Dr. Erik Lehne \nIm Mittelpunkt steht das T-Quadrat\, eine herausfordernde\, aber sehr kraftvolle Aspektfigur im Horoskop\, die innere Spannungen und großes Entwicklungspotenzial anzeigt. Anhand des Geburtshoroskops des Theaterreformers Adolphe Appia wird gezeigt\, wie Auslösungen dieses T-Quadrats durch primäre Direktionen und Transite mit wichtigen Erfolgen und Krisen seines Lebens zusammenhängen. Ergänzend werden weitere Beispiele betrachtet und diskutiert\, wann solche Spannungen blockierend wirken und wann sie kreative Kraft freisetzen. Abschließend gibt es eine Fragerunde und Diskussion. \n  \n \n  \nDr. Erik Lehne\nErik ist promovierter Naturwissenschaftler\, Manager in einem internationalen Technologiekonzern und ausgebildeter Astrologe. Seine Leidenschaft gilt der Verbindung von Wissenschaft und astrologischer Symbolsprache. Er erforscht seit fünf Jahren die Tiefendimensionen der Astrologie – mit besonderem Fokus auf klassische Techniken\, psychologische Deutung und spirituelle Entwicklung. Mehr zu Dr. Erik Lehne. \n  \nÜber diesen Link kannst du den Online-Vortrag buchen und erhälst weitere Infos per Mail: \nhttps://astrologie-ausbildung.eu/online-workshops/t-quadrat-spannung-als-lebensmotor-adolphe-appia-als-fallstudie \nDie Vorträge und Workshops der Astropraxis vermitteln euch \n\nganzheitlich fundierte Techninken zur Horoskopanalyse\nKompetenz in der Beratung\ntiefenpsychologische Aspekte einfühlsam entdeckt\nund wir geben euch Raum zum Austausch eigener Horoskope.\n\nWerde Teil einer offenen und unterstützenden Gemeinschaft\, erlebe die Kraft astrologischer Selbsterkenntnis\, in der Lernen und persönliches Wachstum im Mittelpunkt steht. \n  \n  \n  \n  \n 
URL:https://www.astrologenverband.de/terminkalender/online-vortrag-t-quadrat-spannung-als-lebensmotor-adolphe-appia-als-fallstudie/
LOCATION:Online-Zoom-Veranstaltung\, Astropraxis Helen Fritsch\, Deutschland
CATEGORIES:DAV Ausbildungszentrum,Vortrag Online
END:VEVENT
BEGIN:VEVENT
DTSTART;TZID=Europe/Berlin:20260617T193000
DTEND;TZID=Europe/Berlin:20260617T213000
DTSTAMP:20260424T062546
CREATED:20250202T132254Z
LAST-MODIFIED:20250202T133029Z
UID:10004724-1781724600-1781731800@www.astrologenverband.de
SUMMARY:Online-Ausbildung Astromedizin (21/Abschluss)
DESCRIPTION:In 21 Abenden (jeweils mittwochs von 19:30 – 21:30 Uhr) erhalten Sie durch die Astrologin Petra Dörfert eine umfassende Einführung in die Astromedizin. Neben den Grundlagen (Zuordnung von Organen und Krankheiten zu den Tierkreiszeichen\, Häusern und Planeten) beschäftigen wir uns mit zahlreichen körperlichen und psychischen Erkrankungen\, der Frage der Prävention\, der Kinderwunschberatung sowie der Berechnung von OP-Terminen. \nSämtliche Informationen zur Ausbildung finden Sie hier. \nFür die Anmeldung nehmen Sie bitte per E-Mail oder telefonisch Kontakt mit mir auf (siehe unten)\, dann sende ich Ihnen das Anmeldeformular zu. \nDer nächste Astromedizin-Zyklus startet im kommenden September!
URL:https://www.astrologenverband.de/terminkalender/online-ausbildung-astromedizin-20/
LOCATION:Online\, Deutschland
CATEGORIES:DAV Ausbildungszentrum,Seminar Online
ORGANIZER;CN="Online%20Akademie%20Astrologie%20Petra%20D%C3%B6rfert%20%2F%20DAV%20Ausbildungszentrum":MAILTO:info@online-akademie-astrologie.com
END:VEVENT
BEGIN:VEVENT
DTSTART;VALUE=DATE:20260620
DTEND;VALUE=DATE:20260622
DTSTAMP:20260424T062546
CREATED:20260217T075520Z
LAST-MODIFIED:20260217T075731Z
UID:10005971-1781942400-1782028799@www.astrologenverband.de
SUMMARY:OEAV Kongress "Kostbarkeiten der Astrologie"
DESCRIPTION:Liebe Mitglieder!\nLiebe Freunde der Astrologie! \nWir freuen uns\, Sie zu unserem Kongress am 20. Juni 2026 nach Graz einladen zu dürfen.\nUnter dem Motto „Kostbarkeiten der Astrologie“ erwartet Sie ein inspirierender Tag mit spannenden Vorträgen und wertvollem Austausch. \nVeranstaltungsort:\nHotel Bokan\, Mainersbergstraße 1\, 8051 Graz \nTeilnahmebeitrag:\n€ 95\,00 für oeav-Mitglieder und oeav-Fachmitglieder\n€ 160\,00 für Nicht-Mitglieder \nDas Mittagessen ist nicht im Ticketpreis enthalten; dieses kann gerne im benachbarten Gasthaus Bokan eingenommen werden.\nAm Nachmittag ist für Ihr leibliches Wohl gesorgt – die Verpflegung ist im Kongressticket enthalten.\nSollten Sie eine Übernachtung benötigen\, ersuchen wir Sie\, Ihre Zimmerreservierung direkt beim Seminarhotel Bokan vorzunehmen.\nDie Übernachtung ist nicht im Ticketpreis inkludiert. \nAlle weiteren Informationen zum Programm und zu den Vortragenden finden Sie hier:\nhttps://www.astrologenverband.at/veranstaltungen-2/kostbarkeiten-der-astrologie-kongress-graz/ \nWir freuen uns auf einen besonderen Kongresstag mit Ihnen in Graz! \nMit lieben Grüßen \nIhr oeav-Team\n_______________________________________ \nÖsterreichischer Astrologenverband – oeav\nSekretariat: Mitterstraße 141\n8055 Graz-Seiersberg\nveranstaltungen@astrologenverband.at\nwww.astrologenverband.at
URL:https://www.astrologenverband.de/terminkalender/oeav-kongress-kostbarkeiten-der-astrologie/
LOCATION:Graz\, Österreich\, Graz\, Österreich
CATEGORIES:Seminar Präsenz,Vortrag Präsenz
END:VEVENT
BEGIN:VEVENT
DTSTART;TZID=Europe/Berlin:20260620T100000
DTEND;TZID=Europe/Berlin:20260621T160000
DTSTAMP:20260424T062546
CREATED:20260218T175131Z
LAST-MODIFIED:20260218T175152Z
UID:10005978-1781949600-1782057600@www.astrologenverband.de
SUMMARY:Astrologische Symbolaufstellungen – Veränderungen jenseits des Verstehens
DESCRIPTION:Astrologische Symbolaufstellungen – Veränderungen jenseits des Verstehens\nEin erfahrungsbasierter Zugang zu festgefahrenen Themen\nNächster Termin: 20. und 21. Juni 2026\, Bremen\nEs gibt Themen\, die begleiten uns hartnäckig.Unabhängig davon\, wie viel wir reflektieren\, verstehen oder bereits ausprobiert haben. \n\nBlockaden\, die sich nicht aufzulösen scheinen\nimmer wieder scheitern an der nächsten Karrierestufe\nunerwartete Brüche in Beziehungen\nKonflikte\, die sich durch verschiedene Situationen ziehen\neigenes Verhalten\, das du dir nicht erklären kannst\nemotionale Reaktionen ohne klar erkennbare äußere Auslöser\ndas Gefühl\, ein Thema immer wieder zu sehen und trotzdem nicht greifen zu könnenals würdest du nach einem Faden oder einem Seil greifen und es entgleitet dir jedes Mal\n\nOft entsteht genau hier dieser innere Widerspruch:Ich verstehe\, worum es geht und trotzdem ändert sich nichts. \nFür solche Themen kann eine astrologische Symbolaufstellung ein außergewöhnlich wirksamer Zugang sein. \n\nAstrologische Symbolaufstellung als wirkungsvolle Ergänzung\nIn einer astrologischen Beratung zeige ich klare Strukturen auf. Du findest Worte. Du verstehst Muster. Das ist wertvoll und sehr klärend. \nUnd trotzdem kennen viele Menschen das Phänomen\, dass dieses Verstehen nicht automatisch zu Veränderung führt. Der Kopf hat es begriffen. Das eigene System lebt es noch nicht anders. \nDie astrologische Symbolaufstellung ist keine Alternative zur Beratung sondern eine kraftvolle Ergänzung. Sie erweitert die analytische Ebene um eine erfahrungsbasierte Dimension.Gerade Menschen\, die bereits astrologische Beratung kennen\, erleben hier oft eine zusätzliche Tiefe. \nBeides ergänzt sich genial. Die Synergie bringt Ergebnisse hervor\, die mehr sind als die Summe der Teile. Es ist eher so etwas wie eine Potenzierung. Es braucht keine Reihenfolge. Du kannst auch ohne Vorerfahrung teilnehmen. \n\nWas in einer astrologischen Symbolaufstellung erfahrbar wird\nIch arbeite mit einem Horoskopteppich\, der am Boden ausgelegt wird. Für die persönlichen astrologischen Konstellationen werden symbolische Anker genutzt. \nDas ist kein Vortrag. Es ist kein Zuschauen. Die Aufstellung ist ein Mitmachformat\, das ich anleite.Du bist Teil des Geschehens. Im Mittelpunkt steht das Wahrnehmen. Nicht das Erklären. \nViele beschreiben diesen Moment so\, als würde sich eine Tür öffnen. Was vorher wie ein zweidimensionales Schwarz-Weiß-Bild wirkte\, wird plötzlich dreidimensional räumlich\, farbig und lebendig. \nZusammenhänge werden vollständiger. Nicht gedacht\, sondern gespürt. Und genau hier beginnen sich Dinge neu zu ordnen. \n\nOffenheit statt Planbarkeit\nEine astrologische Symbolaufstellung ist nicht planbar wie eine Beratung mit klarer Struktur und Zielsetzung. Wir lassen uns auf den jeweiligen Augenblick ein. Auf das\, was sich zeigt. \nIch kann nicht versprechen\, was konkret dabei entsteht. Ich kann aber aus langjähriger Erfahrung sagen\, dass jede Aufstellung Erkenntnisse hervorbringt\, die tiefgreifend und lebensverändernd sein können. \n\nFür wen diese Arbeit besonders geeignet ist\nEine astrologische Symbolaufstellung ist für dich passend\, wenn du: \n\nein wiederkehrendes Thema hast\, das sich logisch bislang nicht auflösen ließ\nspürst\, dass reines Verstehen dir nicht mehr ausreicht\noffen bist für eine intuitive\, erfahrungsbasierte Arbeitsweise\nbereit bist\, dich auf praktisches Erleben einzulassen\n\nDu brauchst keine Vorkenntnisse in Astrologie. Du brauchst keine Erfahrung mit Aufstellungsarbeit. \nAuch als Stellvertreterin oder Stellvertreter erleben viele Menschen\, dass sich unerwartet eigene Themen bewegen. Selbst solche\, die vorher gar nicht benannt wurden. \nAnmeldung\nDie Plätze sind begrenzt. Wenn du teilnehmen möchtest\, melde dich auf der Webseite über das Anmeldeformular an.
URL:https://www.astrologenverband.de/terminkalender/astrologische-symbolaufstellungen-veraenderungen-jenseits-des-verstehens/
LOCATION:Ralf-Besser-Stiftung\, Upper Borg 147\, Bremen\, Bremen\, 28357\, Deutschland
CATEGORIES:Seminar Präsenz
ORGANIZER;CN="Franziska%20Engel":MAILTO:kontakt@unternehmen-astrologie.de
END:VEVENT
BEGIN:VEVENT
DTSTART;TZID=Europe/Berlin:20260620T180000
DTEND;TZID=Europe/Berlin:20260627T130000
DTSTAMP:20260424T062546
CREATED:20251231T080836Z
LAST-MODIFIED:20251231T081616Z
UID:10005883-1781978400-1782565200@www.astrologenverband.de
SUMMARY:Impuls-Urlaub mit und unter den Sternen
DESCRIPTION:Bitte schauen Sie sich das kurze Video (4:23Min) an und lassen Sie sich schon jetzt inspirieren: https://www.astrologieundmeer.de/
URL:https://www.astrologenverband.de/terminkalender/impuls-urlaub-mit-und-unter-den-sternen/
LOCATION:Julianadorp\, Niederlande\, 1787 CX Julianadorp aan Zee\, Julianadorp aan Zee\, Netherlands
CATEGORIES:Seminar Präsenz,Vortrag Präsenz
ORGANIZER;CN="Astrologium":MAILTO:info@astrologium.de
END:VEVENT
END:VCALENDAR