BEGIN:VCALENDAR
VERSION:2.0
PRODID:-//Astrologie | Deutscher Astrologenverband e.V. - ECPv6.1.0//NONSGML v1.0//EN
CALSCALE:GREGORIAN
METHOD:PUBLISH
X-WR-CALNAME:Astrologie | Deutscher Astrologenverband e.V.
X-ORIGINAL-URL:https://www.astrologenverband.de
X-WR-CALDESC:Veranstaltungen für Astrologie | Deutscher Astrologenverband e.V.
REFRESH-INTERVAL;VALUE=DURATION:PT1H
X-Robots-Tag:noindex
X-PUBLISHED-TTL:PT1H
BEGIN:VTIMEZONE
TZID:Europe/Berlin
BEGIN:DAYLIGHT
TZOFFSETFROM:+0100
TZOFFSETTO:+0200
TZNAME:CEST
DTSTART:20260329T010000
END:DAYLIGHT
BEGIN:STANDARD
TZOFFSETFROM:+0200
TZOFFSETTO:+0100
TZNAME:CET
DTSTART:20261025T010000
END:STANDARD
END:VTIMEZONE
BEGIN:VEVENT
DTSTART;TZID=Europe/Berlin:20260420T183000
DTEND;TZID=Europe/Berlin:20260420T210000
DTSTAMP:20260422T021125
CREATED:20250802T110858Z
LAST-MODIFIED:20250802T110858Z
UID:10005526-1776709800-1776718800@www.astrologenverband.de
SUMMARY:Astrologische Psychologie Grundlagen Level 1
DESCRIPTION:Das Einmaleins der Astrologie – einfach\, klar und übersichtlich  \nDu lernst die wichtigsten Vokabeln eines Horoskopes. Planeten\, Häuser \, Aspekte. Und gelernt wird natürlich immer am eigenen Horoskop. Das ist spannend und lehrreich zugleich. Du brauchst keine Vorkenntnisse\, sondern Neugier und einen offenen Geist. Diese Grundlagenkurse Level 1 mit den Modulen 0 bis 12 ist die erste Stufe eines dreigliedrigen zertifizierten Systems. Im Level 2 lernst Du dann alles über die Astrologische Psychologie. \n\nInhalte \nModul 0: Grundsätzliches zur Astrologie\, zum Horoskop und zur Astrologischen Psychologie \nModul 1: Widder\, Mars\, 1. Haus / Grundbegriffe \nModul 2: Stier\, Venus\, 2. Haus / Das Horoskop als Raumgefüge \nModul 3: Zwillinge\, Merkur\, 3. Haus / Grundlagen der Aspekte \nModul 4: Krebs\, Mond\, 4. Haus / Die 5 Schichten des Horoskopes \nModul 5: Löwe\, Sonne\, 5. Haus / Grundlagen des Alterspunktes \nModul 6: Jungfrau\, 6. Haus / Grundlagen und Funktionsweise der Astrologie \nModul 7: Waage\, 7. Haus / Grundlagen der Prognose \nModul 8: Skorpion\, Pluto\, 8. Haus / Der Entwicklungsgedanke \nModul 9: Schütze\, Jupiter\, 9. Haus / Die Planetentafel \nModul 10: Steinbock\, Saturn\, 10. Haus / Die Symbolsprache \nModul 11: Wassermann\, Uranus\, 11. Haus / Die 3 Ebenen des ICH \nModul 12: Fische\, Neptun\, 12. Haus / Die Entwicklung der Persönlichkeitsplaneten \n\nZur Referentin Saskia Borchardt:\nSaskia Borchardt ist zertifizierte Astrologisch-Psychologische Beraterin und Lehrerin der Huber-Methode. \nOnline\nDie Online-Seminare finden live als Zoom-Meetings statt. Sie sind keine vorab aufgezeichneten Kurse zum Selbststudium\, sondern Live-Schulungen mit persönlicher Betreuung. \nUmfang\, Ablauf und Termine\nDie Ausbildung Grundlagen dauert ca. ein halbes Jahr. Die Online-Seminare finden immer Montags statt von 18.30 bis 21 Uhr. Die Arbeitsunterlagen werden jeweils zur Verfügung gestellt. \nAbschluss Level 1\nZertifikat I Grundlagen Astrologie\nDie Grundlagen dienen als Voraussetzung für den Einstieg in das Studium Astrologische Psychologie Level 2 (Huber-Methode)
URL:https://www.astrologenverband.de/terminkalender/astrologische-psychologie-grundlagen-level-1/2026-04-20/
LOCATION:Online / Schule Lummer und Borchardt
CATEGORIES:Seminar Online
ORGANIZER;CN="Astrologische%20Psychologie%20Birgit%20Lummer%20und%20Saskia%20Borchardt":MAILTO:astro@lummer.de
END:VEVENT
BEGIN:VEVENT
DTSTART;TZID=Europe/Berlin:20260420T193000
DTEND;TZID=Europe/Berlin:20260420T213000
DTSTAMP:20260422T021125
CREATED:20250129T151833Z
LAST-MODIFIED:20250210T165258Z
UID:10004610-1776713400-1776720600@www.astrologenverband.de
SUMMARY:Online-Aufbaukurs Partnerschaftsastrologie (4)
DESCRIPTION:in 15 Abend-Webinaren (jeweils montags 19:30 Uhr – 21:30 Uhr) erhalten sie durch die Astrologin Petra Dörfert eine umfassende Einführung in das Thema Partnerschaftsastrologie. Kursinhalte sind neben den Methoden Synastrie\, Composit und Combin die gründliche Analyse der Radix auf Partnerschaftsthemen hin sowie die Frage\, wie man typische Partnerschaftsprobleme erkennt und löst. \nSämtliche Informationen zur Ausbildung finden Sie hier. \nFür die Anmeldung nehmen Sie bitte per E-Mail oder telefonisch Kontakt mit mir auf (siehe unten)\, dann sende ich Ihnen das Anmeldeformular zu. \nDer Aufbaukurs Partnerschaftsastrologie richtet sich an Fortgeschrittene und ist Teil der 3-4-jährigen Online-Ausbildung Astrologie mit dem einjährigen Grundkurs und den weiteren Aufbaukursen Prognose\, Beratertraining und DAV-Prüfungsvorbereitung (jedes Modul ist einzeln buchbar). Mehr dazu finden Sie auf der Homepage der Online Akademie Astrologie Petra Dörfert.
URL:https://www.astrologenverband.de/terminkalender/online-aufbaukurs-partnerschaftsastrologie-4/
LOCATION:Online\, Deutschland
CATEGORIES:DAV Ausbildungszentrum,Seminar Online
ORGANIZER;CN="Online%20Akademie%20Astrologie%20Petra%20D%C3%B6rfert%20%2F%20DAV%20Ausbildungszentrum":MAILTO:info@online-akademie-astrologie.com
END:VEVENT
BEGIN:VEVENT
DTSTART;TZID=Europe/Berlin:20260421T180000
DTEND;TZID=Europe/Berlin:20260421T193000
DTSTAMP:20260422T021125
CREATED:20260218T171408Z
LAST-MODIFIED:20260218T171408Z
UID:10005977-1776794400-1776799800@www.astrologenverband.de
SUMMARY:Astrogeografie in der Praxis
DESCRIPTION:Astrogeografie in der Praxis \nOnline-Gruppe zum Üben der Astrogeografie\n– Übungstermine immer am ersten und dritten Dienstag des Monats\nPraxisnah. Kollegial. Mit astrologischer Tiefe.\nStell dir vor\, du könntest mit einem Blick auf die Karte erkennen\, wo dich das Leben ruft – und warum. Ob für deine Klient:innen oder für dich selbst: In dieser Community übst du Astrogeografie mit echtem Tiefgang\, echter Praxis und echtem Austausch. Wenn du deine Deutungen auf das nächste Level bringen willst – herzlich willkommen! \n\nWas dich erwartet\n✔ Zwei Live-Übungstermine pro Monat \nGemeinsame Zoom-Meetings mit echten Anliegen aus der Praxis. Teilweise mit externen Gästen\, die aktuelle Fragen zu Wohnorten\, Auswanderung oder Standortwahl mitbringen. Du bekommst die Daten vorab und kannst deine Deutung vorbereiten. Im Termin gibt es Feedback von mir und aus der Gruppe. \n✔ Aufzeichnungen im Kursbereich\nAlle Termine werden aufgezeichnet und stehen dir jederzeit zum Nachschauen zur Verfügung. \n✔ Lernbereich für Astrogeografie-Anfänger:innen \nInnerhalb der Community gibt es einen zubuchbaren Bereich\, in dem alle\, in die Astrogeografie einsteigen wollen\, die Grundlagen erlernen können. \n✔ Austausch auf Augenhöhe\nDu kannst eigene Deutungen posten\, Fragen stellen und dich mit anderen austauschen. Die Community lebt vom Miteinander: Du vertiefst dein Wissen\, indem du anderen hilfst und deine Gedanken in Worte fasst. \n✔ Feedback & Begleitung\nDu bekommst regelmäßig Rückmeldung zu deinen Deutungen – von mir und den anderen Mitgliedern. So entwickelst du nach und nach Sicherheit und ein gutes Gespür für die Methoden. \n\nDie Methoden\nWir arbeiten mit allen wichtigen Techniken der Astrogeografie: \n\nAstrokartografie\nRelokationshoroskope\nLocal Space\nCyclokartografie\nAstrogeografie in Partnerschaften\n\n\nFür wen ist die Community geeignet?\nDiese Community richtet sich an: \n\nAstrolog:innen und Astrologie-Interessierte mit Deutungserfahrung\nberatende Astrolog:innen\, die ihre Kompetenz in der Astrogeografie ausbauen möchten\nalle\, die nicht nur lernen\, sondern üben wollen\nAstrolog:innen mit Erfahrung in der Astrogeografie\, die sich einen inspirierenden Austausch mit anderen Praktiker:innen wünschen\, neue Perspektiven entdecken und mit spannenden Fällen in Kontakt kommen möchten – zur eigenen Weiterentwicklung und zur Bereicherung ihrer Beratungen\n\n\nWas diese Community besonders macht\nHier lernst du nicht allein: Du wirst Teil einer lebendigen Gruppe\, in der kollegiales Lernen und gemeinsames Wachsen im Mittelpunkt stehen. Du profitierst von echter Praxis\, vielfältigen Perspektiven und kontinuierlicher Begleitung. \nDie Community wird von mir\, Franziska Engel\, geleitet. Ich bin seit 2007 als beratende Astrologin tätig\, geprüfte Astrologin (DAV) seit 2011\, habe rund 3.000 Beratungsklient:innen begleitet und seit 2018 Erfahrung in der Leitung von Online-Kursen. Du profitierst also nicht nur von fundiertem Fachwissen\, sondern auch von langjähriger praktischer Erfahrung – in der astrologischen Arbeit und im Online-Setting. \n\nWarum Astrogeografie in der Community lernen?\n\nDu erkennst\, wo du dein Potenzial als Berater:in am besten leben kannst\nDu entwickelst Sicherheit in der deutlichen Kommunikation mit Klient:innen\nDu wirst Teil eines Netzwerks\, das dich fachlich und menschlich wachsen lässt\nDu sparst Zeit\, indem du von den Erfahrungen anderer profitierst\nDu bekommst regelmäßig neue Impulse und verlierst das Thema nicht aus dem Blick\n\nHier geht’s direkt zur Community – Astrogeografie in der Praxis \n 
URL:https://www.astrologenverband.de/terminkalender/astrogeografie-in-der-praxis-5/
LOCATION:Franziska Engel – Online per Zoom
CATEGORIES:Seminar Online
END:VEVENT
BEGIN:VEVENT
DTSTART;TZID=Europe/Berlin:20260421T190000
DTEND;TZID=Europe/Berlin:20260421T210000
DTSTAMP:20260422T021125
CREATED:20250726T161603Z
LAST-MODIFIED:20250726T161603Z
UID:10005456-1776798000-1776805200@www.astrologenverband.de
SUMMARY:Online-Grundausbildung Astrologie 2026 (12)
DESCRIPTION:Die beliebte Astrologos-Grundausbildung wird ab 13. Januar 2026 erneut angeboten. Im Verlauf von 30 Abenden und einem Tagesseminar vor Ort werden die Deutungsansätze der wichtigen Astrologie-Schulen systemübergreifend vermittelt. Psychologische Theorien und Konzepte ergänzen die Inhalte\, so dass Sie die astrologischen Symbole sinnvoll in ihrer Arbeit einsetzen können. \nIm Verlauf von zwei Grundstufen lernen Sie\, Horoskope zu deuten und entdecken schrittweise das uralte Wissen der Astrologie. Gleichzeitig lernen Sie ihr persönliches Horoskop kennen und entdecken so einem Weg der Selbstentwicklung und Selbstentfaltung. \nIm Anschluss an jeden Abend erhalten Sie das Video und zu jedem Thema ein ausführliches Skript\, so dass Sie verpasste Termine nacharbeiten können. \nEin kostenloser Infoabend zu dieser Astrologie-Ausbildung findet am 12. November 2025 statt. \nAusführliche Informationen zur Ausbildung finden Sie auf der Astrologos-Website. Für weitere Informationen und die Anmeldung nehmen Sie bitte per E-Mail oder telefonisch Kontakt mit mir auf. \nDie E-Mail-Adresse ist: kontakt@astrologos.de\, die Telefonnummer: 0234-683723.
URL:https://www.astrologenverband.de/terminkalender/online-grundausbildung-astrologie-2026-12/
LOCATION:DAV-Zentrum Bochum-Ruhrgebiet\, Deutschland
CATEGORIES:DAV Ausbildungszentrum,Seminar Online
ORGANIZER;CN="DAV-Astrologiezentrum%20Ruhrgebiet":MAILTO:kontakt@astrologos.de
END:VEVENT
BEGIN:VEVENT
DTSTART;TZID=Europe/Berlin:20260421T193000
DTEND;TZID=Europe/Berlin:20260421T213000
DTSTAMP:20260422T021125
CREATED:20250129T155541Z
LAST-MODIFIED:20250210T180832Z
UID:10004633-1776799800-1776807000@www.astrologenverband.de
SUMMARY:Einjährige Online-Grundausbildung Astrologie (12)
DESCRIPTION:In 31 Abend-Webinaren (jeweils dienstags 19:30 – 21:30 Uhr) bis Dezember erhalten Sie durch die Astrologin Petra Dörfert eine umfassende Einführung in die Horoskopdeutung. Alle Termine finden live statt\, so dass viel Zeit für Fragen und gemeinsames Üben bleibt. Unterrichtsbegleitende Materialien runden den Kurs ab. \nAlle Informationen zur Ausbildung finden Sie hier. \nFür die Anmeldung nehmen Sie bitte per E-Mail oder telefonisch Kontakt mit mir auf (siehe unten)\, dann sende ich Ihnen das Anmeldeformular zu. \nDer Grundkurs ist Teil der 3-4-jährigen Online-Ausbildung Astrologie mit den Aufbaukursen Prognose\, Partnerschaftsastrologie\, Beratertraining und DAV-Prüfungsvorbereitung (jedes Modul ist einzeln buchbar). Mehr dazu finden Sie auf der Homepage der Online Akademie Astrologie Petra Dörfert. \nDie nächste Grundausbildung startet im kommenden Januar!
URL:https://www.astrologenverband.de/terminkalender/einjaehrige-online-grundausbildung-astrologie-12-2/
LOCATION:Online\, Deutschland
CATEGORIES:DAV Ausbildungszentrum,Seminar Online
ORGANIZER;CN="Online%20Akademie%20Astrologie%20Petra%20D%C3%B6rfert%20%2F%20DAV%20Ausbildungszentrum":MAILTO:info@online-akademie-astrologie.com
END:VEVENT
BEGIN:VEVENT
DTSTART;TZID=Europe/Berlin:20260422T173000
DTEND;TZID=Europe/Berlin:20260422T190000
DTSTAMP:20260422T021125
CREATED:20260414T202723Z
LAST-MODIFIED:20260414T203528Z
UID:10006363-1776879000-1776884400@www.astrologenverband.de
SUMMARY:Workshop - Horoskope deuten mit KI
DESCRIPTION:Online-Seminar für astrologisch Interessierte mit und ohne Vorkenntnisse \nWie lässt sich Künstliche Intelligenz sinnvoll für die astrologische Deutung nutzen? In diesem Online-Seminar erfahren Sie\, wie große Sprachmodelle dabei helfen können\, Horoskope verständlich\, differenziert und mit unterschiedlichen Schwerpunkten zu interpretieren. \nAnhand praxisnaher Beispiele wird gezeigt\, wie KI astrologische Deutungstexte erstellt\, welche Unterschiede es zwischen verschiedenen Sprachmodellen gibt und wie Sie zu brauchbaren\, qualitativ überzeugenden Ergebnissen gelangen. Sie lernen\, worauf es bei der Eingabe ankommt\, welche KI-Systeme sich eignen und wie Sie diese gezielt für Ihre eigene astrologische Praxis einsetzen können. \nEin besonderer Schwerpunkt des Seminars liegt auf der praktischen Anwendung: Es wird live vorgeführt\, wie ein Geburtshoroskop mithilfe von KI gedeutet werden kann — bis hin zu einer vollständigen Interpretation mit unterschiedlichen thematischen Schwerpunkten. \nDas Seminar richtet sich sowohl an Einsteigerinnen und Einsteiger als auch an Fortgeschrittene. Vorkenntnisse im Umgang mit KI sind nicht erforderlich. Auch astrologisch Interessierte mit ersten oder vertieften Kenntnissen profitieren von den anschaulichen Beispielen und konkreten Anwendungsmöglichkeiten. \nInhalte des Seminars: \n\nWie gehe ich bei der Deutung mit KI konkret vor?\nWelche KI kann genutzt werden?\nWie formuliere ich Eingaben\, damit brauchbare Ergebnisse entstehen?\nWelche Unterschiede gibt es zwischen verschiedenen Sprachmodellen?\nWie lässt sich ein vollständig gedeutetes Geburtshoroskop mit unterschiedlichen Schwerpunkten erstellen?\n\nLive-Vorführung:Gemeinsam erleben wir\, wie ein Geburtshoroskop live von einer KI gedeutet wird. \nFormat:ZOOM-Veranstaltung \nDer Einladungslink wird nach erfolgter Anmeldung und Bezahlung versandt. \nHier geht es zur Buchung:  Horoskope deuten mit KI
URL:https://www.astrologenverband.de/terminkalender/workshop-horoskope-deuten-mit-ki/
LOCATION:Online / Thomas Weyer-Eberling\, Deutschland
CATEGORIES:Seminar Online
ORGANIZER;CN="Thomas%20Weyer-Eberling":MAILTO:thomas@zelest-astrologie.de
END:VEVENT
BEGIN:VEVENT
DTSTART;TZID=Europe/Berlin:20260422T190000
DTEND;TZID=Europe/Berlin:20260422T194500
DTSTAMP:20260422T021125
CREATED:20260310T093814Z
LAST-MODIFIED:20260310T094814Z
UID:10005997-1776884400-1776887100@www.astrologenverband.de
SUMMARY:Einführung in die Traditionelle Astrologie (Online)
DESCRIPTION:Online Ausbildung Traditionelle Astrologie: Einführung – Modul 1 \nDiese Einführung gibt einen Einblick\, wie traditionelle Astrologie funktioniert und zeigt\, wie sich erste Deutungsschritte ableiten lassen. Der Kurs ist in sich abgeschlossen und gleichzeitig Teil der dreijährigen Online-Ausbildung in traditioneller Astrologie. Im Anschluss daran startet (dienstags abends) die einjährige Online-Ausbildung „Traditionelle Radixdeutung“.\nIn der Einführung geht es um den Aufbau und Besonderheiten eines traditionellen Horoskops. Zudem bietet sie einen verständlichen Einstieg in zentrale Grundlagen wie den Tierkreis\, Elemente und Qualitäten\, Planeten\, Häuser\, Aspekte und Würden. \n\nVorkenntnisse sind nicht erforderlich.\nSechs Abende mit jeweils 120 Minuten Live-Unterricht über Zoom\nErgänzt durch begleitende Materialien (PDF-Handouts\, freiwillige Übungen)\nFrühbucherrabatt ab Anfang April\n\nTermine: 15.04.2026 – 22.04.2026 – 29.04.2026 – 06.05.2026 – 13.05.2026 – 20.05.2026 \nAm 8. April 2026 um 19:00 Uhr findet eine 30-minütige Online-Begrüßungsrunde statt.\nDieses freiwillige Treffen dient dem Kennenlernen\, organisatorischen Hinweisen und der Orientierung im Ablauf.\nDie Begrüßung wird nicht aufgezeichnet. \nAnmeldung: Trage dich gern schon jetzt per Mail an info@birgitvonborstel.de in die Interessentenliste ein und erhalte eine persönliche Nachricht zum Start des Frühbucherrabatts. \nMehr Info unter www.traditionelle-astrologie-akademie.de \n  \n 
URL:https://www.astrologenverband.de/terminkalender/einfuehrung-in-die-traditionelle-astrologie-online/2026-04-22/
LOCATION:Online Birgit von Borstel\, Traditionelle Astrologie Akademie
CATEGORIES:DAV Ausbildungszentrum,Seminar Online
ORGANIZER;CN="Birgit%20von%20Borstel%2C%20Ausbildungszentrum%20Prenzlauer%20Berg":MAILTO:info@birgitvonborstel.de
END:VEVENT
BEGIN:VEVENT
DTSTART;TZID=Europe/Berlin:20260424T170000
DTEND;TZID=Europe/Berlin:20260424T190000
DTSTAMP:20260422T021125
CREATED:20251117T171340Z
LAST-MODIFIED:20251117T171803Z
UID:10005799-1777050000-1777057200@www.astrologenverband.de
SUMMARY:Astro-Treffen in Bremen
DESCRIPTION:Viele Menschen beschäftigen sich mit Astrologie und haben hier bereits Grundwissen erlangt. Das stammt oft aus alten Seminaren oder aus Büchern. Um die eigenen Kenntnisse lebendig zu halten\, ist es jedoch sinnvoll\, sich regelmäßig auszutauschen. \nIn unserem Astro-Club findet nicht nur ein reger Austausch statt\, sondern es gibt für alle etwas zu lernen. Die gemeinsame Deutung von Horoskopen aus dem wirklichen Leben erleichtert dabei das Studium der Astrologie. So trainieren wir den klaren Blick auf die wesentlichen Themen im Horoskop. An jedem 2. Freitag treffen wir uns live in der Astrologie-Schule Bremen. \nAngewandt werden alle bewährten Methoden der Astrologie\, von der Klassik über die psychologische Astrologie bis hin zur Münchner Rhythmenlehre. Besondere Beachtung finden die Aspekte\, die Transite und die Auslösungen im Siebener-Rhythmus. Außerdem gibt es wichtige Infos zu Astronomie\, Geschichte und Kultur der Astrologie. \nZudem vergleichen wir gelegentlich die Methoden verschiedener Schulen und ihre sinvollen oder weniger sinnvollen Seiten im Praxistest. \nGelehrt wird insbesondere\, worauf zu achten ist\, wenn wir anderen ihre Konstellationen erklären\, privat oder in einer professionellen Beratung. Und wie auf konkrete Fragen einzugehen ist: Fragen nach Partnerschaft\, Gesundheit\, Wohnen\, Zukunft oder Beruf. Schließlich lernen die Teilnehmenden\, selbstständig Horoskope zu deuten\, zum Beispiel als schriftliche Hausaufgabe\, als Referat oder mit geladenen Gästen. \n\n\n\n\nTHEMEN\n \n\nPsychologische Astrologie\nMünchner Rhythmenlehre\nKlassische Astrologie\nAstrologie und Zeitgeschehen\nAktuelle Themen\nBewährte Prognosemethoden\nUnterschiedliche Richtungen der Astrologie im Praxistest\nZusammenhängende Deutung von Horoskopen\nDos and Don’ts in der astrologischen Beratung\n\n\n\n\n\n\nINFO\n\n\n\n\nBeginn: Fr. 30.1.2026 \nZeit: 17.00 – 19.00 Uhr \nDauer: 6 Abende\, jeden zweiten Freitag \nKursgebühr: 240 Euro \nOrt:  Astrologie-Schule Bremen \nTelefon: 0421-72929
URL:https://www.astrologenverband.de/terminkalender/astro-treffen-in-bremen-2/2026-04-24/
LOCATION:Astrologie-Schule Bremen\, Delmestraße 74\, Bremen\, 28199\, Deutschland
CATEGORIES:DAV Regionalstelle,Seminar Präsenz
END:VEVENT
BEGIN:VEVENT
DTSTART;TZID=Europe/Berlin:20260425T140000
DTEND;TZID=Europe/Berlin:20260426T170000
DTSTAMP:20260422T021125
CREATED:20260331T183929Z
LAST-MODIFIED:20260331T183929Z
UID:10006075-1777125600-1777222800@www.astrologenverband.de
SUMMARY:Astrologie-Grundausbildung 4 (von 10) mit Sabine Lechleuthner am 25. + 26. April 2026
DESCRIPTION:Astrologie- und Tarotschule München: In Kurs 4 (von 10) der Astrologie-Grundausbildung lautet unser Thema: Planeten in Sternzeichen und Häusern II\, Planeten an den 4 Achsen \nPräsenz-Seminar und gleichzeitig Live-Webinar. Der Kurs wird aufgezeichnet und zugesandt. \nZeit: Samstag\, 25. April von 14:00 – 19:00 Uhr\, Sonntag\, 26. April von 10:00 bis 17:00 Uhr mit 1 Std. Mittagspause von 13:00 – 14:00 Uhr \nPreis: 230 Euro \nInfo und Anmeldung: https://astro-tarot-muenchen.de/go/de/24-61/grundausbildung-astrologie-4-von-10 \nInteressentInnen\, die bestimmte Schwerpunktthemen aus dem Grundkurs\nwiederholen oder auffrischen wollen\, können gerne teilnehmen.\nAuch wenn Sie die Ausbildung woanders gemacht haben. \nSie erreichen mich auch unter: Tel: 089-436 22 97 oder Mail: info@astro-tarot-muenchen.de \nHerzliche Grüße \nSabine Lechleuthner
URL:https://www.astrologenverband.de/terminkalender/astrologie-grundausbildung-4-von-10-mit-sabine-lechleuthner-am-25-26-april-2026/
LOCATION:Treffpunkt Philosophie\, Schwanthaler Str. 91 /III\, München\, Bayern\, 80336
ORGANIZER;CN="Astrologie-%20und%20Tarotschule%20M%C3%BCnchen%20Sabine%20Lechleuthner":MAILTO:info@astro-tarot-muenchen.de
END:VEVENT
BEGIN:VEVENT
DTSTART;TZID=Europe/Berlin:20260426T110000
DTEND;TZID=Europe/Berlin:20260426T150000
DTSTAMP:20260422T021125
CREATED:20251005T070453Z
LAST-MODIFIED:20260310T163232Z
UID:10005669-1777201200-1777215600@www.astrologenverband.de
SUMMARY:Astrostammtisch Ruhrgebiet
DESCRIPTION:In unregelmäßigen Abstanden findet seit Mitte 2025 am Sonntag ein Astrostammtisch in Bochum statt\, im Café Konkret in der Nähe des Hauptbahnhofs. Das Treffen ist aus einer laufenden Astrologie-Ausbildung heraus entstanden. Sinn und Zweck ist es\, sich in einem lockeren Rahmen auszutauschen und Gleichgesinnte zu treffen. Alle Astrologie-Interessierten sind herzlich eingeladen\, an diesen Treffen teilzunehmen. \nNähere Informationen erhalten Sie über die E-Mail Adresse Lutz.Krampitz@krampitz.media. Und bei Lutz am Telefon: 0171 2065 615.
URL:https://www.astrologenverband.de/terminkalender/astrostammtisch-ruhrgebiet/
LOCATION:Cafe Konkret\, Kortumstraße 19-21\, Bochum\, 44787
CATEGORIES:DAV Regionalstelle
ORGANIZER;CN="DAV-Astrologiezentrum%20Ruhrgebiet":MAILTO:kontakt@astrologos.de
END:VEVENT
END:VCALENDAR