BEGIN:VCALENDAR
VERSION:2.0
PRODID:-//Astrologie | Deutscher Astrologenverband e.V. - ECPv6.1.0//NONSGML v1.0//EN
CALSCALE:GREGORIAN
METHOD:PUBLISH
X-ORIGINAL-URL:https://www.astrologenverband.de
X-WR-CALDESC:Veranstaltungen für Astrologie | Deutscher Astrologenverband e.V.
REFRESH-INTERVAL;VALUE=DURATION:PT1H
X-Robots-Tag:noindex
X-PUBLISHED-TTL:PT1H
BEGIN:VTIMEZONE
TZID:Europe/Berlin
BEGIN:DAYLIGHT
TZOFFSETFROM:+0100
TZOFFSETTO:+0200
TZNAME:CEST
DTSTART:20260329T010000
END:DAYLIGHT
BEGIN:STANDARD
TZOFFSETFROM:+0200
TZOFFSETTO:+0100
TZNAME:CET
DTSTART:20261025T010000
END:STANDARD
END:VTIMEZONE
BEGIN:VEVENT
DTSTART;TZID=Europe/Berlin:20260413T183000
DTEND;TZID=Europe/Berlin:20260413T210000
DTSTAMP:20260422T041223
CREATED:20250802T110858Z
LAST-MODIFIED:20250802T110858Z
UID:10005525-1776105000-1776114000@www.astrologenverband.de
SUMMARY:Astrologische Psychologie Grundlagen Level 1
DESCRIPTION:Das Einmaleins der Astrologie – einfach\, klar und übersichtlich  \nDu lernst die wichtigsten Vokabeln eines Horoskopes. Planeten\, Häuser \, Aspekte. Und gelernt wird natürlich immer am eigenen Horoskop. Das ist spannend und lehrreich zugleich. Du brauchst keine Vorkenntnisse\, sondern Neugier und einen offenen Geist. Diese Grundlagenkurse Level 1 mit den Modulen 0 bis 12 ist die erste Stufe eines dreigliedrigen zertifizierten Systems. Im Level 2 lernst Du dann alles über die Astrologische Psychologie. \n\nInhalte \nModul 0: Grundsätzliches zur Astrologie\, zum Horoskop und zur Astrologischen Psychologie \nModul 1: Widder\, Mars\, 1. Haus / Grundbegriffe \nModul 2: Stier\, Venus\, 2. Haus / Das Horoskop als Raumgefüge \nModul 3: Zwillinge\, Merkur\, 3. Haus / Grundlagen der Aspekte \nModul 4: Krebs\, Mond\, 4. Haus / Die 5 Schichten des Horoskopes \nModul 5: Löwe\, Sonne\, 5. Haus / Grundlagen des Alterspunktes \nModul 6: Jungfrau\, 6. Haus / Grundlagen und Funktionsweise der Astrologie \nModul 7: Waage\, 7. Haus / Grundlagen der Prognose \nModul 8: Skorpion\, Pluto\, 8. Haus / Der Entwicklungsgedanke \nModul 9: Schütze\, Jupiter\, 9. Haus / Die Planetentafel \nModul 10: Steinbock\, Saturn\, 10. Haus / Die Symbolsprache \nModul 11: Wassermann\, Uranus\, 11. Haus / Die 3 Ebenen des ICH \nModul 12: Fische\, Neptun\, 12. Haus / Die Entwicklung der Persönlichkeitsplaneten \n\nZur Referentin Saskia Borchardt:\nSaskia Borchardt ist zertifizierte Astrologisch-Psychologische Beraterin und Lehrerin der Huber-Methode. \nOnline\nDie Online-Seminare finden live als Zoom-Meetings statt. Sie sind keine vorab aufgezeichneten Kurse zum Selbststudium\, sondern Live-Schulungen mit persönlicher Betreuung. \nUmfang\, Ablauf und Termine\nDie Ausbildung Grundlagen dauert ca. ein halbes Jahr. Die Online-Seminare finden immer Montags statt von 18.30 bis 21 Uhr. Die Arbeitsunterlagen werden jeweils zur Verfügung gestellt. \nAbschluss Level 1\nZertifikat I Grundlagen Astrologie\nDie Grundlagen dienen als Voraussetzung für den Einstieg in das Studium Astrologische Psychologie Level 2 (Huber-Methode)
URL:https://www.astrologenverband.de/terminkalender/astrologische-psychologie-grundlagen-level-1/2026-04-13/
LOCATION:Online / Schule Lummer und Borchardt
CATEGORIES:Seminar Online
ORGANIZER;CN="Astrologische%20Psychologie%20Birgit%20Lummer%20und%20Saskia%20Borchardt":MAILTO:astro@lummer.de
END:VEVENT
BEGIN:VEVENT
DTSTART;TZID=Europe/Berlin:20260413T190000
DTEND;TZID=Europe/Berlin:20260413T210000
DTSTAMP:20260422T041223
CREATED:20250115T103340Z
LAST-MODIFIED:20250414T163511Z
UID:10005044-1776106800-1776114000@www.astrologenverband.de
SUMMARY:Astrologie Café
DESCRIPTION:Offene Abende für Astrologie Begeisterte!\nBring dein Horoskop oder deine Daten (Geburtsort & Zeit) und deine Fragen.\nDie Abende sind deinen Fragen gewidmet.\nAsk us anythink!\nGemeinsam in der Gruppe\, und wundervoller Umgebung\, schauen wir dann\, wo sich die Antworten in deinem Geburtsbild finden lassen.\nJede*r ist willkommen\, die einzigen Vorausetzungen sind deine Neugier & Freude an den Sternen!\nWir freuen uns auf Dich!
URL:https://www.astrologenverband.de/terminkalender/astrologie-cafe-2/2026-04-13/
LOCATION:Zukunft25\, Rotes Haus\, Kallmünz\, Vilsgasse 25\, Kallmünz\, Bayern\, 93183\, Deutschland
ORGANIZER;CN="Astrologische%20Psychologie%20lernen":MAILTO:info@ap-lernen.de
END:VEVENT
BEGIN:VEVENT
DTSTART;TZID=Europe/Berlin:20260413T193000
DTEND;TZID=Europe/Berlin:20260413T213000
DTSTAMP:20260422T041223
CREATED:20250129T151804Z
LAST-MODIFIED:20250210T165233Z
UID:10004609-1776108600-1776115800@www.astrologenverband.de
SUMMARY:Online-Aufbaukurs Partnerschaftsastrologie (3)
DESCRIPTION:in 15 Abend-Webinaren (jeweils montags 19:30 Uhr – 21:30 Uhr) erhalten sie durch die Astrologin Petra Dörfert eine umfassende Einführung in das Thema Partnerschaftsastrologie. Kursinhalte sind neben den Methoden Synastrie\, Composit und Combin die gründliche Analyse der Radix auf Partnerschaftsthemen hin sowie die Frage\, wie man typische Partnerschaftsprobleme erkennt und löst. \nSämtliche Informationen zur Ausbildung finden Sie hier. \nFür die Anmeldung nehmen Sie bitte per E-Mail oder telefonisch Kontakt mit mir auf (siehe unten)\, dann sende ich Ihnen das Anmeldeformular zu. \nDer Aufbaukurs Partnerschaftsastrologie richtet sich an Fortgeschrittene und ist Teil der 3-4-jährigen Online-Ausbildung Astrologie mit dem einjährigen Grundkurs und den weiteren Aufbaukursen Prognose\, Beratertraining und DAV-Prüfungsvorbereitung (jedes Modul ist einzeln buchbar). Mehr dazu finden Sie auf der Homepage der Online Akademie Astrologie Petra Dörfert.
URL:https://www.astrologenverband.de/terminkalender/online-aufbaukurs-partnerschaftsastrologie-3/
LOCATION:Online\, Deutschland
CATEGORIES:DAV Ausbildungszentrum,Seminar Online
ORGANIZER;CN="Online%20Akademie%20Astrologie%20Petra%20D%C3%B6rfert%20%2F%20DAV%20Ausbildungszentrum":MAILTO:info@online-akademie-astrologie.com
END:VEVENT
BEGIN:VEVENT
DTSTART;TZID=Europe/Berlin:20260414T180000
DTEND;TZID=Europe/Berlin:20260414T210000
DTSTAMP:20260422T041223
CREATED:20250802T115501Z
LAST-MODIFIED:20250802T115501Z
UID:10005554-1776189600-1776200400@www.astrologenverband.de
SUMMARY:Offene Gruppe Mars macht mobil?!
DESCRIPTION:Dieser für alle offene monatliche ASTRO-DIENSTAG dient Astrologinnen als Erfahrungsaustausch und Supervision. Gemeinsam werden Horoskope aus der Beratungspraxis oder spezielle astrologische Themen diskutiert. Teilnehmer/innen aus allen astrologischen Fachrichtungen sind herzlich eingeladen. Einfach mit einer kurzen Mail anmelden: astro@lummer.de \nHeute besprechen wir…\nMars macht mobil?! \n\n\n\nNatürlich werden wir das Thema anhand von praktischen Horoskopen der Teilnehmerinnen behandeln. \n\n\nHier mehr Infos…
URL:https://www.astrologenverband.de/terminkalender/offene-gruppe-mars-macht-mobil/
LOCATION:Lippstadt / Schule Lummer und Borchardt\, Rüschenkamp12\, Lippstadt\, 59558\, Deutschland
CATEGORIES:Seminar Online
ORGANIZER;CN="Astrologische%20Psychologie%20Birgit%20Lummer%20und%20Saskia%20Borchardt":MAILTO:astro@lummer.de
END:VEVENT
BEGIN:VEVENT
DTSTART;TZID=Europe/Berlin:20260414T190000
DTEND;TZID=Europe/Berlin:20260414T203000
DTSTAMP:20260422T041223
CREATED:20260311T145938Z
LAST-MODIFIED:20260311T145938Z
UID:10006058-1776193200-1776198600@www.astrologenverband.de
SUMMARY:"Zwei Schritte vorwärts\, drei Schritte zurück - Über Sinn und Unsinn der rückläufigen Planeten" mit Monika Heer
DESCRIPTION:Die rückläufigen Phasen der Planeten werden in der astrologischen Deutung unterschiedlich gesehen. Während die traditionelle Astrologie einen Planeten im Rückwärtsgang als geschwächt versteht\, sehen Esoteriker den gleichen Planeten eher im Kontext von karmischen Verfehlungen. Doch der Blick und damit auch die Deutung verändern sich\, wenn wir die Retrophasen der Planeten als Teil eines gesamten Zyklus verstehen und die ästhetische Struktur erkennen\, die sich bildet\, indem wir die Schleifen der Planeten über größere Zeiträume beobachten.  \nAm Beispiel ausgewählter Horoskope werden die Retro-Bewegungen der Planeten als Gesetze des Lebens beschrieben. Sie zeigen nämlich nicht nur\, wie wir (er)leben und leben\, sondern auch wie Lernen und Entwicklung geschieht\, nämlich selten nur vorwärts\, sondern oft genug durch Umwege oder Wiederholungen. Und wenn wir genau hinschauen\, können wir die Schleifen der Planeten als Chancen für ein Wachstum sehen und unsere Deutungen entsprechend konstruktiv formulieren.
URL:https://www.astrologenverband.de/terminkalender/zwei-schritte-vorwaerts-drei-schritte-zurueck-ueber-sinn-und-unsinn-der-ruecklaeufigen-planeten-mit-monika-heer/
LOCATION:www.astrologie-ag-stuttgart.de\, Dieter.Gollong@t-online.de
ORGANIZER;CN="Astrologische%20Arbeitsgemeinschaft%20Stuttgart%20e.%20V":MAILTO:astrologie.ag.stuttgart@t-online.de
END:VEVENT
BEGIN:VEVENT
DTSTART;TZID=Europe/Berlin:20260414T190000
DTEND;TZID=Europe/Berlin:20260414T210000
DTSTAMP:20260422T041223
CREATED:20260129T190439Z
LAST-MODIFIED:20260410T153135Z
UID:10005945-1776193200-1776200400@www.astrologenverband.de
SUMMARY:Fachausbildung Astromedizin 17
DESCRIPTION:Fachausbildung für medizinisch interessierte Astrologen und astrologisch interessierte Therapeuten\n60 Veranstaltungen in 30 Monaten\, jeweils 19-21 Uhr\nLive mit Interaktion auf meiner Online-Akademie\nDen TeilnehmerInnen stehen Skript\, Präsentation und Videoaufnahme zur Verfügung. \nFachseminare über die verschiedenen Organbereiche: \n1.Das zentrale und periphere Nervensystem – Forschung anhand von Fallbeispielen: Schwindel\, Epilepsie\, Apoplexie\, Enzephalitis\, Morbus Parkinson und Polyneuropathie\n2. Das endokrine System 1 – Erkrankungen von Schilddrüse und Nebenschilddrüse anhand von Fallbeispielen: Unter- und Überfunktion\, Hashimoto\n3. Das endokrine System 2 – Hypothalamus\, Hypophyse\, Epiphyse\, Thymus\, Nebenniere und ihre möglichen Fehlfunktionen mit Auswirkungen: z. B. Cushing\, Wachstumsstörungen\, Unfruchtbarkeit\, Virilismus und Hirsutismus\n4. Blut und lymphoretikuläres System – Schwerpunkte: Anämie\, Leukämie\, Hodgkin\, Non Hodgkin\, AIDS\n5. Kreislaufsystem – Erkrankungen von Arterien und Venen – Schwerpunkt Verschlüsse und Aneurysmen\n6. Herz und Atmungssystem – Schwerpunkte der Fallanalysen: Herzfehler\, Asthma und Lungenembolie\n7. Verdauungssystem 1 – Erkrankungen des Magen-Darm-Traktes: z. B. Morbus Crohn und Colitis ulcerosa\n8. Verdauungssystem 2 – Leber\, Galle\, Bauchspeicheldrüse – Schwerpunkte: Hepatitis\, Leberzirrhose\, Gallensteinleiden\n9. Stoffwechsel – insbesondere Diabetes aus astromedizinischer Sicht\n10.Ausscheidungssystem – Erkrankungen der Nieren – Forschungsschwerpunkt: Die Beteiligung von Isis bei Nierenleiden\n11.Bewegungsapparat 1 – Gelenk- und Wirbelsäulenerkrankungen – Schwerpunkt: Arthrose und Morbus Bechterew\n12. Bewegungsapparat 2 – Kollagenosen\, Vaskulitiden\, Schwerpunktthema: Fibromyalgie \n  \nWeitere Info: www.astromedizin.info\nAusbildungsplan anfordern: hp.heidetrautmann@astromedizin.info \n 
URL:https://www.astrologenverband.de/terminkalender/fachausbildung-astromedizin-17/
LOCATION:Online-Akademie Heide Trautmann\, Schillerstraße\, Blieskastel\, 66440\, Deutschland
CATEGORIES:Seminar Online
ORGANIZER;CN="Heide%20Trautmann%2C%20Heilpraktikerin%20und%20Astromedizinerin":MAILTO:hp.heidetrautmann@astromedizin.info
END:VEVENT
BEGIN:VEVENT
DTSTART;TZID=Europe/Berlin:20260414T193000
DTEND;TZID=Europe/Berlin:20260414T213000
DTSTAMP:20260422T041223
CREATED:20250129T155508Z
LAST-MODIFIED:20250210T180806Z
UID:10004632-1776195000-1776202200@www.astrologenverband.de
SUMMARY:Einjährige Online-Grundausbildung Astrologie (11)
DESCRIPTION:In 31 Abend-Webinaren (jeweils dienstags 19:30 – 21:30 Uhr) bis Dezember erhalten Sie durch die Astrologin Petra Dörfert eine umfassende Einführung in die Horoskopdeutung. Alle Termine finden live statt\, so dass viel Zeit für Fragen und gemeinsames Üben bleibt. Unterrichtsbegleitende Materialien runden den Kurs ab. \nAlle Informationen zur Ausbildung finden Sie hier. \nFür die Anmeldung nehmen Sie bitte per E-Mail oder telefonisch Kontakt mit mir auf (siehe unten)\, dann sende ich Ihnen das Anmeldeformular zu. \nDer Grundkurs ist Teil der 3-4-jährigen Online-Ausbildung Astrologie mit den Aufbaukursen Prognose\, Partnerschaftsastrologie\, Beratertraining und DAV-Prüfungsvorbereitung (jedes Modul ist einzeln buchbar). Mehr dazu finden Sie auf der Homepage der Online Akademie Astrologie Petra Dörfert. \nDie nächste Grundausbildung startet im kommenden Januar!
URL:https://www.astrologenverband.de/terminkalender/einjaehrige-online-grundausbildung-astrologie-11-2/
LOCATION:Online\, Deutschland
CATEGORIES:DAV Ausbildungszentrum,Seminar Online
ORGANIZER;CN="Online%20Akademie%20Astrologie%20Petra%20D%C3%B6rfert%20%2F%20DAV%20Ausbildungszentrum":MAILTO:info@online-akademie-astrologie.com
END:VEVENT
BEGIN:VEVENT
DTSTART;TZID=Europe/Berlin:20260415T173000
DTEND;TZID=Europe/Berlin:20260415T190000
DTSTAMP:20260422T041223
CREATED:20260408T140555Z
LAST-MODIFIED:20260414T203645Z
UID:10006078-1776274200-1776279600@www.astrologenverband.de
SUMMARY:Workshop - Horoskope deuten mit KI
DESCRIPTION:Online-Seminar für astrologisch Interessierte mit und ohne Vorkenntnisse \nWie lässt sich Künstliche Intelligenz sinnvoll für die astrologische Deutung nutzen? In diesem Online-Seminar erfahren Sie\, wie große Sprachmodelle dabei helfen können\, Horoskope verständlich\, differenziert und mit unterschiedlichen Schwerpunkten zu interpretieren. \nAnhand praxisnaher Beispiele wird gezeigt\, wie KI astrologische Deutungstexte erstellt\, welche Unterschiede es zwischen verschiedenen Sprachmodellen gibt und wie Sie zu brauchbaren\, qualitativ überzeugenden Ergebnissen gelangen. Sie lernen\, worauf es bei der Eingabe ankommt\, welche KI-Systeme sich eignen und wie Sie diese gezielt für Ihre eigene astrologische Praxis einsetzen können. \nEin besonderer Schwerpunkt des Seminars liegt auf der praktischen Anwendung: Es wird live vorgeführt\, wie ein Geburtshoroskop mithilfe von KI gedeutet werden kann — bis hin zu einer vollständigen Interpretation mit unterschiedlichen thematischen Schwerpunkten. \nDas Seminar richtet sich sowohl an Einsteigerinnen und Einsteiger als auch an Fortgeschrittene. Vorkenntnisse im Umgang mit KI sind nicht erforderlich. Auch astrologisch Interessierte mit ersten oder vertieften Kenntnissen profitieren von den anschaulichen Beispielen und konkreten Anwendungsmöglichkeiten. \nInhalte des Seminars: \n\nWie gehe ich bei der Deutung mit KI konkret vor?\nWelche KI kann genutzt werden?\nWie formuliere ich Eingaben\, damit brauchbare Ergebnisse entstehen?\nWelche Unterschiede gibt es zwischen verschiedenen Sprachmodellen?\nWie lässt sich ein vollständig gedeutetes Geburtshoroskop mit unterschiedlichen Schwerpunkten erstellen?\n\nLive-Vorführung:Gemeinsam erleben wir\, wie ein Geburtshoroskop live von einer KI gedeutet wird. \nFormat:ZOOM-Veranstaltung \nDer Einladungslink wird nach erfolgter Anmeldung und Bezahlung versandt. \nHier geht es zur Buchung: https://zelest-astrologie.de/events/horoskope-deuten-mit-ki/
URL:https://www.astrologenverband.de/terminkalender/horoskope-deuten-mit-ki/
LOCATION:Online / Thomas Weyer-Eberling\, Deutschland
CATEGORIES:Seminar Online
ORGANIZER;CN="Thomas%20Weyer-Eberling":MAILTO:thomas@zelest-astrologie.de
END:VEVENT
BEGIN:VEVENT
DTSTART;TZID=Europe/Berlin:20260415T183000
DTEND;TZID=Europe/Berlin:20260415T213000
DTSTAMP:20260422T041223
CREATED:20240513T121946Z
LAST-MODIFIED:20250802T112002Z
UID:10003194-1776277800-1776288600@www.astrologenverband.de
SUMMARY:Die Aspekte der Huber-Methode M16
DESCRIPTION:Du hast astrologische Kenntnisse und möchtest mehr erfahren über die Huber-Methode? \nDie Kurse Level 2 mit den Modulen 13 bis 22 ist die zweite Stufe eines dreigliedrigen zertifizierten Systems. Du kannst alle Module als Gesamtpaket buchen. Wenn Du Dich für ein Thema besonders interessierst\, dann ist Teilnahme an einzelnen Modulen auch möglich. Und gelernt wird natürlich immer am eigenen Horoskop. Das ist spannend und lehrreich zugleich. \n\nHeute Modul 15 mit den Inhalten… \nAlterspunkt\, Lebensphasen und Prognosemethoden.\nGrundsätzliches und die Entdeckung / Weitere Prognosemethoden / Wirkungen auf den Menschen / Struktur und Technik / Grundlagen der AP-Berechnung / Der Alterspunkt und die Entwicklungspsychologie / Lebensrhythmen und Abschnitte des Alterspunktes / Die Lebensphasen in den Häusern / Der Alterspunkt durch die Tierkreiszeichen / Die Aspekte des Alterspunktes / Allgemeine Regeln zum Aspektablauf / Die psychologische Bedeutung / Die psychologische Bedeutung der Alterspunkt-Biographie \nTermine findest Du hier…\n3 Abende je 3 Stunden \n\nUmfang\nDie Online-Kurse finden live als Zoom-Meetings jeweils Mittwoch von 18.30 bis 21.30 Uhr statt. Sie sind keine vorab aufgezeichneten Kurse zum Selbststudium\, sondern Live-Schulungen mit persönlicher Betreuung.\nDauer 1 1/2 Jahre. Ein Modul hat einen Umfang von 6 oder auch 9 Stunden. Die Teilnahme an einzelnen Modulen ist möglich. Anmeldung per Mail astro@lummer.de \nInhalte\nModul 13    Einführung in die Astrologische Psychologie\nModul 14    Die Häuser als Lebensbereiche der Persönlichkeit\nModul 15    Die Entwicklung in den Lebensphasen\nModul 16    Die Aspekte als innerer Schaltplan\nModul 17    Die persönliche Prägung durch die Familie\nModul 18    Der Mensch zwischen Individualität und Umwelt\nModul 19    Karmische Astrologie als Spiegel Persönlichkeit\nModul 20    Intelligenz und Beruf(ung) im Horoskop\nModul 21    Das neue Verständnis von Beziehung und Liebe\nModul 22    Deutungspraxis\, praxisbegleitende Übungen \nAbschluss Level 2\nZertifikat Level II  Astrologische Psychologie\nHast Du die Absicht\, jetzt oder später beratend tätig zu sein\, dann gilt dieses Zertifikat als Voraussetzung für den Einstieg in die Kurse zum/zur Berater/in  Zertifikat Level 3
URL:https://www.astrologenverband.de/terminkalender/die-aspekte-der-huber-methode/
LOCATION:Online / Schule Lummer und Borchardt
CATEGORIES:Seminar Online
ORGANIZER;CN="Astrologische%20Psychologie%20Birgit%20Lummer%20und%20Saskia%20Borchardt":MAILTO:astro@lummer.de
END:VEVENT
BEGIN:VEVENT
DTSTART;TZID=Europe/Berlin:20260415T190000
DTEND;TZID=Europe/Berlin:20260415T194500
DTSTAMP:20260422T041223
CREATED:20260310T093814Z
LAST-MODIFIED:20260310T094814Z
UID:10005996-1776279600-1776282300@www.astrologenverband.de
SUMMARY:Einführung in die Traditionelle Astrologie (Online)
DESCRIPTION:Online Ausbildung Traditionelle Astrologie: Einführung – Modul 1 \nDiese Einführung gibt einen Einblick\, wie traditionelle Astrologie funktioniert und zeigt\, wie sich erste Deutungsschritte ableiten lassen. Der Kurs ist in sich abgeschlossen und gleichzeitig Teil der dreijährigen Online-Ausbildung in traditioneller Astrologie. Im Anschluss daran startet (dienstags abends) die einjährige Online-Ausbildung „Traditionelle Radixdeutung“.\nIn der Einführung geht es um den Aufbau und Besonderheiten eines traditionellen Horoskops. Zudem bietet sie einen verständlichen Einstieg in zentrale Grundlagen wie den Tierkreis\, Elemente und Qualitäten\, Planeten\, Häuser\, Aspekte und Würden. \n\nVorkenntnisse sind nicht erforderlich.\nSechs Abende mit jeweils 120 Minuten Live-Unterricht über Zoom\nErgänzt durch begleitende Materialien (PDF-Handouts\, freiwillige Übungen)\nFrühbucherrabatt ab Anfang April\n\nTermine: 15.04.2026 – 22.04.2026 – 29.04.2026 – 06.05.2026 – 13.05.2026 – 20.05.2026 \nAm 8. April 2026 um 19:00 Uhr findet eine 30-minütige Online-Begrüßungsrunde statt.\nDieses freiwillige Treffen dient dem Kennenlernen\, organisatorischen Hinweisen und der Orientierung im Ablauf.\nDie Begrüßung wird nicht aufgezeichnet. \nAnmeldung: Trage dich gern schon jetzt per Mail an info@birgitvonborstel.de in die Interessentenliste ein und erhalte eine persönliche Nachricht zum Start des Frühbucherrabatts. \nMehr Info unter www.traditionelle-astrologie-akademie.de \n  \n 
URL:https://www.astrologenverband.de/terminkalender/einfuehrung-in-die-traditionelle-astrologie-online/2026-04-15/
LOCATION:Online Birgit von Borstel\, Traditionelle Astrologie Akademie
CATEGORIES:DAV Ausbildungszentrum,Seminar Online
ORGANIZER;CN="Birgit%20von%20Borstel%2C%20Ausbildungszentrum%20Prenzlauer%20Berg":MAILTO:info@birgitvonborstel.de
END:VEVENT
BEGIN:VEVENT
DTSTART;TZID=Europe/Berlin:20260415T190000
DTEND;TZID=Europe/Berlin:20260415T203000
DTSTAMP:20260422T041223
CREATED:20260310T084805Z
LAST-MODIFIED:20260310T085520Z
UID:10005991-1776279600-1776285000@www.astrologenverband.de
SUMMARY:Online-Vortrag: Combin: Was Beziehungen wirklich bindet - Dalí & Gala als Fallstudie
DESCRIPTION:Online-Vortrag am 15.04.2026 um 19:00- 20:30 mit Dr. Erik Lehne \nDas Combin ist ein Partnerschaftshoroskop\, das zeigt\, welche seelische Verbindung zwei Menschen haben und welche Chancen\, Themen und Konflikte ihre Beziehung prägen. Mit Prognosemethoden wie Solaren und Transiten lassen sich zudem zeitliche Entwicklungen einer Beziehung betrachten. \nDer Vortrag analysiert die außergewöhnliche Beziehung von Salvador und Gala Dalí: ihre Partnersuchmuster anhand der Radix-Horoskope\, die Dynamik ihrer Beziehung durch Synastrie und Combin sowie deren Höhen und Tiefen mithilfe von Solaren und Transiten. Dabei wird deutlich\, wie ihre über 54-jährige Partnerschaft von Liebe\, kreativer Zusammenarbeit und auch schwierigen Dynamiken geprägt war. Abschließend wird gezeigt\, wie das Combin für Beziehungsprognosen genutzt werden kann.\nEignung: Für Teilnehmer/innen mit Vorkenntnissen in Astrologie \n \n  \nDr. Erik Lehne\nErik ist promovierter Naturwissenschaftler\, Manager in einem internationalen Technologiekonzern und ausgebildeter Astrologe. Seine Leidenschaft gilt der Verbindung von Wissenschaft und astrologischer Symbolsprache. Er erforscht seit fünf Jahren die Tiefendimensionen der Astrologie – mit besonderem Fokus auf klassische Techniken\, psychologische Deutung und spirituelle Entwicklung. Mehr zu Dr. Erik Lehne. \n  \nÜber diesen Link kannst du den Online-Vortrag buchen und erhälst weitere Infos per Mail: \nhttps://astrologie-ausbildung.eu/online-workshops/combin-was-beziehungen-wirklich-bindet-dali-gala-als-fallstudie \nDie Vorträge und Workshops der Astropraxis vermitteln euch \n\nganzheitlich fundierte Techninken zur Horoskopanalyse\nKompetenz in der Beratung\ntiefenpsychologische Aspekte einfühlsam entdeckt\nund wir geben euch Raum zum Austausch eigener Horoskope.\n\nWerde Teil einer offenen und unterstützenden Gemeinschaft\, erlebe die Kraft astrologischer Selbsterkenntnis\, in der Lernen und persönliches Wachstum im Mittelpunkt steht. \n  \n  \n  \n  \n 
URL:https://www.astrologenverband.de/terminkalender/online-vortrag-combin-was-beziehungen-wirklich-bindet-dali-gala-als-fallstudie/
LOCATION:Online-Zoom-Veranstaltung\, Astropraxis Helen Fritsch\, Deutschland
CATEGORIES:DAV Ausbildungszentrum,Vortrag Online
END:VEVENT
BEGIN:VEVENT
DTSTART;TZID=Europe/Berlin:20260415T190000
DTEND;TZID=Europe/Berlin:20260415T210000
DTSTAMP:20260422T041223
CREATED:20260126T173100Z
LAST-MODIFIED:20260126T173100Z
UID:10005925-1776279600-1776286800@www.astrologenverband.de
SUMMARY:Online Intensivausbildung Astrologie (3)
DESCRIPTION:Auf Wunsch von vielen Astroschüler*innen der Astrologos-Ausbildungen gibt es ab März 2026 erstmals eine Intensivausbildung Astrologie als Online-Angebot. Sie wendet sich an Teilnehmer mit guten Grundkenntnissen\, die ihr gelerntes Wissen für die astrologische Beratungsarbeit nutzen möchten – und gleichzeitig nach einer attraktiven Synthese von traditioneller und moderner psychologischer Astrologie suchen. \nIm Verlauf von 12 Abenden und einem Tagesseminar vor Ort werden einzelne Bereiche der astrologischen Deutung vertieft und es geht um Methoden\, die Schlüsselthemen eines Horoskops und den roten Faden bei der Deutung sichtbar zu machen. \nDas Beste aus beiden Welten – zum Wohle der Ratsuchenden! \nThemen sind u.a. die Basics der traditionellen Astrologie\, Grundlagen der Elektionsastrologie\, Strukturdeutungm Combinhoroskope\, Astrokartografie und Astromedizin. \nDie Abende finden über die Online-Plattform Zoom statt. Den Teilnehmenden wir die Möglichkeit geboten\, zu jedem Abend ein Video zu bekommen. Mit ausführlichen Skripten zu jedem Thema können Sie so verpasste Inhalte nacharbeiten. \nAusführliche Informationen zur Ausbildung zu diesem Weiterbildungsangebot finden Sie auf der Astrologos-Website. \nFür weitere Informationen und die Anmeldung nehmen Sie bitte per E-Mail oder telefonisch Kontakt mit mir auf. \nDie E-Mail-Adresse ist: kontakt@astrologos.de\, die Telefonnummer: 0234-683723.
URL:https://www.astrologenverband.de/terminkalender/online-intensivausbildung-astrologie-3/
LOCATION:DAV-Zentrum Bochum-Ruhrgebiet\, Deutschland
CATEGORIES:DAV Ausbildungszentrum,Seminar Online
ORGANIZER;CN="DAV-Astrologiezentrum%20Ruhrgebiet":MAILTO:kontakt@astrologos.de
END:VEVENT
BEGIN:VEVENT
DTSTART;TZID=Europe/Berlin:20260415T193000
DTEND;TZID=Europe/Berlin:20260415T213000
DTSTAMP:20260422T041223
CREATED:20250202T131952Z
LAST-MODIFIED:20250202T132010Z
UID:10004720-1776281400-1776288600@www.astrologenverband.de
SUMMARY:Online-Ausbildung Astromedizin (16)
DESCRIPTION:In 21 Abenden (jeweils mittwochs von 19:30 – 21:30 Uhr) erhalten Sie durch die Astrologin Petra Dörfert eine umfassende Einführung in die Astromedizin. Neben den Grundlagen (Zuordnung von Organen und Krankheiten zu den Tierkreiszeichen\, Häusern und Planeten) beschäftigen wir uns mit zahlreichen körperlichen und psychischen Erkrankungen\, der Frage der Prävention\, der Kinderwunschberatung sowie der Berechnung von OP-Terminen. \nSämtliche Informationen zur Ausbildung finden Sie hier. \nFür die Anmeldung nehmen Sie bitte per E-Mail oder telefonisch Kontakt mit mir auf (siehe unten)\, dann sende ich Ihnen das Anmeldeformular zu. \nDer nächste Astromedizin-Zyklus startet im kommenden September!
URL:https://www.astrologenverband.de/terminkalender/online-ausbildung-astromedizin-16/
LOCATION:Online\, Deutschland
CATEGORIES:DAV Ausbildungszentrum,Seminar Online
ORGANIZER;CN="Online%20Akademie%20Astrologie%20Petra%20D%C3%B6rfert%20%2F%20DAV%20Ausbildungszentrum":MAILTO:info@online-akademie-astrologie.com
END:VEVENT
BEGIN:VEVENT
DTSTART;TZID=Europe/Berlin:20260416T183000
DTEND;TZID=Europe/Berlin:20260416T200000
DTSTAMP:20260422T041223
CREATED:20260310T092043Z
LAST-MODIFIED:20260310T092043Z
UID:10005994-1776364200-1776369600@www.astrologenverband.de
SUMMARY:Online-Workshop: Astrologie und kollektive Prozesse - wenn die Welt sich wandelt
DESCRIPTION:Online-Workshop Do. 16.04.2026 18:30 – 20:00 Uhr mit Manuela Reher \nDer Workshop beschäftigt sich mit aktuellen astrologischen Konstellationen wie Pluto im Wassermann und Saturn in den Fischen\, die den tiefgreifenden gesellschaftlichen und persönlichen Wandel unserer Zeit widerspiegeln. Dabei wird erklärt\, welche kollektiven Zyklen hinter diesen Entwicklungen stehen und wie sie Denken\, Werte und Lebenswege beeinflussen. \nZiel ist es\, die großen astrologischen Bewegungen zu verstehen und sie mit der eigenen Lebenssituation zu verbinden. So kann der gegenwärtige Wandel nicht nur als Krise\, sondern auch als Chance für Bewusstwerdung\, persönliche Reifung und neue Perspektiven erkannt werden. ✨ \n \n  \nManuela Reher ist eine bekannte\, freiberufliche Astrologin. Sie unterstützt die Astropraxis seit fast 20 Jahren mit ihrer hervorragenden fachlichen und pädagogischen Expertise. Als Tutorin und Praktikumsleiterin spielt sie eine Schlüsselrolle im Erfolg des Teams. Mehr zu Manuela Reher. \n  \n  \n  \nMehr Infos zu diesem Workshop und anderen astrologischen Workshops und Vorträgen findet ihr hier: \nhttps://astrologie-ausbildung.eu/online-workshops/wenn-die-welt-sich-wandelt-astrologie-und-kollektive-prozesse \n  \n  \n  \n  \n 
URL:https://www.astrologenverband.de/terminkalender/online-workshop-astrologie-und-kollektive-prozesse-wenn-die-welt-sich-wandelt/
LOCATION:Online-Zoom-Veranstaltung\, Astropraxis Helen Fritsch\, Deutschland
CATEGORIES:DAV Ausbildungszentrum,Vortrag Online
END:VEVENT
BEGIN:VEVENT
DTSTART;TZID=Europe/Berlin:20260418T140000
DTEND;TZID=Europe/Berlin:20260419T170000
DTSTAMP:20260422T041223
CREATED:20260331T185205Z
LAST-MODIFIED:20260331T185205Z
UID:10006076-1776520800-1776618000@www.astrologenverband.de
SUMMARY:Astrologie-Fortbildung: "Planetenaufstellung hautnah erleben" mit Gabriela Steiner
DESCRIPTION:Im Rahmen der Astrologie- und Tarotschule München| Sabine Lechleuthner gibt es am 18. + 19. April eine Astrologie-Fortbildung zum Thema \n„Planetenaufstellung hautnah erleben“ mit der Astrologin Gabriela Steiner. \nDas Seminar findet in Präsenz statt. \nZeit: Samstag\, 18. April von 14:00 – 19:00 Uhr und Sonntag\, 19. April von 10:00 – 17:00 Uhr mit 1 Stunde Mittagspause von 13:00 – 14:00 Uhr \nOrt: Treffpunkt Philosophie neue Akropolis\, Schwanthalerstr. 91\, 80336 München \nAnmeldung und Infos: https://astro-tarot-muenchen.de/go/de/15-350/gabriela-steiner-erklaert-horoskopaufstellungen \noder bei Sabine Lechleuthner unter Tel: 089-436 22 97 oder info@astro-tarot-muenchen.de \nEine besondere Erfahrung erwartet Sie! \nHerzlich \nSabine Lechleuthner
URL:https://www.astrologenverband.de/terminkalender/astrologie-fortbildung-planetenaufstellung-hautnah-erleben-mit-gabriela-steiner/
LOCATION:Treffpunkt Philosophie\, Schwanthaler Str. 91 /III\, München\, Bayern\, 80336
ORGANIZER;CN="Astrologie-%20und%20Tarotschule%20M%C3%BCnchen%20Sabine%20Lechleuthner":MAILTO:info@astro-tarot-muenchen.de
END:VEVENT
END:VCALENDAR