BEGIN:VCALENDAR
VERSION:2.0
PRODID:-//Astrologie | Deutscher Astrologenverband e.V. - ECPv6.1.0//NONSGML v1.0//EN
CALSCALE:GREGORIAN
METHOD:PUBLISH
X-ORIGINAL-URL:https://www.astrologenverband.de
X-WR-CALDESC:Veranstaltungen für Astrologie | Deutscher Astrologenverband e.V.
REFRESH-INTERVAL;VALUE=DURATION:PT1H
X-Robots-Tag:noindex
X-PUBLISHED-TTL:PT1H
BEGIN:VTIMEZONE
TZID:Europe/Berlin
BEGIN:DAYLIGHT
TZOFFSETFROM:+0100
TZOFFSETTO:+0200
TZNAME:CEST
DTSTART:20260329T010000
END:DAYLIGHT
BEGIN:STANDARD
TZOFFSETFROM:+0200
TZOFFSETTO:+0100
TZNAME:CET
DTSTART:20261025T010000
END:STANDARD
END:VTIMEZONE
BEGIN:VEVENT
DTSTART;TZID=Europe/Berlin:20260406T183000
DTEND;TZID=Europe/Berlin:20260406T210000
DTSTAMP:20260423T112020
CREATED:20250802T110858Z
LAST-MODIFIED:20250802T110858Z
UID:10005524-1775500200-1775509200@www.astrologenverband.de
SUMMARY:Astrologische Psychologie Grundlagen Level 1
DESCRIPTION:Das Einmaleins der Astrologie – einfach\, klar und übersichtlich  \nDu lernst die wichtigsten Vokabeln eines Horoskopes. Planeten\, Häuser \, Aspekte. Und gelernt wird natürlich immer am eigenen Horoskop. Das ist spannend und lehrreich zugleich. Du brauchst keine Vorkenntnisse\, sondern Neugier und einen offenen Geist. Diese Grundlagenkurse Level 1 mit den Modulen 0 bis 12 ist die erste Stufe eines dreigliedrigen zertifizierten Systems. Im Level 2 lernst Du dann alles über die Astrologische Psychologie. \n\nInhalte \nModul 0: Grundsätzliches zur Astrologie\, zum Horoskop und zur Astrologischen Psychologie \nModul 1: Widder\, Mars\, 1. Haus / Grundbegriffe \nModul 2: Stier\, Venus\, 2. Haus / Das Horoskop als Raumgefüge \nModul 3: Zwillinge\, Merkur\, 3. Haus / Grundlagen der Aspekte \nModul 4: Krebs\, Mond\, 4. Haus / Die 5 Schichten des Horoskopes \nModul 5: Löwe\, Sonne\, 5. Haus / Grundlagen des Alterspunktes \nModul 6: Jungfrau\, 6. Haus / Grundlagen und Funktionsweise der Astrologie \nModul 7: Waage\, 7. Haus / Grundlagen der Prognose \nModul 8: Skorpion\, Pluto\, 8. Haus / Der Entwicklungsgedanke \nModul 9: Schütze\, Jupiter\, 9. Haus / Die Planetentafel \nModul 10: Steinbock\, Saturn\, 10. Haus / Die Symbolsprache \nModul 11: Wassermann\, Uranus\, 11. Haus / Die 3 Ebenen des ICH \nModul 12: Fische\, Neptun\, 12. Haus / Die Entwicklung der Persönlichkeitsplaneten \n\nZur Referentin Saskia Borchardt:\nSaskia Borchardt ist zertifizierte Astrologisch-Psychologische Beraterin und Lehrerin der Huber-Methode. \nOnline\nDie Online-Seminare finden live als Zoom-Meetings statt. Sie sind keine vorab aufgezeichneten Kurse zum Selbststudium\, sondern Live-Schulungen mit persönlicher Betreuung. \nUmfang\, Ablauf und Termine\nDie Ausbildung Grundlagen dauert ca. ein halbes Jahr. Die Online-Seminare finden immer Montags statt von 18.30 bis 21 Uhr. Die Arbeitsunterlagen werden jeweils zur Verfügung gestellt. \nAbschluss Level 1\nZertifikat I Grundlagen Astrologie\nDie Grundlagen dienen als Voraussetzung für den Einstieg in das Studium Astrologische Psychologie Level 2 (Huber-Methode)
URL:https://www.astrologenverband.de/terminkalender/astrologische-psychologie-grundlagen-level-1/2026-04-06/
LOCATION:Online / Schule Lummer und Borchardt
CATEGORIES:Seminar Online
ORGANIZER;CN="Astrologische%20Psychologie%20Birgit%20Lummer%20und%20Saskia%20Borchardt":MAILTO:astro@lummer.de
END:VEVENT
BEGIN:VEVENT
DTSTART;TZID=Europe/Berlin:20260406T190000
DTEND;TZID=Europe/Berlin:20260406T210000
DTSTAMP:20260423T112020
CREATED:20250414T163908Z
LAST-MODIFIED:20250414T163908Z
UID:10005230-1775502000-1775509200@www.astrologenverband.de
SUMMARY:Astrologie Café ONLINE
DESCRIPTION:Offene Abende für Astrologie Begeisterte!\nBring dein Horoskop oder deine Daten (Geburtsort & Zeit) und deine Fragen.\nDie Abende sind deinen Fragen gewidmet.\nAsk us anythink!\nGemeinsam in der Gruppe schauen wir dann\, wo sich die Antworten in deinem Geburtsbild finden lassen.\nJede*r ist willkommen\, die einzigen Vorausetzungen sind deine Neugier & Freude an den Sternen!\nWir freuen uns auf Dich! \n  \n  \nZoom-Link zur Veranstaltung: \nhttps://us06web.zoom.us/j/84779092924?pwd=Vzegx7TtlGr1ZDmcFeyZIJ8GcXGyGH.1 \nMeeting-ID: 847 7909 2924\nKenncode: 535610
URL:https://www.astrologenverband.de/terminkalender/astrologie-cafe-online/2026-04-06/
LOCATION:ONLINE  ZOOM
ORGANIZER;CN="Astrologische%20Psychologie%20lernen":MAILTO:info@ap-lernen.de
END:VEVENT
BEGIN:VEVENT
DTSTART;TZID=Europe/Berlin:20260407T080000
DTEND;TZID=Europe/Berlin:20260407T170000
DTSTAMP:20260423T112020
CREATED:20250726T161517Z
LAST-MODIFIED:20250726T161517Z
UID:10005455-1775548800-1775581200@www.astrologenverband.de
SUMMARY:Online-Grundausbildung Astrologie 2026 (11)
DESCRIPTION:Die beliebte Astrologos-Grundausbildung wird ab 13. Januar 2026 erneut angeboten. Im Verlauf von 30 Abenden und einem Tagesseminar vor Ort werden die Deutungsansätze der wichtigen Astrologie-Schulen systemübergreifend vermittelt. Psychologische Theorien und Konzepte ergänzen die Inhalte\, so dass Sie die astrologischen Symbole sinnvoll in ihrer Arbeit einsetzen können. \nIm Verlauf von zwei Grundstufen lernen Sie\, Horoskope zu deuten und entdecken schrittweise das uralte Wissen der Astrologie. Gleichzeitig lernen Sie ihr persönliches Horoskop kennen und entdecken so einem Weg der Selbstentwicklung und Selbstentfaltung. \nIm Anschluss an jeden Abend erhalten Sie das Video und zu jedem Thema ein ausführliches Skript\, so dass Sie verpasste Termine nacharbeiten können. \nEin kostenloser Infoabend zu dieser Astrologie-Ausbildung findet am 12. November 2025 statt. \nAusführliche Informationen zur Ausbildung finden Sie auf der Astrologos-Website. Für weitere Informationen und die Anmeldung nehmen Sie bitte per E-Mail oder telefonisch Kontakt mit mir auf. \nDie E-Mail-Adresse ist: kontakt@astrologos.de\, die Telefonnummer: 0234-683723.
URL:https://www.astrologenverband.de/terminkalender/online-grundausbildung-astrologie-2026-11/
LOCATION:DAV-Zentrum Bochum-Ruhrgebiet\, Deutschland
CATEGORIES:DAV Ausbildungszentrum,Seminar Online
ORGANIZER;CN="DAV-Astrologiezentrum%20Ruhrgebiet":MAILTO:kontakt@astrologos.de
END:VEVENT
BEGIN:VEVENT
DTSTART;TZID=Europe/Berlin:20260407T100000
DTEND;TZID=Europe/Berlin:20260407T113000
DTSTAMP:20260423T112020
CREATED:20260218T171309Z
LAST-MODIFIED:20260218T171309Z
UID:10005976-1775556000-1775561400@www.astrologenverband.de
SUMMARY:Astrogeografie in der Praxis
DESCRIPTION:Astrogeografie in der Praxis \nOnline-Gruppe zum Üben der Astrogeografie\n– Übungstermine immer am ersten und dritten Dienstag des Monats\nPraxisnah. Kollegial. Mit astrologischer Tiefe.\nStell dir vor\, du könntest mit einem Blick auf die Karte erkennen\, wo dich das Leben ruft – und warum. Ob für deine Klient:innen oder für dich selbst: In dieser Community übst du Astrogeografie mit echtem Tiefgang\, echter Praxis und echtem Austausch. Wenn du deine Deutungen auf das nächste Level bringen willst – herzlich willkommen! \n\nWas dich erwartet\n✔ Zwei Live-Übungstermine pro Monat \nGemeinsame Zoom-Meetings mit echten Anliegen aus der Praxis. Teilweise mit externen Gästen\, die aktuelle Fragen zu Wohnorten\, Auswanderung oder Standortwahl mitbringen. Du bekommst die Daten vorab und kannst deine Deutung vorbereiten. Im Termin gibt es Feedback von mir und aus der Gruppe. \n✔ Aufzeichnungen im Kursbereich\nAlle Termine werden aufgezeichnet und stehen dir jederzeit zum Nachschauen zur Verfügung. \n✔ Lernbereich für Astrogeografie-Anfänger:innen \nInnerhalb der Community gibt es einen zubuchbaren Bereich\, in dem alle\, in die Astrogeografie einsteigen wollen\, die Grundlagen erlernen können. \n✔ Austausch auf Augenhöhe\nDu kannst eigene Deutungen posten\, Fragen stellen und dich mit anderen austauschen. Die Community lebt vom Miteinander: Du vertiefst dein Wissen\, indem du anderen hilfst und deine Gedanken in Worte fasst. \n✔ Feedback & Begleitung\nDu bekommst regelmäßig Rückmeldung zu deinen Deutungen – von mir und den anderen Mitgliedern. So entwickelst du nach und nach Sicherheit und ein gutes Gespür für die Methoden. \n\nDie Methoden\nWir arbeiten mit allen wichtigen Techniken der Astrogeografie: \n\nAstrokartografie\nRelokationshoroskope\nLocal Space\nCyclokartografie\nAstrogeografie in Partnerschaften\n\n\nFür wen ist die Community geeignet?\nDiese Community richtet sich an: \n\nAstrolog:innen und Astrologie-Interessierte mit Deutungserfahrung\nberatende Astrolog:innen\, die ihre Kompetenz in der Astrogeografie ausbauen möchten\nalle\, die nicht nur lernen\, sondern üben wollen\nAstrolog:innen mit Erfahrung in der Astrogeografie\, die sich einen inspirierenden Austausch mit anderen Praktiker:innen wünschen\, neue Perspektiven entdecken und mit spannenden Fällen in Kontakt kommen möchten – zur eigenen Weiterentwicklung und zur Bereicherung ihrer Beratungen\n\n\nWas diese Community besonders macht\nHier lernst du nicht allein: Du wirst Teil einer lebendigen Gruppe\, in der kollegiales Lernen und gemeinsames Wachsen im Mittelpunkt stehen. Du profitierst von echter Praxis\, vielfältigen Perspektiven und kontinuierlicher Begleitung. \nDie Community wird von mir\, Franziska Engel\, geleitet. Ich bin seit 2007 als beratende Astrologin tätig\, geprüfte Astrologin (DAV) seit 2011\, habe rund 3.000 Beratungsklient:innen begleitet und seit 2018 Erfahrung in der Leitung von Online-Kursen. Du profitierst also nicht nur von fundiertem Fachwissen\, sondern auch von langjähriger praktischer Erfahrung – in der astrologischen Arbeit und im Online-Setting. \n\nWarum Astrogeografie in der Community lernen?\n\nDu erkennst\, wo du dein Potenzial als Berater:in am besten leben kannst\nDu entwickelst Sicherheit in der deutlichen Kommunikation mit Klient:innen\nDu wirst Teil eines Netzwerks\, das dich fachlich und menschlich wachsen lässt\nDu sparst Zeit\, indem du von den Erfahrungen anderer profitierst\nDu bekommst regelmäßig neue Impulse und verlierst das Thema nicht aus dem Blick\n\nHier geht’s direkt zur Community – Astrogeografie in der Praxis \n 
URL:https://www.astrologenverband.de/terminkalender/astrogeografie-in-der-praxis-4/
LOCATION:Franziska Engel – Online per Zoom
CATEGORIES:Seminar Online
END:VEVENT
BEGIN:VEVENT
DTSTART;TZID=Europe/Berlin:20260408T190000
DTEND;TZID=Europe/Berlin:20260408T194500
DTSTAMP:20260423T112020
CREATED:20260310T093814Z
LAST-MODIFIED:20260310T094814Z
UID:10005995-1775674800-1775677500@www.astrologenverband.de
SUMMARY:Einführung in die Traditionelle Astrologie (Online)
DESCRIPTION:Online Ausbildung Traditionelle Astrologie: Einführung – Modul 1 \nDiese Einführung gibt einen Einblick\, wie traditionelle Astrologie funktioniert und zeigt\, wie sich erste Deutungsschritte ableiten lassen. Der Kurs ist in sich abgeschlossen und gleichzeitig Teil der dreijährigen Online-Ausbildung in traditioneller Astrologie. Im Anschluss daran startet (dienstags abends) die einjährige Online-Ausbildung „Traditionelle Radixdeutung“.\nIn der Einführung geht es um den Aufbau und Besonderheiten eines traditionellen Horoskops. Zudem bietet sie einen verständlichen Einstieg in zentrale Grundlagen wie den Tierkreis\, Elemente und Qualitäten\, Planeten\, Häuser\, Aspekte und Würden. \n\nVorkenntnisse sind nicht erforderlich.\nSechs Abende mit jeweils 120 Minuten Live-Unterricht über Zoom\nErgänzt durch begleitende Materialien (PDF-Handouts\, freiwillige Übungen)\nFrühbucherrabatt ab Anfang April\n\nTermine: 15.04.2026 – 22.04.2026 – 29.04.2026 – 06.05.2026 – 13.05.2026 – 20.05.2026 \nAm 8. April 2026 um 19:00 Uhr findet eine 30-minütige Online-Begrüßungsrunde statt.\nDieses freiwillige Treffen dient dem Kennenlernen\, organisatorischen Hinweisen und der Orientierung im Ablauf.\nDie Begrüßung wird nicht aufgezeichnet. \nAnmeldung: Trage dich gern schon jetzt per Mail an info@birgitvonborstel.de in die Interessentenliste ein und erhalte eine persönliche Nachricht zum Start des Frühbucherrabatts. \nMehr Info unter www.traditionelle-astrologie-akademie.de \n  \n 
URL:https://www.astrologenverband.de/terminkalender/einfuehrung-in-die-traditionelle-astrologie-online/2026-04-08/
LOCATION:Online Birgit von Borstel\, Traditionelle Astrologie Akademie
CATEGORIES:DAV Ausbildungszentrum,Seminar Online
ORGANIZER;CN="Birgit%20von%20Borstel%2C%20Ausbildungszentrum%20Prenzlauer%20Berg":MAILTO:info@birgitvonborstel.de
END:VEVENT
BEGIN:VEVENT
DTSTART;TZID=Europe/Berlin:20260410T170000
DTEND;TZID=Europe/Berlin:20260410T190000
DTSTAMP:20260423T112020
CREATED:20251117T171340Z
LAST-MODIFIED:20251117T171803Z
UID:10005798-1775840400-1775847600@www.astrologenverband.de
SUMMARY:Astro-Treffen in Bremen
DESCRIPTION:Viele Menschen beschäftigen sich mit Astrologie und haben hier bereits Grundwissen erlangt. Das stammt oft aus alten Seminaren oder aus Büchern. Um die eigenen Kenntnisse lebendig zu halten\, ist es jedoch sinnvoll\, sich regelmäßig auszutauschen. \nIn unserem Astro-Club findet nicht nur ein reger Austausch statt\, sondern es gibt für alle etwas zu lernen. Die gemeinsame Deutung von Horoskopen aus dem wirklichen Leben erleichtert dabei das Studium der Astrologie. So trainieren wir den klaren Blick auf die wesentlichen Themen im Horoskop. An jedem 2. Freitag treffen wir uns live in der Astrologie-Schule Bremen. \nAngewandt werden alle bewährten Methoden der Astrologie\, von der Klassik über die psychologische Astrologie bis hin zur Münchner Rhythmenlehre. Besondere Beachtung finden die Aspekte\, die Transite und die Auslösungen im Siebener-Rhythmus. Außerdem gibt es wichtige Infos zu Astronomie\, Geschichte und Kultur der Astrologie. \nZudem vergleichen wir gelegentlich die Methoden verschiedener Schulen und ihre sinvollen oder weniger sinnvollen Seiten im Praxistest. \nGelehrt wird insbesondere\, worauf zu achten ist\, wenn wir anderen ihre Konstellationen erklären\, privat oder in einer professionellen Beratung. Und wie auf konkrete Fragen einzugehen ist: Fragen nach Partnerschaft\, Gesundheit\, Wohnen\, Zukunft oder Beruf. Schließlich lernen die Teilnehmenden\, selbstständig Horoskope zu deuten\, zum Beispiel als schriftliche Hausaufgabe\, als Referat oder mit geladenen Gästen. \n\n\n\n\nTHEMEN\n \n\nPsychologische Astrologie\nMünchner Rhythmenlehre\nKlassische Astrologie\nAstrologie und Zeitgeschehen\nAktuelle Themen\nBewährte Prognosemethoden\nUnterschiedliche Richtungen der Astrologie im Praxistest\nZusammenhängende Deutung von Horoskopen\nDos and Don’ts in der astrologischen Beratung\n\n\n\n\n\n\nINFO\n\n\n\n\nBeginn: Fr. 30.1.2026 \nZeit: 17.00 – 19.00 Uhr \nDauer: 6 Abende\, jeden zweiten Freitag \nKursgebühr: 240 Euro \nOrt:  Astrologie-Schule Bremen \nTelefon: 0421-72929
URL:https://www.astrologenverband.de/terminkalender/astro-treffen-in-bremen-2/2026-04-10/
LOCATION:Astrologie-Schule Bremen\, Delmestraße 74\, Bremen\, 28199\, Deutschland
CATEGORIES:DAV Regionalstelle,Seminar Präsenz
END:VEVENT
BEGIN:VEVENT
DTSTART;TZID=Europe/Berlin:20260411T090000
DTEND;TZID=Europe/Berlin:20260412T170000
DTSTAMP:20260423T112020
CREATED:20260219T134445Z
LAST-MODIFIED:20260219T134445Z
UID:10005980-1775898000-1776013200@www.astrologenverband.de
SUMMARY:Astrologische Beziehungsanalyse: Synastrie\, Combin & Komposit (Online-Seminar)
DESCRIPTION:In diesem Seminar tauchen wir tief in die Techniken Synastrie\, Combin und Komposit ein\, die uns helfen\, Beziehungsdynamiken zwischen zwei Menschen zu erkennen. \nDabei geht es längst nicht nur um die klassische Partnersuche: Diese Methoden lassen sich ebenso gewinnbringend auf das Verhältnis zu Kollegen\, Freunden\, Familienmitgliedern oder sogar dem eigenen Haustier anwenden. Ein besonderes Plus: Selbst wenn die exakte Geburtszeit des Gegenübers fehlt\, lassen sich bereits verblüffende und wertvolle Einblicke gewinnen. \nDie Schwerpunkte des Kurses:\n\nMethoden-Check: Welche Werkzeuge eignen sich am besten\, um das Zusammenspiel zweier Horoskop-Eigner zu prüfen?\nPotenziale & Hürden: Wir beleuchten\, wo Harmonie fließt und an welchen Stellen Reibungspunkte für Wachstum sorgen können.\nPraxis-Transfer: Anhand von konkreten Fallbeispielen und Übungshoroskopen festigen wir das Gelernte.\nInteraktiver Dialog: Es gibt ausreichend Zeit für deine individuellen Fragen und den gemeinsamen Austausch.\n\nWer sollte teilnehmen?\nDieses Seminar richtet sich an alle Astrologie-Begeisterten\, die bereits über astrologische Grundkenntnisse verfügen und ihre analytischen Fähigkeiten im Bereich der Partnerschaftsastrologie gezielt ausbauen möchten. \nSeminar-Anmeldung unter:\n\n\nSie sehen gerade einen Platzhalterinhalt von Standard. Um auf den eigentlichen Inhalt zuzugreifen\, klicken Sie auf den Button unten. Bitte beachten Sie\, dass dabei Daten an Drittanbieter weitergegeben werden. \n Inhalt entsperren Erforderlichen Service akzeptieren und Inhalte entsperren \n Weitere Informationen
URL:https://www.astrologenverband.de/terminkalender/astrologische-beziehungsanalyse-synastrie-combin-komposit-online-seminar/
CATEGORIES:Seminar Online
ORGANIZER;CN="Sonja%20Karmann":MAILTO:info@astrologie-schule.com
END:VEVENT
END:VCALENDAR