BEGIN:VCALENDAR
VERSION:2.0
PRODID:-//Astrologie | Deutscher Astrologenverband e.V. - ECPv6.1.0//NONSGML v1.0//EN
CALSCALE:GREGORIAN
METHOD:PUBLISH
X-WR-CALNAME:Astrologie | Deutscher Astrologenverband e.V.
X-ORIGINAL-URL:https://www.astrologenverband.de
X-WR-CALDESC:Veranstaltungen für Astrologie | Deutscher Astrologenverband e.V.
REFRESH-INTERVAL;VALUE=DURATION:PT1H
X-Robots-Tag:noindex
X-PUBLISHED-TTL:PT1H
BEGIN:VTIMEZONE
TZID:Europe/Berlin
BEGIN:DAYLIGHT
TZOFFSETFROM:+0100
TZOFFSETTO:+0200
TZNAME:CEST
DTSTART:20260329T010000
END:DAYLIGHT
BEGIN:STANDARD
TZOFFSETFROM:+0200
TZOFFSETTO:+0100
TZNAME:CET
DTSTART:20261025T010000
END:STANDARD
END:VTIMEZONE
BEGIN:VEVENT
DTSTART;TZID=Europe/Berlin:20260223T183000
DTEND;TZID=Europe/Berlin:20260223T210000
DTSTAMP:20260423T111937
CREATED:20250802T110858Z
LAST-MODIFIED:20250802T110858Z
UID:10005518-1771871400-1771880400@www.astrologenverband.de
SUMMARY:Astrologische Psychologie Grundlagen Level 1
DESCRIPTION:Das Einmaleins der Astrologie – einfach\, klar und übersichtlich  \nDu lernst die wichtigsten Vokabeln eines Horoskopes. Planeten\, Häuser \, Aspekte. Und gelernt wird natürlich immer am eigenen Horoskop. Das ist spannend und lehrreich zugleich. Du brauchst keine Vorkenntnisse\, sondern Neugier und einen offenen Geist. Diese Grundlagenkurse Level 1 mit den Modulen 0 bis 12 ist die erste Stufe eines dreigliedrigen zertifizierten Systems. Im Level 2 lernst Du dann alles über die Astrologische Psychologie. \n\nInhalte \nModul 0: Grundsätzliches zur Astrologie\, zum Horoskop und zur Astrologischen Psychologie \nModul 1: Widder\, Mars\, 1. Haus / Grundbegriffe \nModul 2: Stier\, Venus\, 2. Haus / Das Horoskop als Raumgefüge \nModul 3: Zwillinge\, Merkur\, 3. Haus / Grundlagen der Aspekte \nModul 4: Krebs\, Mond\, 4. Haus / Die 5 Schichten des Horoskopes \nModul 5: Löwe\, Sonne\, 5. Haus / Grundlagen des Alterspunktes \nModul 6: Jungfrau\, 6. Haus / Grundlagen und Funktionsweise der Astrologie \nModul 7: Waage\, 7. Haus / Grundlagen der Prognose \nModul 8: Skorpion\, Pluto\, 8. Haus / Der Entwicklungsgedanke \nModul 9: Schütze\, Jupiter\, 9. Haus / Die Planetentafel \nModul 10: Steinbock\, Saturn\, 10. Haus / Die Symbolsprache \nModul 11: Wassermann\, Uranus\, 11. Haus / Die 3 Ebenen des ICH \nModul 12: Fische\, Neptun\, 12. Haus / Die Entwicklung der Persönlichkeitsplaneten \n\nZur Referentin Saskia Borchardt:\nSaskia Borchardt ist zertifizierte Astrologisch-Psychologische Beraterin und Lehrerin der Huber-Methode. \nOnline\nDie Online-Seminare finden live als Zoom-Meetings statt. Sie sind keine vorab aufgezeichneten Kurse zum Selbststudium\, sondern Live-Schulungen mit persönlicher Betreuung. \nUmfang\, Ablauf und Termine\nDie Ausbildung Grundlagen dauert ca. ein halbes Jahr. Die Online-Seminare finden immer Montags statt von 18.30 bis 21 Uhr. Die Arbeitsunterlagen werden jeweils zur Verfügung gestellt. \nAbschluss Level 1\nZertifikat I Grundlagen Astrologie\nDie Grundlagen dienen als Voraussetzung für den Einstieg in das Studium Astrologische Psychologie Level 2 (Huber-Methode)
URL:https://www.astrologenverband.de/terminkalender/astrologische-psychologie-grundlagen-level-1/2026-02-23/
LOCATION:Online / Schule Lummer und Borchardt
CATEGORIES:Seminar Online
ORGANIZER;CN="Astrologische%20Psychologie%20Birgit%20Lummer%20und%20Saskia%20Borchardt":MAILTO:astro@lummer.de
END:VEVENT
BEGIN:VEVENT
DTSTART;TZID=Europe/Berlin:20260223T190000
DTEND;TZID=Europe/Berlin:20260223T210000
DTSTAMP:20260423T111937
CREATED:20250115T102337Z
LAST-MODIFIED:20250414T163557Z
UID:10005106-1771873200-1771880400@www.astrologenverband.de
SUMMARY:Astrologie Café
DESCRIPTION:Offene Abende für Astrologie Begeisterte!\nBring dein Horoskop oder deine Daten (Geburtsort & Zeit) und deine Fragen.\nDie Abende sind deinen Fragen gewidmet.\nAsk us anythink!\nGemeinsam in der Gruppe\, und wundervoller Umgebung\, schauen wir dann\, wo sich die Antworten in deinem Geburtsbild finden lassen.\nJede*r ist willkommen\, die einzigen Vorausetzungen sind deine Neugier & Freude an den Sternen!\nWir freuen uns auf Dich!
URL:https://www.astrologenverband.de/terminkalender/astrologie-cafe/2026-02-23/
LOCATION:Raum & Zeit am Wirtsberg\, Hainsbach\, Am Wirtsberg 6a\, Geiselhöring\, Bayern\, 94333\, Deutschland
ORGANIZER;CN="Astrologische%20Psychologie%20lernen":MAILTO:info@ap-lernen.de
END:VEVENT
BEGIN:VEVENT
DTSTART;TZID=Europe/Berlin:20260224T190000
DTEND;TZID=Europe/Berlin:20260224T210000
DTSTAMP:20260423T111937
CREATED:20250726T160503Z
LAST-MODIFIED:20250726T160503Z
UID:10005450-1771959600-1771966800@www.astrologenverband.de
SUMMARY:Online-Grundausbildung Astrologie 2026 (6)
DESCRIPTION:Die beliebte Astrologos-Grundausbildung wird ab 13. Januar 2026 erneut angeboten. Im Verlauf von 30 Abenden und einem Tagesseminar vor Ort werden die Deutungsansätze der wichtigen Astrologie-Schulen systemübergreifend vermittelt. Psychologische Theorien und Konzepte ergänzen die Inhalte\, so dass Sie die astrologischen Symbole sinnvoll in ihrer Arbeit einsetzen können. \nIm Verlauf von zwei Grundstufen lernen Sie\, Horoskope zu deuten und entdecken schrittweise das uralte Wissen der Astrologie. Gleichzeitig lernen Sie ihr persönliches Horoskop kennen und entdecken so einem Weg der Selbstentwicklung und Selbstentfaltung. \nIm Anschluss an jeden Abend erhalten Sie das Video und zu jedem Thema ein ausführliches Skript\, so dass Sie verpasste Termine nacharbeiten können. \nEin kostenloser Infoabend zu dieser Astrologie-Ausbildung findet am 12. November 2025 statt. \nAusführliche Informationen zur Ausbildung finden Sie auf der Astrologos-Website. Für weitere Informationen und die Anmeldung nehmen Sie bitte per E-Mail oder telefonisch Kontakt mit mir auf. \nDie E-Mail-Adresse ist: kontakt@astrologos.de\, die Telefonnummer: 0234-683723.
URL:https://www.astrologenverband.de/terminkalender/online-grundausbildung-astrologie-2026-6/
LOCATION:DAV-Zentrum Bochum-Ruhrgebiet\, Deutschland
CATEGORIES:DAV Ausbildungszentrum,Seminar Online
ORGANIZER;CN="DAV-Astrologiezentrum%20Ruhrgebiet":MAILTO:kontakt@astrologos.de
END:VEVENT
BEGIN:VEVENT
DTSTART;TZID=Europe/Berlin:20260224T190000
DTEND;TZID=Europe/Berlin:20260224T210000
DTSTAMP:20260423T111937
CREATED:20260129T090804Z
LAST-MODIFIED:20260129T091154Z
UID:10005941-1771959600-1771966800@www.astrologenverband.de
SUMMARY:Fachausbildung Astromedizin 14
DESCRIPTION:Fachausbildung für medizinisch interessierte Astrologen und astrologisch interessierte Therapeuten\n60 Veranstaltungen in 30 Monaten\, jeweils 19-21 Uhr\nLive mit Interaktion auf meiner Online-Akademie\nDen TeilnehmerInnen stehen Skript\, Präsentation und Videoaufnahme zur Verfügung. \nFachseminare über die verschiedenen Organbereiche: \n1.Das zentrale und periphere Nervensystem – Forschung anhand von Fallbeispielen: Schwindel\, Epilepsie\, Apoplexie\, Enzephalitis\, Morbus Parkinson und Polyneuropathie\n2. Das endokrine System 1 – Erkrankungen von Schilddrüse und Nebenschilddrüse anhand von Fallbeispielen: Unter- und Überfunktion\, Hashimoto\n3. Das endokrine System 2 – Hypothalamus\, Hypophyse\, Epiphyse\, Thymus\, Nebenniere und ihre möglichen Fehlfunktionen mit Auswirkungen: z. B. Cushing\, Wachstumsstörungen\, Unfruchtbarkeit\, Virilismus und Hirsutismus\n4. Blut und lymphoretikuläres System – Schwerpunkte: Anämie\, Leukämie\, Hodgkin\, Non Hodgkin\, AIDS\n5. Kreislaufsystem – Erkrankungen von Arterien und Venen – Schwerpunkt Verschlüsse und Aneurysmen\n6. Herz und Atmungssystem – Schwerpunkte der Fallanalysen: Herzfehler\, Asthma und Lungenembolie\n7. Verdauungssystem 1 – Erkrankungen des Magen-Darm-Traktes: z. B. Morbus Crohn und Colitis ulcerosa\n8. Verdauungssystem 2 – Leber\, Galle\, Bauchspeicheldrüse – Schwerpunkte: Hepatitis\, Leberzirrhose\, Gallensteinleiden\n9. Stoffwechsel – insbesondere Diabetes aus astromedizinischer Sicht\n10.Ausscheidungssystem – Erkrankungen der Nieren – Forschungsschwerpunkt: Die Beteiligung von Isis bei Nierenleiden\n11.Bewegungsapparat 1 – Gelenk- und Wirbelsäulenerkrankungen – Schwerpunkt: Arthrose und Morbus Bechterew\n12. Bewegungsapparat 2 – Kollagenosen\, Vaskulitiden\, Schwerpunktthema: Fibromyalgie \n 
URL:https://www.astrologenverband.de/terminkalender/fachausbildung-astromedizin-14-2/
LOCATION:Online-Akademie Heide Trautmann\, Schillerstraße\, Blieskastel\, 66440\, Deutschland
CATEGORIES:Seminar Online
ORGANIZER;CN="Heide%20Trautmann%2C%20Heilpraktikerin%20und%20Astromedizinerin":MAILTO:hp.heidetrautmann@astromedizin.info
END:VEVENT
BEGIN:VEVENT
DTSTART;TZID=Europe/Berlin:20260224T193000
DTEND;TZID=Europe/Berlin:20260224T213000
DTSTAMP:20260423T111937
CREATED:20250129T154123Z
LAST-MODIFIED:20250210T180539Z
UID:10004627-1771961400-1771968600@www.astrologenverband.de
SUMMARY:Einjährige Online-Grundausbildung Astrologie (6)
DESCRIPTION:In 31 Abend-Webinaren (jeweils dienstags 19:30 – 21:30 Uhr) bis Dezember erhalten Sie durch die Astrologin Petra Dörfert eine umfassende Einführung in die Horoskopdeutung. Alle Termine finden live statt\, so dass viel Zeit für Fragen und gemeinsames Üben bleibt. In umfangreichen Begleitmaterialien sind die wichtigsten Inhalte noch einmal übersichtlich zusammengefasst. \nAlle Informationen zur Ausbildung stehen hier zum Download bereit. \nFür die Anmeldung nehmen Sie bitte per E-Mail oder telefonisch Kontakt mit mir auf (siehe unten)\, dann sende ich Ihnen das Anmeldeformular zu. \nDer Grundkurs ist Teil der 3-4-jährigen Online-Ausbildung Astrologie mit den Aufbaukursen Prognose\, Partnerschaftsastrologie\, Beratertraining und DAV-Prüfungsvorbereitung (jedes Modul ist einzeln buchbar). Mehr dazu finden Sie auf der Homepage der Online Akademie Astrologie Petra Dörfert. \nDie nächste Grundausbildung startet im kommenden Januar!
URL:https://www.astrologenverband.de/terminkalender/einjaehrige-online-grundausbildung-astrologie-6-2/
LOCATION:Online\, Deutschland
CATEGORIES:DAV Ausbildungszentrum,Seminar Online
ORGANIZER;CN="Online%20Akademie%20Astrologie%20Petra%20D%C3%B6rfert%20%2F%20DAV%20Ausbildungszentrum":MAILTO:info@online-akademie-astrologie.com
END:VEVENT
BEGIN:VEVENT
DTSTART;TZID=Europe/Berlin:20260225T193000
DTEND;TZID=Europe/Berlin:20260225T213000
DTSTAMP:20260423T111937
CREATED:20250202T131802Z
LAST-MODIFIED:20250202T131802Z
UID:10004717-1772047800-1772055000@www.astrologenverband.de
SUMMARY:Online-Ausbildung Astromedizin (13)
DESCRIPTION:In 21 Abenden (jeweils mittwochs von 19:30 – 21:30 Uhr) erhalten Sie durch die Astrologin Petra Dörfert eine umfassende Einführung in die Astromedizin. Neben den Grundlagen (Zuordnung von Organen und Krankheiten zu den Tierkreiszeichen\, Häusern und Planeten) beschäftigen wir uns mit zahlreichen körperlichen und psychischen Erkrankungen\, der Frage der Prävention\, der Kinderwunschberatung sowie der Berechnung von OP-Terminen. \nSämtliche Informationen zur Ausbildung finden Sie hier. \nFür die Anmeldung nehmen Sie bitte per E-Mail oder telefonisch Kontakt mit mir auf (siehe unten)\, dann sende ich Ihnen das Anmeldeformular zu. \nDer nächste Astromedizin-Zyklus startet im kommenden September!
URL:https://www.astrologenverband.de/terminkalender/online-ausbildung-astromedizin-13/
LOCATION:Online\, Deutschland
CATEGORIES:DAV Ausbildungszentrum,Seminar Online
ORGANIZER;CN="Online%20Akademie%20Astrologie%20Petra%20D%C3%B6rfert%20%2F%20DAV%20Ausbildungszentrum":MAILTO:info@online-akademie-astrologie.com
END:VEVENT
BEGIN:VEVENT
DTSTART;VALUE=DATE:20260228
DTEND;VALUE=DATE:20260303
DTSTAMP:20260423T111937
CREATED:20260112T171342Z
LAST-MODIFIED:20260112T171342Z
UID:10005903-1772265600-1772438399@www.astrologenverband.de
SUMMARY:Messe - Lübeck - Astrologie & Vortrag
DESCRIPTION:Art of Soul 2026 – Astrologie als Symbolsprache\nDie drei Schlüssel Datum\, Ort und Zeit zeigen den roten Faden für Leben\, Gesundheit und Prävention \nMein Leben war schon immer geprägt von Neugier\, Reisen und dem Wunsch\, Menschen und Tiere wirklich zu verstehen. Viele Orte\, die in meinem Geburtshoroskop angelegt sind\, habe ich selbst bereist – nicht als Zufall\, sondern als Ausdruck innerer Entwicklungsphasen. Diese Erfahrung prägt meine Arbeit bis heute. \nArt of Soul versteht Astrologie als Symbolsprache des Lebens. Geburtsdatum\, -ort und -zeit bilden drei zentrale Schlüssel\, mit denen sich der persönliche rote Faden lesen lässt – nicht als feste Bestimmung\, sondern als innere Orientierung für Gesundheit\, Selbstführung und bewusste Entscheidungen. \nIch begleite vor allem feinfühlige Frauen dabei\, ihre energetischen Gesundheitsmuster zu erkennen\, ursprüngliche Stärken zu aktivieren und besser zu verstehen\, was sie nährt oder erschöpft. Mein Ansatz verbindet moderne Gesundheitsastrologie\, intuitive Körperwahrnehmung und – einzigartig in dieser Form – Tierkommunikation. So entsteht ein ganzheitlicher Kompass für körperliche\, emotionale und energetische Balance. \nUnsere Tiere spiegeln Themen\, Bedürfnisse und innere Zustände – ihr Verhalten spricht eine klare Sprache. In Verbindung mit dem Horoskop von Mensch und Tier werden Zusammenhänge sichtbar\, die tiefes Verständnis und neue Handlungsspielräume eröffnen. \nDiese Form der Beratung geht weit über klassische Horoskope hinaus. Sie schafft Klarheit\, Selbstwert und Vertrauen in den eigenen Weg – beruflich\, emotional und gesundheitlich. Gruß Elisabeth Trauthig
URL:https://www.astrologenverband.de/terminkalender/messe-luebeck-astrologie-vortrag/
CATEGORIES:Vortrag Präsenz
END:VEVENT
BEGIN:VEVENT
DTSTART;TZID=Europe/Berlin:20260301T123000
DTEND;TZID=Europe/Berlin:20260301T153000
DTSTAMP:20260423T111937
CREATED:20260217T113620Z
LAST-MODIFIED:20260217T113620Z
UID:10005970-1772368200-1772379000@www.astrologenverband.de
SUMMARY:Webinar: Die Magie der Dunkelheit: Finsternisse als Wegweiser im Leben
DESCRIPTION:Entdecken Sie die klassische Symbolik von Licht und Schatten!\nWie beeinflussen diese dualen Kräfte unsere Motivationen und Lebensausrichtung? Was offenbart die pränatale Finsternis?\nIn diesem Webinar erfahren Sie\, wie Finsternisse in sekundären Progressionen und Solar-Return-Analysen eine Rolle spielen und welche tiefgreifenden Bedeutungen sie für Ihr persönliches Wachstum haben können.\nSeien Sie dabei und lernen Sie\, wie Sie diese Erkenntnisse in Ihrem Leben anwenden können! \nMelden Sie sich jetzt unter www.astro-zorya.eu  an! \nTeilnahmegebühr: 50 Euro
URL:https://www.astrologenverband.de/terminkalender/webinar-die-magie-der-dunkelheit-finsternisse-als-wegweiser-im-leben/
ORGANIZER;CN="Maria%20Lohri":MAILTO:maria.lohri@astro-zorya.eu
END:VEVENT
END:VCALENDAR