BEGIN:VCALENDAR
VERSION:2.0
PRODID:-//Astrologie | Deutscher Astrologenverband e.V. - ECPv6.1.0//NONSGML v1.0//EN
CALSCALE:GREGORIAN
METHOD:PUBLISH
X-ORIGINAL-URL:https://www.astrologenverband.de
X-WR-CALDESC:Veranstaltungen für Astrologie | Deutscher Astrologenverband e.V.
REFRESH-INTERVAL;VALUE=DURATION:PT1H
X-Robots-Tag:noindex
X-PUBLISHED-TTL:PT1H
BEGIN:VTIMEZONE
TZID:Europe/Berlin
BEGIN:DAYLIGHT
TZOFFSETFROM:+0100
TZOFFSETTO:+0200
TZNAME:CEST
DTSTART:20260329T010000
END:DAYLIGHT
BEGIN:STANDARD
TZOFFSETFROM:+0200
TZOFFSETTO:+0100
TZNAME:CET
DTSTART:20261025T010000
END:STANDARD
END:VTIMEZONE
BEGIN:VEVENT
DTSTART;TZID=Europe/Berlin:20260202T190000
DTEND;TZID=Europe/Berlin:20260202T210000
DTSTAMP:20260423T065205
CREATED:20251121T095228Z
LAST-MODIFIED:20260112T125053Z
UID:10005829-1770058800-1770066000@www.astrologenverband.de
SUMMARY:Online-Weiterbildung: Astrologie und Heilkunde
DESCRIPTION:Alles\, was sich körperlich abspielt\, passiert in Resonanz mit unseren Konstellationen. Und wenn es uns gelingt\, deren Themen sinnvoll zu leben\, bleiben wir am ehesten gesund. In diesem Online-Kurs lernen wir\, was dabei zu beachten ist. Und mit welchen Mitteln wir helfen können\, herausfordernde Konstellationen zu heilen. \nSchwerpunktmäßig konzentrieren wir uns im Seminar auf die Anwendung astrologischen Wissens\, mit Beispielhoroskopen zur Diagnose\, Ursache und Therapie von Erkrankungen. Hier schauen wir auch\, wann der beste Zeitpunkt für eine passende medizinische Behandlung ist.  \nDabei erfahren wir viel über die Zuordnung der Tierkreiszeichen\, Planeten und Aspekte zu den jeweiligen Organen oder Symptomen. Zudem wird gelehrt\, welche Heilpmittel für jemanden geeignet sind. Auch achten wir darauf\, welche astrologischen Themen hinter bestimmten Beschwerden stehen. Denn dort finden wir oft die Lösung\, was wir tun können\, um gesünder zu werden. \nIm Seminar werden wir besprechen\, wie wir uns und anderen mit Astrologie bei gesundheitlichen Fragen weiterhelfen können. So werden wir lernen\, verantwortungsvoll zu beraten\, wenn es um medizinische Themen geht. \nDas Heilkunde-Seminar empfiehlt sich für alle\, die bereits etwas Vorwissen zum Thema haben. Zudem ist es ein Modul der Ausbildung an der Astrologie-Schule Bremen. \n\n\n\n\n\n\n\n\n\nTHEMEN \n\nKörperliche Zuordung von Zeichen und Planeten\nAspekte der Planeten und ihre somatische Wirkung\, insbesondere von überpersönlichen mit persönlichen Planeten\nPsychosomatische Hintergründe\nErlösung von Konstellationen\nHeilmittel und Therapieformen: die astrologischen Entsprechungen\nZeitpunkte für Behandlungen und planbare OPs\nChancen und Grenzen der astrologischen Heilkunde\nAstrologische Gesundheitsberatung unter Berücksichtigung der Freiheit und Würde der Ratsuchenden\n\n\n\n\n\n\n\nINFO \nBeginn: Mo. 19.1.2026 \nZeit: 19.00-21.00 Uhr \nDauer: 14 Abende\, montags \nKursgebühr: 392 Euro \nOrt: Online \nAnmeldung
URL:https://www.astrologenverband.de/terminkalender/online-ausbildung-astrologie-und-heilkunde-2/2026-02-02/
LOCATION:Online\, Astrologie-Schule Bremen\, Deutschland
CATEGORIES:DAV Regionalstelle,Fernstudium,Seminar Online
END:VEVENT
BEGIN:VEVENT
DTSTART;TZID=Europe/Berlin:20260209T190000
DTEND;TZID=Europe/Berlin:20260209T210000
DTSTAMP:20260423T065205
CREATED:20251121T095228Z
LAST-MODIFIED:20260112T125053Z
UID:10005830-1770663600-1770670800@www.astrologenverband.de
SUMMARY:Online-Weiterbildung: Astrologie und Heilkunde
DESCRIPTION:Alles\, was sich körperlich abspielt\, passiert in Resonanz mit unseren Konstellationen. Und wenn es uns gelingt\, deren Themen sinnvoll zu leben\, bleiben wir am ehesten gesund. In diesem Online-Kurs lernen wir\, was dabei zu beachten ist. Und mit welchen Mitteln wir helfen können\, herausfordernde Konstellationen zu heilen. \nSchwerpunktmäßig konzentrieren wir uns im Seminar auf die Anwendung astrologischen Wissens\, mit Beispielhoroskopen zur Diagnose\, Ursache und Therapie von Erkrankungen. Hier schauen wir auch\, wann der beste Zeitpunkt für eine passende medizinische Behandlung ist.  \nDabei erfahren wir viel über die Zuordnung der Tierkreiszeichen\, Planeten und Aspekte zu den jeweiligen Organen oder Symptomen. Zudem wird gelehrt\, welche Heilpmittel für jemanden geeignet sind. Auch achten wir darauf\, welche astrologischen Themen hinter bestimmten Beschwerden stehen. Denn dort finden wir oft die Lösung\, was wir tun können\, um gesünder zu werden. \nIm Seminar werden wir besprechen\, wie wir uns und anderen mit Astrologie bei gesundheitlichen Fragen weiterhelfen können. So werden wir lernen\, verantwortungsvoll zu beraten\, wenn es um medizinische Themen geht. \nDas Heilkunde-Seminar empfiehlt sich für alle\, die bereits etwas Vorwissen zum Thema haben. Zudem ist es ein Modul der Ausbildung an der Astrologie-Schule Bremen. \n\n\n\n\n\n\n\n\n\nTHEMEN \n\nKörperliche Zuordung von Zeichen und Planeten\nAspekte der Planeten und ihre somatische Wirkung\, insbesondere von überpersönlichen mit persönlichen Planeten\nPsychosomatische Hintergründe\nErlösung von Konstellationen\nHeilmittel und Therapieformen: die astrologischen Entsprechungen\nZeitpunkte für Behandlungen und planbare OPs\nChancen und Grenzen der astrologischen Heilkunde\nAstrologische Gesundheitsberatung unter Berücksichtigung der Freiheit und Würde der Ratsuchenden\n\n\n\n\n\n\n\nINFO \nBeginn: Mo. 19.1.2026 \nZeit: 19.00-21.00 Uhr \nDauer: 14 Abende\, montags \nKursgebühr: 392 Euro \nOrt: Online \nAnmeldung
URL:https://www.astrologenverband.de/terminkalender/online-ausbildung-astrologie-und-heilkunde-2/2026-02-09/
LOCATION:Online\, Astrologie-Schule Bremen\, Deutschland
CATEGORIES:DAV Regionalstelle,Fernstudium,Seminar Online
END:VEVENT
BEGIN:VEVENT
DTSTART;TZID=Europe/Berlin:20260210T190000
DTEND;TZID=Europe/Berlin:20260210T210000
DTSTAMP:20260423T065205
CREATED:20260123T194530Z
LAST-MODIFIED:20260205T083933Z
UID:10005920-1770750000-1770757200@www.astrologenverband.de
SUMMARY:Fachausbildung Astromedizin 13
DESCRIPTION:Fachausbildung für medizinisch interessierte Astrologen und astrologisch interessierte Therapeuten\nInsgesamt 60 Veranstaltungen in 30 Monaten\nLive mit Interaktion auf meiner Online-Akademie\nDen TeilnehmerInnen stehen Skript\, Präsentation und Videoaufnahme zur Verfügung. \nFachseminare über die verschiedenen Organbereiche: \n1.Das zentrale und periphere Nervensystem – Forschung anhand von Fallbeispielen: Schwindel\, Epilepsie\, Apoplexie\, Enzephalitis\, Morbus Parkinson und Polyneuropathie\n2. Das endokrine System 1 – Erkrankungen von Schilddrüse und Nebenschilddrüse anhand von Fallbeispielen: Unter- und Überfunktion\, Hashimoto\n3. Das endokrine System 2 – Hypothalamus\, Hypophyse\, Epiphyse\, Thymus\, Nebenniere und ihre möglichen Fehlfunktionen mit Auswirkungen: z. B. Cushing\, Wachstumsstörungen\, Unfruchtbarkeit\, Virilismus und Hirsutismus\n4. Blut und lymphoretikuläres System – Schwerpunkte: Anämie\, Leukämie\, Hodgkin\, Non Hodgkin\, AIDS\n5. Kreislaufsystem – Erkrankungen von Arterien und Venen – Schwerpunkt Verschlüsse und Aneurysmen\n6. Herz und Atmungssystem – Schwerpunkte der Fallanalysen: Herzfehler\, Asthma und Lungenembolie\n7. Verdauungssystem 1 – Erkrankungen des Magen-Darm-Traktes: z. B. Morbus Crohn und Colitis ulcerosa\n8. Verdauungssystem 2 – Leber\, Galle\, Bauchspeicheldrüse – Schwerpunkte: Hepatitis\, Leberzirrhose\, Gallensteinleiden\n9. Stoffwechsel – insbesondere Diabetes aus astromedizinischer Sicht\n10.Ausscheidungssystem – Erkrankungen der Nieren – Forschungsschwerpunkt: Die Beteiligung von Isis bei Nierenleiden\n11.Bewegungsapparat 1 – Gelenk- und Wirbelsäulenerkrankungen – Schwerpunkt: Arthrose und Morbus Bechterew\n12. Bewegungsapparat 2 – Kollagenosen\, Vaskulitiden\, Schwerpunktthema: Fibromyalgie \n 
URL:https://www.astrologenverband.de/terminkalender/fachausbildung-astromedizin-13/
LOCATION:Online-Akademie Heide Trautmann\, Schillerstraße\, Blieskastel\, 66440\, Deutschland
CATEGORIES:Seminar Online
ORGANIZER;CN="Heide%20Trautmann%2C%20Heilpraktikerin%20und%20Astromedizinerin":MAILTO:hp.heidetrautmann@astromedizin.info
END:VEVENT
BEGIN:VEVENT
DTSTART;TZID=Europe/Berlin:20260216T190000
DTEND;TZID=Europe/Berlin:20260216T210000
DTSTAMP:20260423T065205
CREATED:20251121T095228Z
LAST-MODIFIED:20260112T125053Z
UID:10005831-1771268400-1771275600@www.astrologenverband.de
SUMMARY:Online-Weiterbildung: Astrologie und Heilkunde
DESCRIPTION:Alles\, was sich körperlich abspielt\, passiert in Resonanz mit unseren Konstellationen. Und wenn es uns gelingt\, deren Themen sinnvoll zu leben\, bleiben wir am ehesten gesund. In diesem Online-Kurs lernen wir\, was dabei zu beachten ist. Und mit welchen Mitteln wir helfen können\, herausfordernde Konstellationen zu heilen. \nSchwerpunktmäßig konzentrieren wir uns im Seminar auf die Anwendung astrologischen Wissens\, mit Beispielhoroskopen zur Diagnose\, Ursache und Therapie von Erkrankungen. Hier schauen wir auch\, wann der beste Zeitpunkt für eine passende medizinische Behandlung ist.  \nDabei erfahren wir viel über die Zuordnung der Tierkreiszeichen\, Planeten und Aspekte zu den jeweiligen Organen oder Symptomen. Zudem wird gelehrt\, welche Heilpmittel für jemanden geeignet sind. Auch achten wir darauf\, welche astrologischen Themen hinter bestimmten Beschwerden stehen. Denn dort finden wir oft die Lösung\, was wir tun können\, um gesünder zu werden. \nIm Seminar werden wir besprechen\, wie wir uns und anderen mit Astrologie bei gesundheitlichen Fragen weiterhelfen können. So werden wir lernen\, verantwortungsvoll zu beraten\, wenn es um medizinische Themen geht. \nDas Heilkunde-Seminar empfiehlt sich für alle\, die bereits etwas Vorwissen zum Thema haben. Zudem ist es ein Modul der Ausbildung an der Astrologie-Schule Bremen. \n\n\n\n\n\n\n\n\n\nTHEMEN \n\nKörperliche Zuordung von Zeichen und Planeten\nAspekte der Planeten und ihre somatische Wirkung\, insbesondere von überpersönlichen mit persönlichen Planeten\nPsychosomatische Hintergründe\nErlösung von Konstellationen\nHeilmittel und Therapieformen: die astrologischen Entsprechungen\nZeitpunkte für Behandlungen und planbare OPs\nChancen und Grenzen der astrologischen Heilkunde\nAstrologische Gesundheitsberatung unter Berücksichtigung der Freiheit und Würde der Ratsuchenden\n\n\n\n\n\n\n\nINFO \nBeginn: Mo. 19.1.2026 \nZeit: 19.00-21.00 Uhr \nDauer: 14 Abende\, montags \nKursgebühr: 392 Euro \nOrt: Online \nAnmeldung
URL:https://www.astrologenverband.de/terminkalender/online-ausbildung-astrologie-und-heilkunde-2/2026-02-16/
LOCATION:Online\, Astrologie-Schule Bremen\, Deutschland
CATEGORIES:DAV Regionalstelle,Fernstudium,Seminar Online
END:VEVENT
END:VCALENDAR