BEGIN:VCALENDAR
VERSION:2.0
PRODID:-//Astrologie | Deutscher Astrologenverband e.V. - ECPv6.1.0//NONSGML v1.0//EN
CALSCALE:GREGORIAN
METHOD:PUBLISH
X-ORIGINAL-URL:https://www.astrologenverband.de
X-WR-CALDESC:Veranstaltungen für Astrologie | Deutscher Astrologenverband e.V.
REFRESH-INTERVAL;VALUE=DURATION:PT1H
X-Robots-Tag:noindex
X-PUBLISHED-TTL:PT1H
BEGIN:VTIMEZONE
TZID:Europe/Berlin
BEGIN:DAYLIGHT
TZOFFSETFROM:+0100
TZOFFSETTO:+0200
TZNAME:CEST
DTSTART:20260329T010000
END:DAYLIGHT
BEGIN:STANDARD
TZOFFSETFROM:+0200
TZOFFSETTO:+0100
TZNAME:CET
DTSTART:20261025T010000
END:STANDARD
END:VTIMEZONE
BEGIN:VEVENT
DTSTART;TZID=Europe/Berlin:20260506T190000
DTEND;TZID=Europe/Berlin:20260506T210000
DTSTAMP:20260420T165531
CREATED:20260126T173528Z
LAST-MODIFIED:20260126T173528Z
UID:10005927-1778094000-1778101200@www.astrologenverband.de
SUMMARY:Online Intensivausbildung Astrologie (5)
DESCRIPTION:Auf Wunsch von vielen Astroschüler*innen der Astrologos-Ausbildungen gibt es ab März 2026 erstmals eine Intensivausbildung Astrologie als Online-Angebot. Sie wendet sich an Teilnehmer mit guten Grundkenntnissen\, die ihr gelerntes Wissen für die astrologische Beratungsarbeit nutzen möchten – und gleichzeitig nach einer attraktiven Synthese von traditioneller und moderner psychologischer Astrologie suchen. \nIm Verlauf von 12 Abenden und einem Tagesseminar vor Ort werden einzelne Bereiche der astrologischen Deutung vertieft und es geht um Methoden\, die Schlüsselthemen eines Horoskops und den roten Faden bei der Deutung sichtbar zu machen. \nDas Beste aus beiden Welten – zum Wohle der Ratsuchenden! \nThemen sind u.a. die Basics der traditionellen Astrologie\, Grundlagen der Elektionsastrologie\, Strukturdeutungm Combinhoroskope\, Astrokartografie und Astromedizin. \nDie Abende finden über die Online-Plattform Zoom statt. Den Teilnehmenden wir die Möglichkeit geboten\, zu jedem Abend ein Video zu bekommen. Mit ausführlichen Skripten zu jedem Thema können Sie so verpasste Inhalte nacharbeiten. \nAusführliche Informationen zur Ausbildung zu diesem Weiterbildungsangebot finden Sie auf der Astrologos-Website. \nFür weitere Informationen und die Anmeldung nehmen Sie bitte per E-Mail oder telefonisch Kontakt mit mir auf. \nDie E-Mail-Adresse ist: kontakt@astrologos.de\, die Telefonnummer: 0234-683723.
URL:https://www.astrologenverband.de/terminkalender/online-intensivausbildung-astrologie-5/
LOCATION:DAV-Zentrum Bochum-Ruhrgebiet\, Deutschland
CATEGORIES:DAV Ausbildungszentrum,Seminar Online
ORGANIZER;CN="DAV-Astrologiezentrum%20Ruhrgebiet":MAILTO:kontakt@astrologos.de
END:VEVENT
BEGIN:VEVENT
DTSTART;TZID=Europe/Berlin:20260507T193000
DTEND;TZID=Europe/Berlin:20260507T213000
DTSTAMP:20260420T165531
CREATED:20260329T165827Z
LAST-MODIFIED:20260409T105838Z
UID:10006340-1778182200-1778189400@www.astrologenverband.de
SUMMARY:Online-Seminar: Beziehungen und Horoskopvergleich
DESCRIPTION:Es ist immer wieder spannend\, die Dynamik von Beziehungen mit dem Horoskop aufzuschlüsseln. Das gilt nicht nur für Astrologie und Partnerschaft im landläufigen Sinne. Denn auch andere Begegnungen sind ja interessant\, wie zum Beispiel die von Familienmitgliedern\, Freunden\, Geschäftspartnern und sogar von Staaten. \nIn diesem Online-Seminar geht es besonders um den Chartvergleich. Hier lernen wir zunächst\, die beiden unterschiedlichen Horoskopbilder zu verstehen. Dann schauen wir\, wo es aufbauende Verbindungen zueinander gibt. Oder wo Herausforderungen im Miteinander warten\, und wie diese gemeistert werden können. Dabei lernen wir viel über die gängigen Methoden im Horoskopvergleich: die Synastrie\, das Composit und das Combin. Und last not least deuten wir reale Begegnungshoroskope wie zum Beispiel das vom ersten Treffen oder vom Jawort. \nWie von selbst erfahren wir so zudem eine Menge über die Aspekte der Planeten\, die Häuser im Horoskop\, den Siebener-Rhythmus und das Wirken aktueller Konstellationen. \nGemeinsam werden wir über Zoom das Unterrichtsmaterial am Bildschirm anschauen\, besprechen und einstudieren. Zudem werden die Videos aufgenommen\, so dass es möglich ist\, das Gelernte in Ruhe nachzuarbeiten oder jene Abende dennoch zu erleben\, an denen Sie vielleicht nicht live teilnehmen können. Die Videos sind ausschließlich für die Teilnehmenden bestimmt. Das Bildmaterial\, die Texte und gelegentliche Hausaufgaben gibt es dann per E-Mail\, zusammen mit den wöchentlich versendeten Videos vom Kurs. \nDas Online-Seminar ist außerdem Modul der Ausbildung an unserer Astrologie-Schule. \n\n\n\n\nTHEMEN \n\nHoroskopvergleich\nSynastrie\, Composit und Combin\nAstrologie und Partnerschaft\nBegegnungshoroskope\nErkennen wichtiger Themen\nLösungen für ein gutes Miteinander\nAnwendung des Siebener-Rhythmus\nAktuelle Konstellationen und Beziehungsdynamik\n\nBeginn: Do. 7.5.2026 \nZeit: 19.30-21.30 Uhr \nDauer: 12 Abende\, donnerstags \nKursgebühr: 420 Euro \nTelefon: 0049 421 72929 \nVoranmeldung \n 
URL:https://www.astrologenverband.de/terminkalender/online-seminar-beziehungen-und-horoskopvergleich-2/2026-05-07/
LOCATION:Online\, Astrologie-Schule Bremen\, Deutschland
CATEGORIES:DAV Regionalstelle,Seminar Online
END:VEVENT
END:VCALENDAR