BEGIN:VCALENDAR
VERSION:2.0
PRODID:-//Astrologie | Deutscher Astrologenverband e.V. - ECPv6.1.0//NONSGML v1.0//EN
CALSCALE:GREGORIAN
METHOD:PUBLISH
X-ORIGINAL-URL:https://www.astrologenverband.de
X-WR-CALDESC:Veranstaltungen für Astrologie | Deutscher Astrologenverband e.V.
REFRESH-INTERVAL;VALUE=DURATION:PT1H
X-Robots-Tag:noindex
X-PUBLISHED-TTL:PT1H
BEGIN:VTIMEZONE
TZID:Europe/Berlin
BEGIN:DAYLIGHT
TZOFFSETFROM:+0100
TZOFFSETTO:+0200
TZNAME:CEST
DTSTART:20260329T010000
END:DAYLIGHT
BEGIN:STANDARD
TZOFFSETFROM:+0200
TZOFFSETTO:+0100
TZNAME:CET
DTSTART:20261025T010000
END:STANDARD
END:VTIMEZONE
BEGIN:VEVENT
DTSTART;TZID=Europe/Berlin:20260325T190000
DTEND;TZID=Europe/Berlin:20260325T210000
DTSTAMP:20260420T233321
CREATED:20260126T173025Z
LAST-MODIFIED:20260126T173025Z
UID:10005924-1774465200-1774472400@www.astrologenverband.de
SUMMARY:Online Intensivausbildung Astrologie (2)
DESCRIPTION:Auf Wunsch von vielen Astroschüler*innen der Astrologos-Ausbildungen gibt es ab März 2026 erstmals eine Intensivausbildung Astrologie als Online-Angebot. Sie wendet sich an Teilnehmer mit guten Grundkenntnissen\, die ihr gelerntes Wissen für die astrologische Beratungsarbeit nutzen möchten – und gleichzeitig nach einer attraktiven Synthese von traditioneller und moderner psychologischer Astrologie suchen. \nIm Verlauf von 12 Abenden und einem Tagesseminar vor Ort werden einzelne Bereiche der astrologischen Deutung vertieft und es geht um Methoden\, die Schlüsselthemen eines Horoskops und den roten Faden bei der Deutung sichtbar zu machen. \nDas Beste aus beiden Welten – zum Wohle der Ratsuchenden! \nThemen sind u.a. die Basics der traditionellen Astrologie\, Grundlagen der Elektionsastrologie\, Strukturdeutungm Combinhoroskope\, Astrokartografie und Astromedizin. \nDie Abende finden über die Online-Plattform Zoom statt. Den Teilnehmenden wir die Möglichkeit geboten\, zu jedem Abend ein Video zu bekommen. Mit ausführlichen Skripten zu jedem Thema können Sie so verpasste Inhalte nacharbeiten. \nAusführliche Informationen zur Ausbildung zu diesem Weiterbildungsangebot finden Sie auf der Astrologos-Website. \nFür weitere Informationen und die Anmeldung nehmen Sie bitte per E-Mail oder telefonisch Kontakt mit mir auf. \nDie E-Mail-Adresse ist: kontakt@astrologos.de\, die Telefonnummer: 0234-683723.
URL:https://www.astrologenverband.de/terminkalender/online-intensivausbildung-astrologie-2/
LOCATION:DAV-Zentrum Bochum-Ruhrgebiet\, Deutschland
CATEGORIES:DAV Ausbildungszentrum,Seminar Online
ORGANIZER;CN="DAV-Astrologiezentrum%20Ruhrgebiet":MAILTO:kontakt@astrologos.de
END:VEVENT
BEGIN:VEVENT
DTSTART;TZID=Europe/Berlin:20260327T170000
DTEND;TZID=Europe/Berlin:20260327T190000
DTSTAMP:20260420T233321
CREATED:20251117T171340Z
LAST-MODIFIED:20251117T171803Z
UID:10005797-1774630800-1774638000@www.astrologenverband.de
SUMMARY:Astro-Treffen in Bremen
DESCRIPTION:Viele Menschen beschäftigen sich mit Astrologie und haben hier bereits Grundwissen erlangt. Das stammt oft aus alten Seminaren oder aus Büchern. Um die eigenen Kenntnisse lebendig zu halten\, ist es jedoch sinnvoll\, sich regelmäßig auszutauschen. \nIn unserem Astro-Club findet nicht nur ein reger Austausch statt\, sondern es gibt für alle etwas zu lernen. Die gemeinsame Deutung von Horoskopen aus dem wirklichen Leben erleichtert dabei das Studium der Astrologie. So trainieren wir den klaren Blick auf die wesentlichen Themen im Horoskop. An jedem 2. Freitag treffen wir uns live in der Astrologie-Schule Bremen. \nAngewandt werden alle bewährten Methoden der Astrologie\, von der Klassik über die psychologische Astrologie bis hin zur Münchner Rhythmenlehre. Besondere Beachtung finden die Aspekte\, die Transite und die Auslösungen im Siebener-Rhythmus. Außerdem gibt es wichtige Infos zu Astronomie\, Geschichte und Kultur der Astrologie. \nZudem vergleichen wir gelegentlich die Methoden verschiedener Schulen und ihre sinvollen oder weniger sinnvollen Seiten im Praxistest. \nGelehrt wird insbesondere\, worauf zu achten ist\, wenn wir anderen ihre Konstellationen erklären\, privat oder in einer professionellen Beratung. Und wie auf konkrete Fragen einzugehen ist: Fragen nach Partnerschaft\, Gesundheit\, Wohnen\, Zukunft oder Beruf. Schließlich lernen die Teilnehmenden\, selbstständig Horoskope zu deuten\, zum Beispiel als schriftliche Hausaufgabe\, als Referat oder mit geladenen Gästen. \n\n\n\n\nTHEMEN\n \n\nPsychologische Astrologie\nMünchner Rhythmenlehre\nKlassische Astrologie\nAstrologie und Zeitgeschehen\nAktuelle Themen\nBewährte Prognosemethoden\nUnterschiedliche Richtungen der Astrologie im Praxistest\nZusammenhängende Deutung von Horoskopen\nDos and Don’ts in der astrologischen Beratung\n\n\n\n\n\n\nINFO\n\n\n\n\nBeginn: Fr. 30.1.2026 \nZeit: 17.00 – 19.00 Uhr \nDauer: 6 Abende\, jeden zweiten Freitag \nKursgebühr: 240 Euro \nOrt:  Astrologie-Schule Bremen \nTelefon: 0421-72929
URL:https://www.astrologenverband.de/terminkalender/astro-treffen-in-bremen-2/2026-03-27/
LOCATION:Astrologie-Schule Bremen\, Delmestraße 74\, Bremen\, 28199\, Deutschland
CATEGORIES:DAV Regionalstelle,Seminar Präsenz
END:VEVENT
BEGIN:VEVENT
DTSTART;TZID=Europe/Berlin:20260329T123000
DTEND;TZID=Europe/Berlin:20260329T193000
DTSTAMP:20260420T233321
CREATED:20260329T171515Z
LAST-MODIFIED:20260329T171515Z
UID:10006074-1774787400-1774812600@www.astrologenverband.de
SUMMARY:Die Bedeutung der Mondknoten
DESCRIPTION:Viele Mythen und Deutungserzählungen gibt es zu den Mondknoten. Karmische Weiterentwicklung soll hier ebenso angezeigt sein wie das Festhängen in alten Schleifen. Gerne wird auch behauptet\, die Mondknoten würden die eigentlichen Lebensthemen darstellen. Aber was stimmt an den vielen Interpretationen wirklich? Und was zeigen die Mondknoten in der astrologischen Praxis? \nTatsächlich fallen die Mondknoten immer wieder auf\, wenn es um besondere Begegnungen geht. Vor allem Lebenspartnerschaften entstehen oft\, wenn die Mondknoten ausgelöst oder im Siebener-Rhythmus angetroffen sind. Aber auch im Horoskopvergleich von nahestehenden Personen gibt es häufig auffällige Verbindungen von wichtigen Themen des einen zu den Mondknoten des anderen Horoskops. Hier entsteht dann immer wieder das Gefühl\, sich bereits aus früheren Leben zu kennen. Nicht selten gibt es dabei ganz konkrete Erinnerungsbilder. \nPraktische Erfahrung mit echten Horoskopen lehrt uns zudem\, dass die Mondknoten in einigen Bereichen neu interpretiert werden müssen. Insbesondere die eher wertende Aufteilung\, mit der wir am nördlichen Mondknoten weiterkommen\, während wir beim südlichen Knoten quasi hängenbleiben\, stimmt so nicht. Denn in der Praxis zeigen sich beide Mondknoten gleichwertig: Beide greifen altes Karma auf\, mit wichtigen Themen\, die wir nun ins Leben bringen sollen. Idealerweise\, indem wir uns dabei weiterentwickeln. Und hier liefert der südliche Mondknoten ebenso gutes Potenzial wie der nördliche. \n\n\n\nTHEMEN \n\nLebensthemen bei den Mondknoten\nDer Mythos von Drachenkopf und Drachenschwanz\nKarma: Aufstieg und Abstieg an den Mondkonten?\nEntwicklung bei den Mondknoten\nMondknoten in karmischen Verbindungen\nMondknoten und Partnerschaft\nReale Aufgaben an den Mondknoten\nDie Mondknoten als Verstärker\n\n\nAnmeldung \nBeginn: Sa. 30.5.2026\, 12.30 Uhr \nDauer: Sa. 12.30 Uhr bis 19.30 Uhr \nKursgebühr: 100 Euro \nOrt: Online
URL:https://www.astrologenverband.de/terminkalender/die-bedeutung-der-mondknoten/
LOCATION:Online\, Astrologie-Schule Bremen\, Deutschland
END:VEVENT
END:VCALENDAR