BEGIN:VCALENDAR
VERSION:2.0
PRODID:-//Astrologie | Deutscher Astrologenverband e.V. - ECPv6.1.0//NONSGML v1.0//EN
CALSCALE:GREGORIAN
METHOD:PUBLISH
X-WR-CALNAME:Astrologie | Deutscher Astrologenverband e.V.
X-ORIGINAL-URL:https://www.astrologenverband.de
X-WR-CALDESC:Veranstaltungen für Astrologie | Deutscher Astrologenverband e.V.
REFRESH-INTERVAL;VALUE=DURATION:PT1H
X-Robots-Tag:noindex
X-PUBLISHED-TTL:PT1H
BEGIN:VTIMEZONE
TZID:Europe/Berlin
BEGIN:DAYLIGHT
TZOFFSETFROM:+0100
TZOFFSETTO:+0200
TZNAME:CEST
DTSTART:20260329T010000
END:DAYLIGHT
BEGIN:STANDARD
TZOFFSETFROM:+0200
TZOFFSETTO:+0100
TZNAME:CET
DTSTART:20261025T010000
END:STANDARD
END:VTIMEZONE
BEGIN:VEVENT
DTSTART;TZID=Europe/Berlin:20260126T190000
DTEND;TZID=Europe/Berlin:20260126T210000
DTSTAMP:20260421T024516
CREATED:20251121T095228Z
LAST-MODIFIED:20260112T125053Z
UID:10005828-1769454000-1769461200@www.astrologenverband.de
SUMMARY:Online-Weiterbildung: Astrologie und Heilkunde
DESCRIPTION:Alles\, was sich körperlich abspielt\, passiert in Resonanz mit unseren Konstellationen. Und wenn es uns gelingt\, deren Themen sinnvoll zu leben\, bleiben wir am ehesten gesund. In diesem Online-Kurs lernen wir\, was dabei zu beachten ist. Und mit welchen Mitteln wir helfen können\, herausfordernde Konstellationen zu heilen. \nSchwerpunktmäßig konzentrieren wir uns im Seminar auf die Anwendung astrologischen Wissens\, mit Beispielhoroskopen zur Diagnose\, Ursache und Therapie von Erkrankungen. Hier schauen wir auch\, wann der beste Zeitpunkt für eine passende medizinische Behandlung ist.  \nDabei erfahren wir viel über die Zuordnung der Tierkreiszeichen\, Planeten und Aspekte zu den jeweiligen Organen oder Symptomen. Zudem wird gelehrt\, welche Heilpmittel für jemanden geeignet sind. Auch achten wir darauf\, welche astrologischen Themen hinter bestimmten Beschwerden stehen. Denn dort finden wir oft die Lösung\, was wir tun können\, um gesünder zu werden. \nIm Seminar werden wir besprechen\, wie wir uns und anderen mit Astrologie bei gesundheitlichen Fragen weiterhelfen können. So werden wir lernen\, verantwortungsvoll zu beraten\, wenn es um medizinische Themen geht. \nDas Heilkunde-Seminar empfiehlt sich für alle\, die bereits etwas Vorwissen zum Thema haben. Zudem ist es ein Modul der Ausbildung an der Astrologie-Schule Bremen. \n\n\n\n\n\n\n\n\n\nTHEMEN \n\nKörperliche Zuordung von Zeichen und Planeten\nAspekte der Planeten und ihre somatische Wirkung\, insbesondere von überpersönlichen mit persönlichen Planeten\nPsychosomatische Hintergründe\nErlösung von Konstellationen\nHeilmittel und Therapieformen: die astrologischen Entsprechungen\nZeitpunkte für Behandlungen und planbare OPs\nChancen und Grenzen der astrologischen Heilkunde\nAstrologische Gesundheitsberatung unter Berücksichtigung der Freiheit und Würde der Ratsuchenden\n\n\n\n\n\n\n\nINFO \nBeginn: Mo. 19.1.2026 \nZeit: 19.00-21.00 Uhr \nDauer: 14 Abende\, montags \nKursgebühr: 392 Euro \nOrt: Online \nAnmeldung
URL:https://www.astrologenverband.de/terminkalender/online-ausbildung-astrologie-und-heilkunde-2/2026-01-26/
LOCATION:Online\, Astrologie-Schule Bremen\, Deutschland
CATEGORIES:DAV Regionalstelle,Fernstudium,Seminar Online
END:VEVENT
BEGIN:VEVENT
DTSTART;TZID=Europe/Berlin:20260130T170000
DTEND;TZID=Europe/Berlin:20260130T190000
DTSTAMP:20260421T024516
CREATED:20251117T171340Z
LAST-MODIFIED:20251117T171803Z
UID:10005607-1769792400-1769799600@www.astrologenverband.de
SUMMARY:Astro-Treffen in Bremen
DESCRIPTION:Viele Menschen beschäftigen sich mit Astrologie und haben hier bereits Grundwissen erlangt. Das stammt oft aus alten Seminaren oder aus Büchern. Um die eigenen Kenntnisse lebendig zu halten\, ist es jedoch sinnvoll\, sich regelmäßig auszutauschen. \nIn unserem Astro-Club findet nicht nur ein reger Austausch statt\, sondern es gibt für alle etwas zu lernen. Die gemeinsame Deutung von Horoskopen aus dem wirklichen Leben erleichtert dabei das Studium der Astrologie. So trainieren wir den klaren Blick auf die wesentlichen Themen im Horoskop. An jedem 2. Freitag treffen wir uns live in der Astrologie-Schule Bremen. \nAngewandt werden alle bewährten Methoden der Astrologie\, von der Klassik über die psychologische Astrologie bis hin zur Münchner Rhythmenlehre. Besondere Beachtung finden die Aspekte\, die Transite und die Auslösungen im Siebener-Rhythmus. Außerdem gibt es wichtige Infos zu Astronomie\, Geschichte und Kultur der Astrologie. \nZudem vergleichen wir gelegentlich die Methoden verschiedener Schulen und ihre sinvollen oder weniger sinnvollen Seiten im Praxistest. \nGelehrt wird insbesondere\, worauf zu achten ist\, wenn wir anderen ihre Konstellationen erklären\, privat oder in einer professionellen Beratung. Und wie auf konkrete Fragen einzugehen ist: Fragen nach Partnerschaft\, Gesundheit\, Wohnen\, Zukunft oder Beruf. Schließlich lernen die Teilnehmenden\, selbstständig Horoskope zu deuten\, zum Beispiel als schriftliche Hausaufgabe\, als Referat oder mit geladenen Gästen. \n\n\n\n\nTHEMEN\n \n\nPsychologische Astrologie\nMünchner Rhythmenlehre\nKlassische Astrologie\nAstrologie und Zeitgeschehen\nAktuelle Themen\nBewährte Prognosemethoden\nUnterschiedliche Richtungen der Astrologie im Praxistest\nZusammenhängende Deutung von Horoskopen\nDos and Don’ts in der astrologischen Beratung\n\n\n\n\n\n\nINFO\n\n\n\n\nBeginn: Fr. 30.1.2026 \nZeit: 17.00 – 19.00 Uhr \nDauer: 6 Abende\, jeden zweiten Freitag \nKursgebühr: 240 Euro \nOrt:  Astrologie-Schule Bremen \nTelefon: 0421-72929
URL:https://www.astrologenverband.de/terminkalender/astro-treffen-in-bremen-2/2026-01-30/
LOCATION:Astrologie-Schule Bremen\, Delmestraße 74\, Bremen\, 28199\, Deutschland
CATEGORIES:DAV Regionalstelle,Seminar Präsenz
END:VEVENT
END:VCALENDAR