BEGIN:VCALENDAR
VERSION:2.0
PRODID:-//Astrologie | Deutscher Astrologenverband e.V. - ECPv6.1.0//NONSGML v1.0//EN
CALSCALE:GREGORIAN
METHOD:PUBLISH
X-ORIGINAL-URL:https://www.astrologenverband.de
X-WR-CALDESC:Veranstaltungen für Astrologie | Deutscher Astrologenverband e.V.
REFRESH-INTERVAL;VALUE=DURATION:PT1H
X-Robots-Tag:noindex
X-PUBLISHED-TTL:PT1H
BEGIN:VTIMEZONE
TZID:Europe/Berlin
BEGIN:DAYLIGHT
TZOFFSETFROM:+0100
TZOFFSETTO:+0200
TZNAME:CEST
DTSTART:20260329T010000
END:DAYLIGHT
BEGIN:STANDARD
TZOFFSETFROM:+0200
TZOFFSETTO:+0100
TZNAME:CET
DTSTART:20261025T010000
END:STANDARD
END:VTIMEZONE
BEGIN:VEVENT
DTSTART;TZID=Europe/Berlin:20260508T090000
DTEND;TZID=Europe/Berlin:20260509T170000
DTSTAMP:20260422T111244
CREATED:20260210T155336Z
LAST-MODIFIED:20260211T104104Z
UID:10005967-1778230800-1778346000@www.astrologenverband.de
SUMMARY:Online-Seminar: Sensitive Punkte
DESCRIPTION:In diesem Online-Seminar lernen wir\, wie man die sensitiven Punkte\, auch arabische Punkte genannt\, berechnet und treffsicher in der Praxis einsetzt. \nWarum dieses Seminar ein „Gamechanger“ für deine Beratung ist\nIn der Astrologie gibt es Momente\, in denen die klassischen Planeten allein nicht ausreichen\, um eine spezifische Frage klipp und klar zu beantworten. Hier bieten die sensitiven Punkte ein wertvolles Werkzeug und bringen Details ans Licht\, die sonst im Verborgenen bleiben würden. \n\nBerufsberatung: Durch den Immobilienpunkt\, Schiffsreisenpunkt\, Handelspunkt etc. können viel präzisere Berufe empfohlen werden als es mit dem klassischen Planeten der Fall ist.\nPaarberatung: Betrugspunkt\, Substanzpunkt und Liebespunkt geben interessante Hinweise auf die Beziehungsdynamik.\nTransite: Ist der Gewinn- oder Vermögenspunkt getroffen\, bieten sich Chancen. Ist der Gefahren oder der Vermögensverlustpunkt getroffen muss mit Risiken gerechnet werden.\n\nAuch in der Stundenastrologie und Elektionsastrologie bieten die sensitiven Punkte interessante neue Blickwinkel. \nDas nimmst du mit\nDu lernst in diesem Kurs\, welche Punkte in der Beratung wirklich Gewicht haben und wie du sie deutest. Nach diesem Seminar wirst du dein Radix mit völlig neuen Augen sehen und deine Klienten mit einer neuen Tiefe in deinen Aussagen überraschen. \nAnmeldung\nhttps://astrologie-schule.com/astrologie-seminare/sensitive-punkte/
URL:https://www.astrologenverband.de/terminkalender/online-seminar-sensitive-punkte/
LOCATION:Deutschland
CATEGORIES:Seminar Online
ORGANIZER;CN="Sonja%20Karmann":MAILTO:info@astrologie-schule.com
END:VEVENT
END:VCALENDAR