BEGIN:VCALENDAR
VERSION:2.0
PRODID:-//Astrologie | Deutscher Astrologenverband e.V. - ECPv6.1.0//NONSGML v1.0//EN
CALSCALE:GREGORIAN
METHOD:PUBLISH
X-ORIGINAL-URL:https://www.astrologenverband.de
X-WR-CALDESC:Veranstaltungen für Astrologie | Deutscher Astrologenverband e.V.
REFRESH-INTERVAL;VALUE=DURATION:PT1H
X-Robots-Tag:noindex
X-PUBLISHED-TTL:PT1H
BEGIN:VTIMEZONE
TZID:Europe/Berlin
BEGIN:DAYLIGHT
TZOFFSETFROM:+0100
TZOFFSETTO:+0200
TZNAME:CEST
DTSTART:20260329T010000
END:DAYLIGHT
BEGIN:STANDARD
TZOFFSETFROM:+0200
TZOFFSETTO:+0100
TZNAME:CET
DTSTART:20261025T010000
END:STANDARD
END:VTIMEZONE
BEGIN:VEVENT
DTSTART;TZID=Europe/Berlin:20261124T180000
DTEND;TZID=Europe/Berlin:20261124T210000
DTSTAMP:20260424T154205
CREATED:20250802T120822Z
LAST-MODIFIED:20260219T084137Z
UID:10005559-1795543200-1795554000@www.astrologenverband.de
SUMMARY:Offene Gruppe Online / Die Visualisierung der Aspektbilder
DESCRIPTION:Dieser für alle offene monatliche ASTRO-DIENSTAG dient Astrologinnen als Erfahrungsaustausch und Supervision. Gemeinsam werden Horoskope aus der Beratungspraxis oder spezielle astrologische Themen diskutiert. Teilnehmer/innen aus allen astrologischen Fachrichtungen sind herzlich eingeladen. Einfach mit einer kurzen Mail anmelden: astro@lummer.de \nHeute besprechen wir…   Die Visualisierung der Aspektbilder \nDie Teilnehmerinnen dürfen sich auf ein spannendes astrologisches Thema der etwas anderen Art freuen. Es geht um das bildhafte Erfassen der Aspektstruktur. \nDie Deutung des gesamten Aspektbildes – über die einzelnen Aspekte hinaus – folgt dem ganzheitlichen Anspruch der Komplexität eines Menschen gerecht zu werden. Das Aspektbild als Ganzes kann unmittelbar Auskunft geben über das Profil der innersten Persönlichkeit des Menschen. Es wird als Schaltplan des Bewusstseins verstanden. Das Aspektbild mit seinen Farben und Formen regt beim Schauen die Sinne an. Wie ein Symbol oder ein Mandala hat es mit seiner energetischen Ausstrahlung die Macht die Intuition zu wecken. Das intensive Hinschauen schafft Raum für eine bildhafte Assoziation\, wie zum Beispiel eine Landschaft\, ein Boot\, einen Stuhl\, etc. Das Schauen und Assoziieren ist eine einfache Methode. Ohne Anstrengung fast spielerisch erhält man einen sinnhaften Zusammenhang. \nHier mehr Infos…
URL:https://www.astrologenverband.de/terminkalender/offene-gruppe-online-die-visualisierung-der-aspektbilder/
LOCATION:Online Astrologische Psychologie Deutschland
CATEGORIES:Seminar Online
END:VEVENT
BEGIN:VEVENT
DTSTART;TZID=Europe/Berlin:20261124T190000
DTEND;TZID=Europe/Berlin:20261124T210000
DTSTAMP:20260424T154205
CREATED:20250726T172206Z
LAST-MODIFIED:20250726T172206Z
UID:10005480-1795546800-1795554000@www.astrologenverband.de
SUMMARY:Online-Grundausbildung Astrologie 2026 (30)
DESCRIPTION:Die beliebte Astrologos-Grundausbildung wird ab 13. Januar 2026 erneut angeboten. Im Verlauf von 30 Abenden und einem Tagesseminar vor Ort werden die Deutungsansätze der wichtigen Astrologie-Schulen systemübergreifend vermittelt. Psychologische Theorien und Konzepte ergänzen die Inhalte\, so dass Sie die astrologischen Symbole sinnvoll in ihrer Arbeit einsetzen können. \nIm Verlauf von zwei Grundstufen lernen Sie\, Horoskope zu deuten und entdecken schrittweise das uralte Wissen der Astrologie. Gleichzeitig lernen Sie ihr persönliches Horoskop kennen und entdecken so einem Weg der Selbstentwicklung und Selbstentfaltung. \nIm Anschluss an jeden Abend erhalten Sie das Video und zu jedem Thema ein ausführliches Skript\, so dass Sie verpasste Termine nacharbeiten können. \nEin kostenloser Infoabend zu dieser Astrologie-Ausbildung findet am 12. November 2025 statt. \nAusführliche Informationen zur Ausbildung finden Sie auf der Astrologos-Website. Für weitere Informationen und die Anmeldung nehmen Sie bitte per E-Mail oder telefonisch Kontakt mit mir auf. \nDie E-Mail-Adresse ist: kontakt@astrologos.de\, die Telefonnummer: 0234-683723.
URL:https://www.astrologenverband.de/terminkalender/online-grundausbildung-astrologie-2026-30/
LOCATION:DAV-Zentrum Bochum-Ruhrgebiet\, Deutschland
CATEGORIES:DAV Ausbildungszentrum,Seminar Online
ORGANIZER;CN="DAV-Astrologiezentrum%20Ruhrgebiet":MAILTO:kontakt@astrologos.de
END:VEVENT
BEGIN:VEVENT
DTSTART;TZID=Europe/Berlin:20261124T190000
DTEND;TZID=Europe/Berlin:20261124T210000
DTSTAMP:20260424T154205
CREATED:20260410T144213Z
LAST-MODIFIED:20260410T144213Z
UID:10006357-1795546800-1795554000@www.astrologenverband.de
SUMMARY:Einführung und Grundlagen Astromedizin 14
DESCRIPTION:Diese Seminarreihe über 15 Veranstaltungen richtet sich an alle InteressentenInnen der Astromedizin.\nAufgrund entsprechender Nachfrage beginnt am 2. Juni2026 eine weitere Einführung.\nDiese Einführung eignet sich zur Orientierung und zur Vorbereitung auf die Teilnahme\nan der Fachausbildung Astromedizin. \nInhalte:\nHistorischer Hintergrund Astromedizin\nDefinition von Krankheit\nPlanetendispositionen\nZuordnung von Tierkreiszeichen und Planeten zu Organen\nKrankheitsdispositionen im Horoskop\nPhysische und psychische Disposition der Tierkreiszeichen\nPlanetenhierarchie\nBedeutung der Häuser\nTherapeutischer Nutzen der Astromedizin\nEthik \nGrundlagen Astromedizin\nVertiefung folgender Krankheitsdispositionen\nSaturn – Hüter der Schwelle\, Ablagerungs-und Abnutzungsneigungen\, Funktionsschwächen\nChiron – Indikator für den Weg von der Verletzung zur Heilung\nMondknotenachse in der Astromedizin – Erbinformationen\, schicksalhafte Dispositionen \nVeranstaltungen online\nLive mit Interaktion\nVideoaufnahmen stehen zur Verfügung\nSkripte und Präsentationen werden vor der Veranstaltung zugesandt\nAnonymisierte Fallbeispiele werden einbezogen \n15 Abendveranstaltungen à 2 Stunden 600 €\nzahlbar über 6 Monate à 100 € ab Juni 2026\nFür Wiederholer Sondervereinbarungen \nTermine:\n2. Juni\, 16. Juni\, 30. Juni\, 14. Juli\, 28. Juli\, 11. August\, 25. August\, 8. September\,\n22. September\, 6. Oktober\, 20. Oktober\, 27. Oktober\, 10. November\, 24. November\, 8. Dezember 2026. \nSollte ein Termin aus einem wichtigen Grund ausfallen\, wird ein Ersatztermin angeboten. \nUmfassende Informationen und Ausbildungsplan: Infoabend Astromedizin \nInteressierte melden sich bitte per Mail an: hp.heidetrautmann@astromedizin.info
URL:https://www.astrologenverband.de/terminkalender/einfuehrung-und-grundlagen-astromedizin-14/
LOCATION:Online-Akademie Heide Trautmann\, Schillerstraße\, Blieskastel\, 66440\, Deutschland
CATEGORIES:Seminar Online
ORGANIZER;CN="Heide%20Trautmann%2C%20Heilpraktikerin%20und%20Astromedizinerin":MAILTO:hp.heidetrautmann@astromedizin.info
END:VEVENT
BEGIN:VEVENT
DTSTART;TZID=Europe/Berlin:20261124T193000
DTEND;TZID=Europe/Berlin:20261124T213000
DTSTAMP:20260424T154205
CREATED:20250129T160858Z
LAST-MODIFIED:20250210T181942Z
UID:10004651-1795548600-1795555800@www.astrologenverband.de
SUMMARY:Einjährige Online-Grundausbildung Astrologie (30)
DESCRIPTION:In 31 Abend-Webinaren (jeweils dienstags 19:30 – 21:30 Uhr) bis Dezember erhalten Sie durch die Astrologin Petra Dörfert eine umfassende Einführung in die Horoskopdeutung. Alle Termine finden live statt\, so dass viel Zeit für Fragen und gemeinsames Üben bleibt. Unterrichtsbegleitende Materialien runden den Kurs ab. \nAlle Informationen zur Ausbildung finden Sie hier. \nFür die Anmeldung nehmen Sie bitte per E-Mail oder telefonisch Kontakt mit mir auf (siehe unten)\, dann sende ich Ihnen das Anmeldeformular zu. \nDer Grundkurs ist Teil der 3-4-jährigen Online-Ausbildung Astrologie mit den Aufbaukursen Prognose\, Partnerschaftsastrologie\, Beratertraining und DAV-Prüfungsvorbereitung (jedes Modul ist einzeln buchbar). Mehr dazu finden Sie auf der Homepage der Online Akademie Astrologie Petra Dörfert. \nDie nächste Grundausbildung startet im kommenden Januar!
URL:https://www.astrologenverband.de/terminkalender/einjaehrige-online-grundausbildung-astrologie-30/
LOCATION:Online\, Deutschland
CATEGORIES:DAV Ausbildungszentrum,Seminar Online
ORGANIZER;CN="Online%20Akademie%20Astrologie%20Petra%20D%C3%B6rfert%20%2F%20DAV%20Ausbildungszentrum":MAILTO:info@online-akademie-astrologie.com
END:VEVENT
END:VCALENDAR