BEGIN:VCALENDAR
VERSION:2.0
PRODID:-//Astrologie | Deutscher Astrologenverband e.V. - ECPv6.1.0//NONSGML v1.0//EN
CALSCALE:GREGORIAN
METHOD:PUBLISH
X-WR-CALNAME:Astrologie | Deutscher Astrologenverband e.V.
X-ORIGINAL-URL:https://www.astrologenverband.de
X-WR-CALDESC:Veranstaltungen für Astrologie | Deutscher Astrologenverband e.V.
REFRESH-INTERVAL;VALUE=DURATION:PT1H
X-Robots-Tag:noindex
X-PUBLISHED-TTL:PT1H
BEGIN:VTIMEZONE
TZID:Europe/Berlin
BEGIN:DAYLIGHT
TZOFFSETFROM:+0100
TZOFFSETTO:+0200
TZNAME:CEST
DTSTART:20260329T010000
END:DAYLIGHT
BEGIN:STANDARD
TZOFFSETFROM:+0200
TZOFFSETTO:+0100
TZNAME:CET
DTSTART:20261025T010000
END:STANDARD
END:VTIMEZONE
BEGIN:VEVENT
DTSTART;TZID=Europe/Berlin:20261021T181500
DTEND;TZID=Europe/Berlin:20261021T201500
DTSTAMP:20260425T231036
CREATED:20260409T105504Z
LAST-MODIFIED:20260425T110455Z
UID:10006106-1792606500-1792613700@www.astrologenverband.de
SUMMARY:Online-Seminar: Praxis der Stundenastrologie
DESCRIPTION:Horoskope können nicht nur für Menschen erstellt werden\, sondern ebenso für Ereignisse. Und für besondere Fragen. Das nennt sich dann Stundenastrologie. Sie ist hilfreich bei konkreten Anliegen jeder Art\, zum Beispiel bei der Wohnungssuche oder bei anstehenden Entscheidungen. \nIn der Beratungspraxis ist die Stundenastrologie immer dann wichtig\, wenn es zu bestimmten Fragen kommt. Und wenn es ein besonderes Ereignis gegeben hat\, weswegen wir nun schauen wollen\, unter welchen Sternen das Ganze steht. Sie ist außerdem erforderlich\, wenn ein Termin geplant werden soll wie bei einer bevorstehenden Hochzeit oder auch bei einer hilfreichen OP. \nFür die Deutung von Stundenhoroskopen gibt es Regeln\, die wir im Lauf des Kurses lernen werden. In der Praxis bewährt hat es sich\, die klassischen Regeln vereinfacht anzuwenden. Zudem sind manche Zuordnungen aus der Klassik eher unpassend für die heutige Zeit. Im Seminar erfahren wir daher eine reelle\, moderne Stundenastrologie. \nIm Verlauf des Kurses werden wir mit vielen praktischen Beispielhoroskopen üben. Denn die zeigen immer wieder klar\, was sich entwickelt. Hier sind auch Horoskope von Wahlen und von Staatengründungen sehr spannend und lehrreich.  \nAußerdem werden wir einfache Elemente aus der Münchner Rhythmenlehre kennenlernen. Denn die wirken in Stundenhoroskopen ähnlich wie in Geburtshoroskopen – und helfen uns bei der Deutung. Weil die Stundenastrologie sehr konkret ist\, sehen wir mit ihr\, wie sich bestimmte Konstellationen real zeigen. Das ist in der Folge auch für die Einschätzung persönlicher Horoskope hilfreich. \n\n\n\n\nTHEMEN \n\nGrundlagen der Stundenastrologie\nDeutung und Sinn von Ereignishoroskopen\nDeutung von Fragehoroskopen\nSiebener-Rhythmus und Prognosemethoden im Stundenhoroskop\nAstrologische Terminplanung\nHoroskope für Heilbehandlungen und OPs\nHoroskope für politische Ereignisse\nMundankonstellationen\nSinnvolle neue und alte Methoden der Deutung\n\n\nBeginn: Mi. 13.5.2026 \nZeit: 18.15 –20.15 Uhr \nDauer: 12 Abende\, mittwochs \nKursgebühr: 420 Euro \n\nOrt: Online-Seminar der Astrologie-Schule Bremen \nVoranmeldung
URL:https://www.astrologenverband.de/terminkalender/online-seminar-praxis-der-stundenastrologie/2026-10-21/
LOCATION:Online\, Astrologie-Schule Bremen\, Deutschland
CATEGORIES:DAV Regionalstelle,Fernstudium,Seminar Online
END:VEVENT
BEGIN:VEVENT
DTSTART;TZID=Europe/Berlin:20261021T190000
DTEND;TZID=Europe/Berlin:20261021T203000
DTSTAMP:20260425T231037
CREATED:20260310T090547Z
LAST-MODIFIED:20260310T090547Z
UID:10005993-1792609200-1792614600@www.astrologenverband.de
SUMMARY:Online-Vortrag: Lospunkte - Die verborgene Signatur der Radix Andy Warhol als Fallstudie
DESCRIPTION:Online-Vortrag am 21.10.2026 um 19:00-20:30 Uhr mit Dr. Erik Lehne \nDer Vortrag beleuchtet das Geburtshoroskop von Andy Warhol\, der als Pop-Art-Pionier Alltagsmotive zur Kunst erhob und selbst zur kulturellen Ikone wurde. Im Mittelpunkt steht die astrologische Arbeit mit Lospunkten (arabischen Punkten/Sahams)\, die als dynamische Entwicklungspotenziale im tropischen Tierkreis verstanden werden. Dabei wird gezeigt\, wie Transite ihrer Dispositoren wichtige Wendepunkte in Warhols Leben auslösten. \nIm zweiten Teil wird praxisnah erklärt\, wie Lospunkte berechnet und interpretiert werden – einschließlich der Bedeutung von Tag- und Nachthoroskopen und der Entwicklung eigener Lospunkte für bestimmte Fragestellungen. Abschließend folgt eine Fragerunde und Diskussion. ✨ \n  \n \n  \nDr. Erik Lehne\nErik ist promovierter Naturwissenschaftler\, Manager in einem internationalen Technologiekonzern und ausgebildeter Astrologe. Seine Leidenschaft gilt der Verbindung von Wissenschaft und astrologischer Symbolsprache. Er erforscht seit fünf Jahren die Tiefendimensionen der Astrologie – mit besonderem Fokus auf klassische Techniken\, psychologische Deutung und spirituelle Entwicklung. Mehr zu Dr. Erik Lehne. \n  \nÜber diesen Link kannst du den Online-Vortrag buchen und erhälst weitere Infos per Mail: \nhttps://astrologie-ausbildung.eu/online-workshops/lospunkte-die-verborgene-signatur-der-radix-andy-warhol-als-fallstudie \nDie Vorträge und Workshops der Astropraxis vermitteln euch \n\nganzheitlich fundierte Techninken zur Horoskopanalyse\nKompetenz in der Beratung\ntiefenpsychologische Aspekte einfühlsam entdeckt\nund wir geben euch Raum zum Austausch eigener Horoskope.\n\nWerde Teil einer offenen und unterstützenden Gemeinschaft\, erlebe die Kraft astrologischer Selbsterkenntnis\, in der Lernen und persönliches Wachstum im Mittelpunkt steht. \n  \n  \n  \n  \n 
URL:https://www.astrologenverband.de/terminkalender/online-vortrag-lospunkte-die-verborgene-signatur-der-radix-andy-warhol-als-fallstudie/
LOCATION:Online-Zoom-Veranstaltung\, Astropraxis Helen Fritsch\, Deutschland
CATEGORIES:DAV Ausbildungszentrum,Vortrag Online
END:VEVENT
END:VCALENDAR