BEGIN:VCALENDAR
VERSION:2.0
PRODID:-//Astrologie | Deutscher Astrologenverband e.V. - ECPv6.1.0//NONSGML v1.0//EN
CALSCALE:GREGORIAN
METHOD:PUBLISH
X-WR-CALNAME:Astrologie | Deutscher Astrologenverband e.V.
X-ORIGINAL-URL:https://www.astrologenverband.de
X-WR-CALDESC:Veranstaltungen für Astrologie | Deutscher Astrologenverband e.V.
REFRESH-INTERVAL;VALUE=DURATION:PT1H
X-Robots-Tag:noindex
X-PUBLISHED-TTL:PT1H
BEGIN:VTIMEZONE
TZID:Europe/Berlin
BEGIN:DAYLIGHT
TZOFFSETFROM:+0100
TZOFFSETTO:+0200
TZNAME:CEST
DTSTART:20260329T010000
END:DAYLIGHT
BEGIN:STANDARD
TZOFFSETFROM:+0200
TZOFFSETTO:+0100
TZNAME:CET
DTSTART:20261025T010000
END:STANDARD
END:VTIMEZONE
BEGIN:VEVENT
DTSTART;TZID=Europe/Berlin:20260620T180000
DTEND;TZID=Europe/Berlin:20260627T130000
DTSTAMP:20260422T130458
CREATED:20251231T080836Z
LAST-MODIFIED:20251231T081616Z
UID:10005883-1781978400-1782565200@www.astrologenverband.de
SUMMARY:Impuls-Urlaub mit und unter den Sternen
DESCRIPTION:Bitte schauen Sie sich das kurze Video (4:23Min) an und lassen Sie sich schon jetzt inspirieren: https://www.astrologieundmeer.de/
URL:https://www.astrologenverband.de/terminkalender/impuls-urlaub-mit-und-unter-den-sternen/
LOCATION:Julianadorp\, Niederlande\, 1787 CX Julianadorp aan Zee\, Julianadorp aan Zee\, Netherlands
CATEGORIES:Seminar Präsenz,Vortrag Präsenz
ORGANIZER;CN="Astrologium":MAILTO:info@astrologium.de
END:VEVENT
BEGIN:VEVENT
DTSTART;TZID=Europe/Berlin:20260622T190000
DTEND;TZID=Europe/Berlin:20260622T210000
DTSTAMP:20260422T130458
CREATED:20250115T102337Z
LAST-MODIFIED:20250414T163557Z
UID:10005110-1782154800-1782162000@www.astrologenverband.de
SUMMARY:Astrologie Café
DESCRIPTION:Offene Abende für Astrologie Begeisterte!\nBring dein Horoskop oder deine Daten (Geburtsort & Zeit) und deine Fragen.\nDie Abende sind deinen Fragen gewidmet.\nAsk us anythink!\nGemeinsam in der Gruppe\, und wundervoller Umgebung\, schauen wir dann\, wo sich die Antworten in deinem Geburtsbild finden lassen.\nJede*r ist willkommen\, die einzigen Vorausetzungen sind deine Neugier & Freude an den Sternen!\nWir freuen uns auf Dich!
URL:https://www.astrologenverband.de/terminkalender/astrologie-cafe/2026-06-22/
LOCATION:Raum & Zeit am Wirtsberg\, Hainsbach\, Am Wirtsberg 6a\, Geiselhöring\, Bayern\, 94333\, Deutschland
ORGANIZER;CN="Astrologische%20Psychologie%20lernen":MAILTO:info@ap-lernen.de
END:VEVENT
BEGIN:VEVENT
DTSTART;TZID=Europe/Berlin:20260622T193000
DTEND;TZID=Europe/Berlin:20260622T213000
DTSTAMP:20260422T130458
CREATED:20250129T152029Z
LAST-MODIFIED:20250210T165442Z
UID:10004614-1782156600-1782163800@www.astrologenverband.de
SUMMARY:Online-Aufbaukurs Partnerschaftsastrologie (8)
DESCRIPTION:in 15 Abend-Webinaren (jeweils montags 19:30 Uhr – 21:30 Uhr) erhalten sie durch die Astrologin Petra Dörfert eine umfassende Einführung in das Thema Partnerschaftsastrologie. Kursinhalte sind neben den Methoden Synastrie\, Composit und Combin die gründliche Analyse der Radix auf Partnerschaftsthemen hin sowie die Frage\, wie man typische Partnerschaftsprobleme erkennt und löst. \nSämtliche Informationen zur Ausbildung finden Sie hier. \nFür die Anmeldung nehmen Sie bitte per E-Mail oder telefonisch Kontakt mit mir auf (siehe unten)\, dann sende ich Ihnen das Anmeldeformular zu. \nDer Aufbaukurs Partnerschaftsastrologie richtet sich an Fortgeschrittene und ist Teil der 3-4-jährigen Online-Ausbildung Astrologie mit dem einjährigen Grundkurs und den weiteren Aufbaukursen Prognose\, Beratertraining und DAV-Prüfungsvorbereitung (jedes Modul ist einzeln buchbar). Mehr dazu finden Sie auf der Homepage der Online Akademie Astrologie Petra Dörfert.
URL:https://www.astrologenverband.de/terminkalender/online-aufbaukurs-partnerschaftsastrologie-8-2/
LOCATION:Online\, Deutschland
CATEGORIES:DAV Ausbildungszentrum,Seminar Online
ORGANIZER;CN="Online%20Akademie%20Astrologie%20Petra%20D%C3%B6rfert%20%2F%20DAV%20Ausbildungszentrum":MAILTO:info@online-akademie-astrologie.com
END:VEVENT
END:VCALENDAR