BEGIN:VCALENDAR
VERSION:2.0
PRODID:-//Astrologie | Deutscher Astrologenverband e.V. - ECPv6.1.0//NONSGML v1.0//EN
CALSCALE:GREGORIAN
METHOD:PUBLISH
X-WR-CALNAME:Astrologie | Deutscher Astrologenverband e.V.
X-ORIGINAL-URL:https://www.astrologenverband.de
X-WR-CALDESC:Veranstaltungen für Astrologie | Deutscher Astrologenverband e.V.
REFRESH-INTERVAL;VALUE=DURATION:PT1H
X-Robots-Tag:noindex
X-PUBLISHED-TTL:PT1H
BEGIN:VTIMEZONE
TZID:Europe/Berlin
BEGIN:DAYLIGHT
TZOFFSETFROM:+0100
TZOFFSETTO:+0200
TZNAME:CEST
DTSTART:20260329T010000
END:DAYLIGHT
BEGIN:STANDARD
TZOFFSETFROM:+0200
TZOFFSETTO:+0100
TZNAME:CET
DTSTART:20261025T010000
END:STANDARD
END:VTIMEZONE
BEGIN:VEVENT
DTSTART;TZID=Europe/Berlin:20260613T103000
DTEND;TZID=Europe/Berlin:20260613T180000
DTSTAMP:20260424T075203
CREATED:20260304T095601Z
LAST-MODIFIED:20260411T102539Z
UID:10006360-1781346600-1781373600@www.astrologenverband.de
SUMMARY:Optimale Orte mit dem Horoskop
DESCRIPTION:Mit dem persönlichen Horoskop lässt sich deutlich erkennen\, an welchen Orten der Welt wir bestimmte Anlagen besonders gut entfalten können. Außerdem zeigt es\, welche Himmelsrichtungen von Vorteil sind. Zum Beispiel wenn wir verreisen oder umziehen wollen\, und bei der Einrichtung der eigenen vier Wände. \nIn diesem Online-Seminar lernen wir\, wie wir die besten Wohn- und Reiseorte herausfinden können. Hier haben wir zunächst die Möglichkeit\, zu schauen\, welche Orte überhaupt für jemanden geeignet sind. So gibt es beispielsweise Gegenden\, die besonders gut zu widderbetonten Menschen passen\, andere hingegen sind für waagebetonte Personen besser. \nBesonders wichtig ist auch die Astro-Kartografie\, in der es bestimmte Regeln zu beachten gibt. So muss zum Beispiel die Geburtsuhrzeit auf die Minute genau sein – was wir anhand von vergangenen Ereignissen überprüfen und ermitteln müssen. Denn vier Minuten Abweichung ergäben bei einer wichtigen Planetenlinie schon mal eine Ungenauigkeit von 100 km! \nChristine Keidel-Joura: „Meine Konstellation auf Mallorca würden mit der nicht korrigierten Uhrzeit 100 km weiter westlich liegen. Auf Mallorca hätte ich dann wohlwollenden Jupiter-Einfluss. Korrekt bin ich auf dieser Insel jedoch in der Zange von Mars und Saturn\, spürbar herausfordernd. Jupiter hingegen streift nun Menorca\, wo es mir tatsächlich besser geht. Nur mit der korrigierten Geburtsminute bin ich hier also gut beraten.“ \nFür bestehende Wohnungen bringen wir dann das Horoskop mit dem Grundriss der Wohnung zusammen. Je nach persönlichen Verhältnissen ist das entweder der Grundriss des Hauses\, der Wohnung oder des WG-Zimmers. Ganz wichtig dabei: Die MC-Linie muss genau in Richtung geografischer Süden zeigen! Von der Mitte des Horoskops lassen sich nun die 12 Felder strahlenförmig auf die Wohnung verteilen. Sie stehen in der Astrologie für 12 Lebensbereiche. Aber auch die Linien der Planeten in den Feldern haben eine besondere Bedeutung – und sollten dort\, wo sie durch den Raum laufen\, entsprechend genutzt werden. Vor allem\, wer mit Feng Shui arbeitet\, sollte über diese astrologischen Wirkungen Bescheid wissen. \nSo lässt sich nicht nur die Wohnung\, sondern auch das eigene Leben optimieren. Erfolg und Anerkennung können wir zum Beispiel deutlich stärken\, wenn wir den Bereich unserer Sonnenlinie ausgestalten\, mit Licht\, hellen Farben und Verwendung von Blattgold. Der Bereich des 2. Feldes sollte hingegen Dinge enthalten\, die für Materielles stehen\, eine Schüssel mit Kies\, gesunde Pflanzen mit kräftigen Wurzeln oder eine stabile Küche passen hier gut – und verbessern nachweislich den Wohlstand. \n\n\n\nTHEMEN \n\nBedeutung der Himmelsrichtungen im Horoskop\nAstrologie und Feng Shui\nOptimierung der eigenen Räume\nPlanetenlinien in der Astro-Kartografie\nZeichen in verschiedenen Ländern\nDie passenden Orte mit dem korrigierten Horoskop\nWichtige Tierkreisgrade in der Kartografie\n\n\n\n\n\nAnmeldung\n\n\n\n\nBeginn: Sa. 13.6.2026\, 10.30 Uhr \nDauer: Sa. 10.30-18.00 Uhr und So. 10.30-18.00 Uhr \nKursgebühr: 240 Euro \nOrt: Online
URL:https://www.astrologenverband.de/terminkalender/optimale-orte-mit-dem-horoskop/2026-06-13/
LOCATION:Online\, Astrologie-Schule Bremen\, Deutschland
CATEGORIES:DAV Regionalstelle,Fernstudium,Seminar Online
END:VEVENT
BEGIN:VEVENT
DTSTART;TZID=Europe/Berlin:20260613T140000
DTEND;TZID=Europe/Berlin:20260613T180000
DTSTAMP:20260424T075203
CREATED:20240513T124223Z
LAST-MODIFIED:20250802T112237Z
UID:10003196-1781359200-1781373600@www.astrologenverband.de
SUMMARY:Der Mensch zwischen Individualität und Umwelt M18
DESCRIPTION:Du hast astrologische Kenntnisse und möchtest mehr erfahren über die Huber-Methode? \nDie Kurse Level 2 mit den Modulen 13 bis 23 ist die zweite Stufe eines dreigliedrigen zertifizierten Systems. Du kannst alle Module als Gesamtpaket buchen. Wenn Du Dich für ein Thema besonders interessierst\, dann ist Teilnahme an einzelnen Modulen auch möglich. Und gelernt wird natürlich immer am eigenen Horoskop. Das ist spannend und lehrreich zugleich. \n\nHeute Modul 18 mit den Inhalten… \nDer Mensch zwischen Individualität und Umwelt.\nEntwicklungsprozesse in der Wechselwirkung zwischen Mensch und Kultur / Die Dynamische Auszählung / Das Häuser-Horoskop / Das Profil-Horoskop / Das dynamische Häusersystem / Die Stressplaneten \nTermine:\nLIVE-Präsenzkurs Samstag und Sonntag. Termine 15.03. und 16.03.2025 in 59558 Lippstadt\, Rüschenkamp 12\nSamstag von 14 bis 18 Uhr und Sonntag von 10 bis 17 Uhr. \n\nUmfang \n\nDu hast astrologische Kenntnisse und möchtest mehr erfahren über die Huber-Methode? \nDie Kurse Level 2 mit den Modulen 13 bis 22 ist die zweite Stufe eines dreigliedrigen zertifizierten Systems. Du kannst alle Module als Gesamtpaket buchen. Wenn Du Dich für ein Thema besonders interessierst\, dann ist Teilnahme an einzelnen Modulen auch möglich. Und gelernt wird natürlich immer am eigenen Horoskop. Das ist spannend und lehrreich zugleich. \n\nHeute Modul 15 mit den Inhalten… \nAlterspunkt\, Lebensphasen und Prognosemethoden.\nGrundsätzliches und die Entdeckung / Weitere Prognosemethoden / Wirkungen auf den Menschen / Struktur und Technik / Grundlagen der AP-Berechnung / Der Alterspunkt und die Entwicklungspsychologie / Lebensrhythmen und Abschnitte des Alterspunktes / Die Lebensphasen in den Häusern / Der Alterspunkt durch die Tierkreiszeichen / Die Aspekte des Alterspunktes / Allgemeine Regeln zum Aspektablauf / Die psychologische Bedeutung / Die psychologische Bedeutung der Alterspunkt-Biographie \nTermine findest Du hier…\n3 Abende je 3 Stunden \n\nUmfang\nDie Online-Kurse finden live als Zoom-Meetings jeweils Mittwoch von 18.30 bis 21.30 Uhr statt. Sie sind keine vorab aufgezeichneten Kurse zum Selbststudium\, sondern Live-Schulungen mit persönlicher Betreuung.\nDauer 1 1/2 Jahre. Ein Modul hat einen Umfang von 6 oder auch 9 Stunden. Die Teilnahme an einzelnen Modulen ist möglich. Anmeldung per Mail astro@lummer.de \nInhalte\nModul 13    Einführung in die Astrologische Psychologie\nModul 14    Die Häuser als Lebensbereiche der Persönlichkeit\nModul 15    Die Entwicklung in den Lebensphasen\nModul 16    Die Aspekte als innerer Schaltplan\nModul 17    Die persönliche Prägung durch die Familie\nModul 18    Der Mensch zwischen Individualität und Umwelt\nModul 19    Karmische Astrologie als Spiegel Persönlichkeit\nModul 20    Intelligenz und Beruf(ung) im Horoskop\nModul 21    Das neue Verständnis von Beziehung und Liebe\nModul 22    Deutungspraxis\, praxisbegleitende Übungen \nAbschluss Level 2\nZertifikat Level II  Astrologische Psychologie\nHast Du die Absicht\, jetzt oder später beratend tätig zu sein\, dann gilt dieses Zertifikat als Voraussetzung für den Einstieg in die Kurse zum/zur Berater/in  Zertifikat Level 3
URL:https://www.astrologenverband.de/terminkalender/der-mensch-zwischen-individualitaet-und-umwelt-m18/
LOCATION:Lippstadt / Schule Lummer und Borchardt\, Rüschenkamp12\, Lippstadt\, 59558\, Deutschland
CATEGORIES:Seminar Präsenz
ORGANIZER;CN="Astrologische%20Psychologie%20Birgit%20Lummer%20und%20Saskia%20Borchardt":MAILTO:astro@lummer.de
END:VEVENT
END:VCALENDAR