BEGIN:VCALENDAR
VERSION:2.0
PRODID:-//Astrologie | Deutscher Astrologenverband e.V. - ECPv6.1.0//NONSGML v1.0//EN
CALSCALE:GREGORIAN
METHOD:PUBLISH
X-ORIGINAL-URL:https://www.astrologenverband.de
X-WR-CALDESC:Veranstaltungen für Astrologie | Deutscher Astrologenverband e.V.
REFRESH-INTERVAL;VALUE=DURATION:PT1H
X-Robots-Tag:noindex
X-PUBLISHED-TTL:PT1H
BEGIN:VTIMEZONE
TZID:Europe/Berlin
BEGIN:DAYLIGHT
TZOFFSETFROM:+0100
TZOFFSETTO:+0200
TZNAME:CEST
DTSTART:20260329T010000
END:DAYLIGHT
BEGIN:STANDARD
TZOFFSETFROM:+0200
TZOFFSETTO:+0100
TZNAME:CET
DTSTART:20261025T010000
END:STANDARD
END:VTIMEZONE
BEGIN:VEVENT
DTSTART;TZID=Europe/Berlin:20260609T180000
DTEND;TZID=Europe/Berlin:20260609T210000
DTSTAMP:20260424T020619
CREATED:20250802T115857Z
LAST-MODIFIED:20250802T115857Z
UID:10005556-1781028000-1781038800@www.astrologenverband.de
SUMMARY:Offene Gruppe Partnerschaftsvergleiche
DESCRIPTION:Dieser für alle offene monatliche ASTRO-DIENSTAG dient Astrologinnen als Erfahrungsaustausch und Supervision. Gemeinsam werden Horoskope aus der Beratungspraxis oder spezielle astrologische Themen diskutiert. Teilnehmer/innen aus allen astrologischen Fachrichtungen sind herzlich eingeladen. Einfach mit einer kurzen Mail anmelden: astro@lummer.de \nHeute besprechen wir…   Partnerschaftsvergleiche \nFür die Deutung von Partnerschaftshoroskopen können verschiedene Systeme angewandt werden. Der Zeichenvergleich (Synastrie)\, das Composit\, das Combin oder der Häuserklick nach Huber beschreiben das System Partnerschaft mit all seinen Regeln\, Einstellungen\, Verhaltens- und Konfliktmustern. \nEs geht um zwei Horoskope\, die miteinander verglichen werden. In der Huber-Methode heißt das Häuser-Klick-Horoskop:\nEs gilt zu klären\, wo die Planeten des einen Partner im Häusersystem des anderen liegen. Die Geburtshoroskope der Partner werden so übereinander gelegt\, dass AC auf AC und die Spitzen aller Häuser aufeinander liegen. Wenn zwei oder mehr Planeten in einem Aspekt zu einander stehen nennt man diese Punkte Klickstellen. Das sind Resonanzpunkte der jeweiligen Planetenqualitäten. \nGemeinsam werden wir anhand von praktischen Beispielen das System Partnerschaft analysieren – egal ob es sich um Mann und Frau\, Mutter und Tochter oder Freundin und Freundin handelt. \n\n\n\nHier mehr Infos…
URL:https://www.astrologenverband.de/terminkalender/offene-gruppe-partnerschaftsvergleiche/
LOCATION:Lippstadt / Schule Lummer und Borchardt\, Rüschenkamp12\, Lippstadt\, 59558\, Deutschland
CATEGORIES:Seminar Online
ORGANIZER;CN="Astrologische%20Psychologie%20Birgit%20Lummer%20und%20Saskia%20Borchardt":MAILTO:astro@lummer.de
END:VEVENT
BEGIN:VEVENT
DTSTART;TZID=Europe/Berlin:20260609T181500
DTEND;TZID=Europe/Berlin:20260609T201500
DTSTAMP:20260424T020619
CREATED:20251231T115908Z
LAST-MODIFIED:20260317T163843Z
UID:10005893-1781028900-1781036100@www.astrologenverband.de
SUMMARY:Online-Seminar: Horoskope für Kinder
DESCRIPTION:In diesem Online-Seminar lernen wir\, wie wir die Horoskope von Kindern richtig deuten. Denn hier gelten etwas andere Regeln als für die Horoskope von Erwachsenen. Ein spannendes und hilfreiches Seminar für alle\, die mit Kindern zu tun haben und die sich für sinnvoll angewandte Astrologie interessieren. \nGemeinsam werden wir erkennen\, welche Eigenschaften im Kind besonders stark angelegt sind und wie wir diese am besten fördern. Dabei spielen im Horoskop eines Kindes die persönlichen Planeten eine größere Rolle als bei Erwachsenen. Denn diese sind dem Kindlichen viel näher\, was bei der Deutung berücksichtigt werden muss. Die unpersönlichen Planeten beschreiben dann eher die übergeordneten „erwachsenen“ Themen\, der Eltern und des gesellschaftlichen Umfeldes.\n \nZudem bringt jedes Kind von Geburt an eigene Talente mit\, die wir ja gut im Horoskop erkennen können. So wird ein junger Widder oft etwas energischer und fordernder auftreten als andere Altersgenossen. Ein typisches Fische-Kind hingegen ist eher sensibler und oft auch musischer veranlagt\, während ein kleiner Steinbock oft klare Regeln liebt und wenn alles seine Richtigkeit hat. \nWie die einzelnen Konstellationen im Kinderhoroskop zu deuten sind\, lernen wir dann genauer in diesem Seminar. Hinzu kommt\, dass auch Zeitphasen\, Transite und rhythmische Auslösungen für Kinder anders zu verstehen sind als für Erwachsene. \n\n\n\n\n\nTHEMEN \n\nDie 12 Zeichen der Kinder\nZeitphasen im Kinderhoroskop\nDie persönlichen Planeten\nDie überpersönlichen Planeten\nVeranlagungen erkennen und fördern\nHoroskopvergleich von Eltern und Kindern\n\n\n\n\n\n\n\nINFO \nBeginn: Di. 12.5.2026 \nZeit: 18.15 – 20.15 Uhr \nDauer: 12 Abende\, dienstags \nKursgebühr: 420 Euro \nOrt: Online \n\n\n\n\n\nDer Kurs ist außerdem ein wichtiges Modul der Ausbildung an der Astrologie-Schule Bremen \nReservierung
URL:https://www.astrologenverband.de/terminkalender/online-seminar-horoskope-fuer-kinder/2026-06-09/
LOCATION:Online\, Astrologie-Schule Bremen\, Deutschland
CATEGORIES:DAV Regionalstelle,Fernstudium,Seminar Online
END:VEVENT
BEGIN:VEVENT
DTSTART;TZID=Europe/Berlin:20260609T190000
DTEND;TZID=Europe/Berlin:20260609T210000
DTSTAMP:20260424T020619
CREATED:20250726T163933Z
LAST-MODIFIED:20250726T163933Z
UID:10005460-1781031600-1781038800@www.astrologenverband.de
SUMMARY:Online-Grundausbildung Astrologie 2026 (18)
DESCRIPTION:Die beliebte Astrologos-Grundausbildung wird ab 13. Januar 2026 erneut angeboten. Im Verlauf von 30 Abenden und einem Tagesseminar vor Ort werden die Deutungsansätze der wichtigen Astrologie-Schulen systemübergreifend vermittelt. Psychologische Theorien und Konzepte ergänzen die Inhalte\, so dass Sie die astrologischen Symbole sinnvoll in ihrer Arbeit einsetzen können. \nIm Verlauf von zwei Grundstufen lernen Sie\, Horoskope zu deuten und entdecken schrittweise das uralte Wissen der Astrologie. Gleichzeitig lernen Sie ihr persönliches Horoskop kennen und entdecken so einem Weg der Selbstentwicklung und Selbstentfaltung. \nIm Anschluss an jeden Abend erhalten Sie das Video und zu jedem Thema ein ausführliches Skript\, so dass Sie verpasste Termine nacharbeiten können. \nEin kostenloser Infoabend zu dieser Astrologie-Ausbildung findet am 12. November 2025 statt. \nAusführliche Informationen zur Ausbildung finden Sie auf der Astrologos-Website. Für weitere Informationen und die Anmeldung nehmen Sie bitte per E-Mail oder telefonisch Kontakt mit mir auf. \nDie E-Mail-Adresse ist: kontakt@astrologos.de\, die Telefonnummer: 0234-683723.
URL:https://www.astrologenverband.de/terminkalender/online-grundausbildung-astrologie-2026-18/
LOCATION:DAV-Zentrum Bochum-Ruhrgebiet\, Deutschland
CATEGORIES:DAV Ausbildungszentrum,Seminar Online
ORGANIZER;CN="DAV-Astrologiezentrum%20Ruhrgebiet":MAILTO:kontakt@astrologos.de
END:VEVENT
BEGIN:VEVENT
DTSTART;TZID=Europe/Berlin:20260609T190000
DTEND;TZID=Europe/Berlin:20260609T210000
DTSTAMP:20260424T020619
CREATED:20260129T191450Z
LAST-MODIFIED:20260410T153535Z
UID:10005949-1781031600-1781038800@www.astrologenverband.de
SUMMARY:Fachausbildung Astromedizin 21
DESCRIPTION:Fachausbildung für medizinisch interessierte Astrologen und astrologisch interessierte Therapeuten\n60 Veranstaltungen in 30 Monaten\, jeweils 19-21 Uhr\nLive mit Interaktion auf meiner Online-Akademie\nDen TeilnehmerInnen stehen Skript\, Präsentation und Videoaufnahme zur Verfügung. \nFachseminare über die verschiedenen Organbereiche: \n1.Das zentrale und periphere Nervensystem – Forschung anhand von Fallbeispielen: Schwindel\, Epilepsie\, Apoplexie\, Enzephalitis\, Morbus Parkinson und Polyneuropathie\n2. Das endokrine System 1 – Erkrankungen von Schilddrüse und Nebenschilddrüse anhand von Fallbeispielen: Unter- und Überfunktion\, Hashimoto\n3. Das endokrine System 2 – Hypothalamus\, Hypophyse\, Epiphyse\, Thymus\, Nebenniere und ihre möglichen Fehlfunktionen mit Auswirkungen: z. B. Cushing\, Wachstumsstörungen\, Unfruchtbarkeit\, Virilismus und Hirsutismus\n4. Blut und lymphoretikuläres System – Schwerpunkte: Anämie\, Leukämie\, Hodgkin\, Non Hodgkin\, AIDS\n5. Kreislaufsystem – Erkrankungen von Arterien und Venen – Schwerpunkt Verschlüsse und Aneurysmen\n6. Herz und Atmungssystem – Schwerpunkte der Fallanalysen: Herzfehler\, Asthma und Lungenembolie\n7. Verdauungssystem 1 – Erkrankungen des Magen-Darm-Traktes: z. B. Morbus Crohn und Colitis ulcerosa\n8. Verdauungssystem 2 – Leber\, Galle\, Bauchspeicheldrüse – Schwerpunkte: Hepatitis\, Leberzirrhose\, Gallensteinleiden\n9. Stoffwechsel – insbesondere Diabetes aus astromedizinischer Sicht\n10.Ausscheidungssystem – Erkrankungen der Nieren – Forschungsschwerpunkt: Die Beteiligung von Isis bei Nierenleiden\n11.Bewegungsapparat 1 – Gelenk- und Wirbelsäulenerkrankungen – Schwerpunkt: Arthrose und Morbus Bechterew\n12. Bewegungsapparat 2 – Kollagenosen\, Vaskulitiden\, Schwerpunktthema: Fibromyalgie \nWeitere Info: www.astromedizin.info\nAusbildungsplan anfordern: hp.heidetrautmann@astromedizin.info
URL:https://www.astrologenverband.de/terminkalender/fachausbildung-astromedizin-21/
LOCATION:Online-Akademie Heide Trautmann\, Schillerstraße\, Blieskastel\, 66440\, Deutschland
CATEGORIES:Seminar Online
ORGANIZER;CN="Heide%20Trautmann%2C%20Heilpraktikerin%20und%20Astromedizinerin":MAILTO:hp.heidetrautmann@astromedizin.info
END:VEVENT
BEGIN:VEVENT
DTSTART;TZID=Europe/Berlin:20260609T193000
DTEND;TZID=Europe/Berlin:20260609T213000
DTSTAMP:20260424T020619
CREATED:20250129T155824Z
LAST-MODIFIED:20250210T181315Z
UID:10004638-1781033400-1781040600@www.astrologenverband.de
SUMMARY:Einjährige Online-Grundausbildung Astrologie (18)
DESCRIPTION:In 31 Abend-Webinaren (jeweils dienstags 19:30 – 21:30 Uhr) bis Dezember erhalten Sie durch die Astrologin Petra Dörfert eine umfassende Einführung in die Horoskopdeutung. Alle Termine finden live statt\, so dass viel Zeit für Fragen und gemeinsames Üben bleibt. Unterrichtsbegleitende Materialien runden den Kurs ab. \nAlle Informationen zur Ausbildung finden Sie hier. \nFür die Anmeldung nehmen Sie bitte per E-Mail oder telefonisch Kontakt mit mir auf (siehe unten)\, dann sende ich Ihnen das Anmeldeformular zu. \nDer Grundkurs ist Teil der 3-4-jährigen Online-Ausbildung Astrologie mit den Aufbaukursen Prognose\, Partnerschaftsastrologie\, Beratertraining und DAV-Prüfungsvorbereitung (jedes Modul ist einzeln buchbar). Mehr dazu finden Sie auf der Homepage der Online Akademie Astrologie Petra Dörfert. \nDie nächste Grundausbildung startet im kommenden Januar!
URL:https://www.astrologenverband.de/terminkalender/einjaehrige-online-grundausbildung-astrologie-17-2/
LOCATION:Online\, Deutschland
CATEGORIES:DAV Ausbildungszentrum,Seminar Online
ORGANIZER;CN="Online%20Akademie%20Astrologie%20Petra%20D%C3%B6rfert%20%2F%20DAV%20Ausbildungszentrum":MAILTO:info@online-akademie-astrologie.com
END:VEVENT
END:VCALENDAR