BEGIN:VCALENDAR
VERSION:2.0
PRODID:-//Astrologie | Deutscher Astrologenverband e.V. - ECPv6.1.0//NONSGML v1.0//EN
CALSCALE:GREGORIAN
METHOD:PUBLISH
X-ORIGINAL-URL:https://www.astrologenverband.de
X-WR-CALDESC:Veranstaltungen für Astrologie | Deutscher Astrologenverband e.V.
REFRESH-INTERVAL;VALUE=DURATION:PT1H
X-Robots-Tag:noindex
X-PUBLISHED-TTL:PT1H
BEGIN:VTIMEZONE
TZID:Europe/Berlin
BEGIN:DAYLIGHT
TZOFFSETFROM:+0100
TZOFFSETTO:+0200
TZNAME:CEST
DTSTART:20260329T010000
END:DAYLIGHT
BEGIN:STANDARD
TZOFFSETFROM:+0200
TZOFFSETTO:+0100
TZNAME:CET
DTSTART:20261025T010000
END:STANDARD
END:VTIMEZONE
BEGIN:VEVENT
DTSTART;TZID=Europe/Berlin:20260608T181500
DTEND;TZID=Europe/Berlin:20260608T201500
DTSTAMP:20260424T003807
CREATED:20260304T102118Z
LAST-MODIFIED:20260409T104948Z
UID:10006082-1780942500-1780949700@www.astrologenverband.de
SUMMARY:Biografie im Siebener-Rhythmus
DESCRIPTION:Von allen astrologischen Methoden ist der Siebener-Rhythmus die beste und einfachste Möglichkeit\, wichtige Stationen des Lebens abzulesen. Denn er zeigt mit seinen Auslösungen einfach den Hauptstrom des Lebensflusses. Richtig angewandt\, lässt er das Horoskop deutlich werden wie einen Film. \nGrößere Umzüge\, Geburten von Kindern\, wichtige Beziehungen: Sie alle spiegeln sich sehr klar im Siebener-Rhythmus wieder. Er gehört deswegen zur Grundausstattung einer soliden Horoskopdeutung. Wie wir ihn richtig anwenden\, lernen wir in diesem spannenden Seminar. So werden wir erkennen\, wann die Planeten in unseren Horoskopen ausgelöst werden\, und welche Lebensbereiche sie dabei aktivieren\, welche Zeichen und Häuser. \nDie Auslösungen der Planeten wirken also immer mit passenden Ereignissen zusammen. Da dies in Abhängigkeit zur Geburtsuhrzeit passiert\, sollten wir jedoch prüfen\, ob wir mit unserer offiziellen Geburtsminute überhaupt im Rhythmus sind\, oder ob wir die Uhrzeit um ein paar Minuten korrigieren müssen. So lernen wir in diesem Seminar auch\, anhand wichtiger Ereignisse die wahre Geburtsuhrzeit zu ermitteln. Die können wir dann erfolgreich für weitere Methoden anwenden. Beispielsweise für die Wahl des passenden Wohn- oder Reiseortes und für die Berechnung von Direktionen. Hier werden wir außerdem mit Septaren arbeiten\, die im Feintuning zeigen\, was in einer bestimmten Sieben-Jahres-Phase dran ist. \nHaben wir die wahre Geburtsminute herausgefunden\, bekommen wir mit dem Siebener-Rhythmus also einen genialen Schlüssel für unsere Biografie. Damit können wir schnell und einfach erkennen\, welche wichtigen Themen gerade anstehen. Zudem können wir nun ablesen\, wann wir bereits ähnliche Konstellationen hatten und wie wir diesen am besten begegnen. \n\n\n\nTHEMEN \n\nDer Schlüssel zur eigenen Biografie\nDie Sieben-Jahres-Phasen\nWichtige Stationen im eigenen Rhythmus\nDie Auslösungen der Planeten\nDirekte und indirekte Auslösungen\nWechselwirkung von Planet und Zeichen\nKorrektur der Geburtsuhrzeit\n\nANMELDUNG\n\n\nBeginn: Mo. 18.5.2026\nZeit: 18.15-20.15 Uhr\nDauer: 14 Abende\, montags\nKursgebühr: 420 Euro\nOrt: Online
URL:https://www.astrologenverband.de/terminkalender/biografie-im-siebener-rhythmus/2026-06-08/
LOCATION:Online\, Astrologie-Schule Bremen\, Deutschland
CATEGORIES:DAV Regionalstelle,Fernstudium,Seminar Online
END:VEVENT
BEGIN:VEVENT
DTSTART;TZID=Europe/Berlin:20260608T190000
DTEND;TZID=Europe/Berlin:20260608T210000
DTSTAMP:20260424T003807
CREATED:20250115T103340Z
LAST-MODIFIED:20250414T163511Z
UID:10005046-1780945200-1780952400@www.astrologenverband.de
SUMMARY:Astrologie Café
DESCRIPTION:Offene Abende für Astrologie Begeisterte!\nBring dein Horoskop oder deine Daten (Geburtsort & Zeit) und deine Fragen.\nDie Abende sind deinen Fragen gewidmet.\nAsk us anythink!\nGemeinsam in der Gruppe\, und wundervoller Umgebung\, schauen wir dann\, wo sich die Antworten in deinem Geburtsbild finden lassen.\nJede*r ist willkommen\, die einzigen Vorausetzungen sind deine Neugier & Freude an den Sternen!\nWir freuen uns auf Dich!
URL:https://www.astrologenverband.de/terminkalender/astrologie-cafe-2/2026-06-08/
LOCATION:Zukunft25\, Rotes Haus\, Kallmünz\, Vilsgasse 25\, Kallmünz\, Bayern\, 93183\, Deutschland
ORGANIZER;CN="Astrologische%20Psychologie%20lernen":MAILTO:info@ap-lernen.de
END:VEVENT
BEGIN:VEVENT
DTSTART;TZID=Europe/Berlin:20260608T193000
DTEND;TZID=Europe/Berlin:20260608T213000
DTSTAMP:20260424T003807
CREATED:20250129T151959Z
LAST-MODIFIED:20250210T165418Z
UID:10004613-1780947000-1780954200@www.astrologenverband.de
SUMMARY:Online-Aufbaukurs Partnerschaftsastrologie (7)
DESCRIPTION:in 15 Abend-Webinaren (jeweils montags 19:30 Uhr – 21:30 Uhr) erhalten sie durch die Astrologin Petra Dörfert eine umfassende Einführung in das Thema Partnerschaftsastrologie. Kursinhalte sind neben den Methoden Synastrie\, Composit und Combin die gründliche Analyse der Radix auf Partnerschaftsthemen hin sowie die Frage\, wie man typische Partnerschaftsprobleme erkennt und löst. \nSämtliche Informationen zur Ausbildung finden Sie hier. \nFür die Anmeldung nehmen Sie bitte per E-Mail oder telefonisch Kontakt mit mir auf (siehe unten)\, dann sende ich Ihnen das Anmeldeformular zu. \nDer Aufbaukurs Partnerschaftsastrologie richtet sich an Fortgeschrittene und ist Teil der 3-4-jährigen Online-Ausbildung Astrologie mit dem einjährigen Grundkurs und den weiteren Aufbaukursen Prognose\, Beratertraining und DAV-Prüfungsvorbereitung (jedes Modul ist einzeln buchbar). Mehr dazu finden Sie auf der Homepage der Online Akademie Astrologie Petra Dörfert.
URL:https://www.astrologenverband.de/terminkalender/online-aufbaukurs-partnerschaftsastrologie-7/
LOCATION:Online\, Deutschland
CATEGORIES:DAV Ausbildungszentrum,Seminar Online
ORGANIZER;CN="Online%20Akademie%20Astrologie%20Petra%20D%C3%B6rfert%20%2F%20DAV%20Ausbildungszentrum":MAILTO:info@online-akademie-astrologie.com
END:VEVENT
END:VCALENDAR