BEGIN:VCALENDAR
VERSION:2.0
PRODID:-//Astrologie | Deutscher Astrologenverband e.V. - ECPv6.1.0//NONSGML v1.0//EN
CALSCALE:GREGORIAN
METHOD:PUBLISH
X-WR-CALNAME:Astrologie | Deutscher Astrologenverband e.V.
X-ORIGINAL-URL:https://www.astrologenverband.de
X-WR-CALDESC:Veranstaltungen für Astrologie | Deutscher Astrologenverband e.V.
REFRESH-INTERVAL;VALUE=DURATION:PT1H
X-Robots-Tag:noindex
X-PUBLISHED-TTL:PT1H
BEGIN:VTIMEZONE
TZID:Europe/Berlin
BEGIN:DAYLIGHT
TZOFFSETFROM:+0100
TZOFFSETTO:+0200
TZNAME:CEST
DTSTART:20260329T010000
END:DAYLIGHT
BEGIN:STANDARD
TZOFFSETFROM:+0200
TZOFFSETTO:+0100
TZNAME:CET
DTSTART:20261025T010000
END:STANDARD
END:VTIMEZONE
BEGIN:VEVENT
DTSTART;TZID=Europe/Berlin:20260520T181500
DTEND;TZID=Europe/Berlin:20260520T201500
DTSTAMP:20260424T020558
CREATED:20260409T105504Z
LAST-MODIFIED:20260409T105934Z
UID:10006084-1779300900-1779308100@www.astrologenverband.de
SUMMARY:Online-Seminar: Praxis der Stundenastrologie
DESCRIPTION:Horoskope können nicht nur für Menschen gedeutet werden\, sondern ebenso für Ereignisse und für besondere Fragen. Zum Beispiel für Begegnungen\, Vertragsunterschriften oder Wohnungsbesichtigungen. \nDas Fundament einer neuen Situation und alles\, was darauf aufbaut\, zeigt sich am besten im Ereignishoroskop. Steht eine Entscheidung noch bevor\, hat es sich hingegen bewährt\, das Horoskop für den Moment der Fragestellung zu deuten. Dies zeigt dann\, was hinter der Frage steht und wie sich die Situation entwickeln wird. \n\nDarüber hinaus ermöglicht die Stundenastrologie Einblicke in größeres gesellschaftliches Geschehen. Hier sind Horoskope von Wahlen und von Staatengründungen besonders interessant. Aber auch aktuelle Konstellationen sowie die Zeichenwechsel wichtiger Planeten sollten beachtet werden\, wenn wir wissen möchten\, welche Themen anstehen. \nEin weiterer Bereich der Stundenastrologie ist dann noch die Terminplanung\, zum Beispiel für eine Geschäftseröffnung oder eine bevorstehende Operation. Hier gibt es stichhaltige Erfahrungswerte\, die wir unbedingt berücksichtigen sollten. \nIm Verlauf des Kurses werden wir mit vielen Beispielhoroskopen üben\, auch zu aktuellen Anlässen. Für die Deutung kommen wichtige Regeln der klassischen Astrologie zur Anwendung. Hier prüfen wir\, welche alten Regeln in der heutigen Realität bestehen können und welche neu beleuchtet werden müssen. Außerdem werden wir Elemente aus der Münchner Rhythmenlehre verwenden. Denn die wirken in Stundenhoroskopen ähnlich wie in Geburtshoroskopen. So können wir zusätzlich von den Stundenhoroskopen lernen\, persönliche Konstellationen bildhafter zu verstehen. \n\n\n\nTHEMEN \n\nGrundlagen der Stundenastrologie\nDeutung und Sinn von Ereignishoroskopen\nDeutung von Fragehoroskopen\nSiebener-Rhythmus und Prognosemethoden im Stundenhoroskop\nAstrologische Terminplanung\nHoroskope für Heilbehandlungen und OPs\nHoroskope für politische Ereignisse\nMundankonstellationen\nSinnvolle neue und alte Methoden der Deutung\n\n\nBeginn: Mi. 13.5.2026 \nZeit: 18.15 – 20.15 Uhr \nDauer: 12 Abende\, mittwochs \nKursgebühr: 420 Euro \n\nOrt: Online-Seminar der Astrologie-Schule Bremen \nVoranmeldung
URL:https://www.astrologenverband.de/terminkalender/online-seminar-praxis-der-stundenastrologie/2026-05-20/
LOCATION:Online\, Astrologie-Schule Bremen\, Deutschland
CATEGORIES:DAV Regionalstelle,Fernstudium,Seminar Online
END:VEVENT
BEGIN:VEVENT
DTSTART;TZID=Europe/Berlin:20260520T190000
DTEND;TZID=Europe/Berlin:20260520T194500
DTSTAMP:20260424T020558
CREATED:20260310T093814Z
LAST-MODIFIED:20260310T094814Z
UID:10006001-1779303600-1779306300@www.astrologenverband.de
SUMMARY:Einführung in die Traditionelle Astrologie (Online)
DESCRIPTION:Online Ausbildung Traditionelle Astrologie: Einführung – Modul 1 \nDiese Einführung gibt einen Einblick\, wie traditionelle Astrologie funktioniert und zeigt\, wie sich erste Deutungsschritte ableiten lassen. Der Kurs ist in sich abgeschlossen und gleichzeitig Teil der dreijährigen Online-Ausbildung in traditioneller Astrologie. Im Anschluss daran startet (dienstags abends) die einjährige Online-Ausbildung „Traditionelle Radixdeutung“.\nIn der Einführung geht es um den Aufbau und Besonderheiten eines traditionellen Horoskops. Zudem bietet sie einen verständlichen Einstieg in zentrale Grundlagen wie den Tierkreis\, Elemente und Qualitäten\, Planeten\, Häuser\, Aspekte und Würden. \n\nVorkenntnisse sind nicht erforderlich.\nSechs Abende mit jeweils 120 Minuten Live-Unterricht über Zoom\nErgänzt durch begleitende Materialien (PDF-Handouts\, freiwillige Übungen)\nFrühbucherrabatt ab Anfang April\n\nTermine: 15.04.2026 – 22.04.2026 – 29.04.2026 – 06.05.2026 – 13.05.2026 – 20.05.2026 \nAm 8. April 2026 um 19:00 Uhr findet eine 30-minütige Online-Begrüßungsrunde statt.\nDieses freiwillige Treffen dient dem Kennenlernen\, organisatorischen Hinweisen und der Orientierung im Ablauf.\nDie Begrüßung wird nicht aufgezeichnet. \nAnmeldung: Trage dich gern schon jetzt per Mail an info@birgitvonborstel.de in die Interessentenliste ein und erhalte eine persönliche Nachricht zum Start des Frühbucherrabatts. \nMehr Info unter www.traditionelle-astrologie-akademie.de \n  \n 
URL:https://www.astrologenverband.de/terminkalender/einfuehrung-in-die-traditionelle-astrologie-online/2026-05-20/
LOCATION:Online Birgit von Borstel\, Traditionelle Astrologie Akademie
CATEGORIES:DAV Ausbildungszentrum,Seminar Online
ORGANIZER;CN="Birgit%20von%20Borstel%2C%20Ausbildungszentrum%20Prenzlauer%20Berg":MAILTO:info@birgitvonborstel.de
END:VEVENT
BEGIN:VEVENT
DTSTART;TZID=Europe/Berlin:20260520T190000
DTEND;TZID=Europe/Berlin:20260520T210000
DTSTAMP:20260424T020559
CREATED:20260126T173630Z
LAST-MODIFIED:20260126T173630Z
UID:10005928-1779303600-1779310800@www.astrologenverband.de
SUMMARY:Online Intensivausbildung Astrologie (6)
DESCRIPTION:Auf Wunsch von vielen Astroschüler*innen der Astrologos-Ausbildungen gibt es ab März 2026 erstmals eine Intensivausbildung Astrologie als Online-Angebot. Sie wendet sich an Teilnehmer mit guten Grundkenntnissen\, die ihr gelerntes Wissen für die astrologische Beratungsarbeit nutzen möchten – und gleichzeitig nach einer attraktiven Synthese von traditioneller und moderner psychologischer Astrologie suchen. \nIm Verlauf von 12 Abenden und einem Tagesseminar vor Ort werden einzelne Bereiche der astrologischen Deutung vertieft und es geht um Methoden\, die Schlüsselthemen eines Horoskops und den roten Faden bei der Deutung sichtbar zu machen. \nDas Beste aus beiden Welten – zum Wohle der Ratsuchenden! \nThemen sind u.a. die Basics der traditionellen Astrologie\, Grundlagen der Elektionsastrologie\, Strukturdeutungm Combinhoroskope\, Astrokartografie und Astromedizin. \nDie Abende finden über die Online-Plattform Zoom statt. Den Teilnehmenden wir die Möglichkeit geboten\, zu jedem Abend ein Video zu bekommen. Mit ausführlichen Skripten zu jedem Thema können Sie so verpasste Inhalte nacharbeiten. \nAusführliche Informationen zur Ausbildung zu diesem Weiterbildungsangebot finden Sie auf der Astrologos-Website. \nFür weitere Informationen und die Anmeldung nehmen Sie bitte per E-Mail oder telefonisch Kontakt mit mir auf. \nDie E-Mail-Adresse ist: kontakt@astrologos.de\, die Telefonnummer: 0234-683723.
URL:https://www.astrologenverband.de/terminkalender/online-intensivausbildung-astrologie-6/
LOCATION:DAV-Zentrum Bochum-Ruhrgebiet\, Deutschland
CATEGORIES:DAV Ausbildungszentrum,Seminar Online
ORGANIZER;CN="DAV-Astrologiezentrum%20Ruhrgebiet":MAILTO:kontakt@astrologos.de
END:VEVENT
BEGIN:VEVENT
DTSTART;TZID=Europe/Berlin:20260520T193000
DTEND;TZID=Europe/Berlin:20260520T213000
DTSTAMP:20260424T020559
CREATED:20250202T132218Z
LAST-MODIFIED:20250202T132218Z
UID:10004723-1779305400-1779312600@www.astrologenverband.de
SUMMARY:Online-Ausbildung Astromedizin (19)
DESCRIPTION:In 21 Abenden (jeweils mittwochs von 19:30 – 21:30 Uhr) erhalten Sie durch die Astrologin Petra Dörfert eine umfassende Einführung in die Astromedizin. Neben den Grundlagen (Zuordnung von Organen und Krankheiten zu den Tierkreiszeichen\, Häusern und Planeten) beschäftigen wir uns mit zahlreichen körperlichen und psychischen Erkrankungen\, der Frage der Prävention\, der Kinderwunschberatung sowie der Berechnung von OP-Terminen. \nSämtliche Informationen zur Ausbildung finden Sie hier. \nFür die Anmeldung nehmen Sie bitte per E-Mail oder telefonisch Kontakt mit mir auf (siehe unten)\, dann sende ich Ihnen das Anmeldeformular zu. \nDer nächste Astromedizin-Zyklus startet im kommenden September!
URL:https://www.astrologenverband.de/terminkalender/online-ausbildung-astromedizin-19/
LOCATION:Online\, Deutschland
CATEGORIES:DAV Ausbildungszentrum,Seminar Online
ORGANIZER;CN="Online%20Akademie%20Astrologie%20Petra%20D%C3%B6rfert%20%2F%20DAV%20Ausbildungszentrum":MAILTO:info@online-akademie-astrologie.com
END:VEVENT
END:VCALENDAR