BEGIN:VCALENDAR
VERSION:2.0
PRODID:-//Astrologie | Deutscher Astrologenverband e.V. - ECPv6.1.0//NONSGML v1.0//EN
CALSCALE:GREGORIAN
METHOD:PUBLISH
X-ORIGINAL-URL:https://www.astrologenverband.de
X-WR-CALDESC:Veranstaltungen für Astrologie | Deutscher Astrologenverband e.V.
REFRESH-INTERVAL;VALUE=DURATION:PT1H
X-Robots-Tag:noindex
X-PUBLISHED-TTL:PT1H
BEGIN:VTIMEZONE
TZID:Europe/Berlin
BEGIN:DAYLIGHT
TZOFFSETFROM:+0100
TZOFFSETTO:+0200
TZNAME:CEST
DTSTART:20260329T010000
END:DAYLIGHT
BEGIN:STANDARD
TZOFFSETFROM:+0200
TZOFFSETTO:+0100
TZNAME:CET
DTSTART:20261025T010000
END:STANDARD
END:VTIMEZONE
BEGIN:VEVENT
DTSTART;TZID=Europe/Berlin:20260512T180000
DTEND;TZID=Europe/Berlin:20260512T210000
DTSTAMP:20260426T053805
CREATED:20250802T115719Z
LAST-MODIFIED:20250802T115719Z
UID:10005555-1778608800-1778619600@www.astrologenverband.de
SUMMARY:Offene Gruppe Das Integrationshoroskop Huber-Methode
DESCRIPTION:Dieser für alle offene monatliche ASTRO-DIENSTAG dient Astrologinnen als Erfahrungsaustausch und Supervision. Gemeinsam werden Horoskope aus der Beratungspraxis oder spezielle astrologische Themen diskutiert. Teilnehmer/innen aus allen astrologischen Fachrichtungen sind herzlich eingeladen. Einfach mit einer kurzen Mail anmelden: astro@lummer.de \nHeute besprechen wir…   Das Integrationshoroskop\n \nDas Radix und das Mondknotenhoroskop (MKH) werden aufeinander gelegt und und die Aspekte zwischen den ICH-Planeten Sonne\, Mond\, Saturn sowie zum jeweiligen aufsteigenden Mondknoten eingezeichnet. Das Zusammenwirken der ICH-Planeten von zwei Ebenen vermittelt neue Einsichten in den Persönlichkeitsaufbau wie auch in die Integration des Schattens (MKH) mit der bewussten Persönlichkeit (GH). Deshalb nennt man das „neue“ Horoskop: Integrationshoroskop. Gedeutet wird es als Modell für die Integration des Schattens und der unbewussten Potentiale in die bewusste Persönlichkeit. \nAls Deutungskriterien gelten die bereits bekannten Merkmale\, wie sie im Grundhoroskop angewandt werden. Im Vergleich zwischen Grund- und Mondknotenhoroskop sind besonders die Verschiebungen der Häuserpositionen zu deuten und den sich daraus ergebenden Entwicklungsauftrag zu erkennen. Hierbei spielt die Verschiebung der Kreuzqualitäten – kardinal\, fix\, veränderlich – eine aussagekräftige Rolle. \n\n\n\nNatürlich werden wir das Thema anhand von praktischen Horoskopen der Teilnehmerinnen behandeln. \n\n\nHier mehr Infos…
URL:https://www.astrologenverband.de/terminkalender/offene-gruppe-das-integrationshoroskop-huber-methode/
LOCATION:Lippstadt / Schule Lummer und Borchardt\, Rüschenkamp12\, Lippstadt\, 59558\, Deutschland
CATEGORIES:Seminar Online
ORGANIZER;CN="Astrologische%20Psychologie%20Birgit%20Lummer%20und%20Saskia%20Borchardt":MAILTO:astro@lummer.de
END:VEVENT
BEGIN:VEVENT
DTSTART;TZID=Europe/Berlin:20260512T181500
DTEND;TZID=Europe/Berlin:20260512T201500
DTSTAMP:20260426T053805
CREATED:20251231T115908Z
LAST-MODIFIED:20260317T163843Z
UID:10005889-1778609700-1778616900@www.astrologenverband.de
SUMMARY:Online-Seminar: Horoskope für Kinder
DESCRIPTION:In diesem Online-Seminar lernen wir\, wie wir die Horoskope von Kindern richtig deuten. Denn hier gelten etwas andere Regeln als für die Horoskope von Erwachsenen. Ein spannendes und hilfreiches Seminar für alle\, die mit Kindern zu tun haben und die sich für sinnvoll angewandte Astrologie interessieren. \nGemeinsam werden wir erkennen\, welche Eigenschaften im Kind besonders stark angelegt sind und wie wir diese am besten fördern. Dabei spielen im Horoskop eines Kindes die persönlichen Planeten eine größere Rolle als bei Erwachsenen. Denn diese sind dem Kindlichen viel näher\, was bei der Deutung berücksichtigt werden muss. Die unpersönlichen Planeten beschreiben dann eher die übergeordneten „erwachsenen“ Themen\, der Eltern und des gesellschaftlichen Umfeldes.\n \nZudem bringt jedes Kind von Geburt an eigene Talente mit\, die wir ja gut im Horoskop erkennen können. So wird ein junger Widder oft etwas energischer und fordernder auftreten als andere Altersgenossen. Ein typisches Fische-Kind hingegen ist eher sensibler und oft auch musischer veranlagt\, während ein kleiner Steinbock oft klare Regeln liebt und wenn alles seine Richtigkeit hat. \nWie die einzelnen Konstellationen im Kinderhoroskop zu deuten sind\, lernen wir dann genauer in diesem Seminar. Hinzu kommt\, dass auch Zeitphasen\, Transite und rhythmische Auslösungen für Kinder anders zu verstehen sind als für Erwachsene. \n\n\n\n\n\nTHEMEN \n\nDie 12 Zeichen der Kinder\nZeitphasen im Kinderhoroskop\nDie persönlichen Planeten\nDie überpersönlichen Planeten\nVeranlagungen erkennen und fördern\nHoroskopvergleich von Eltern und Kindern\n\n\n\n\n\n\n\nINFO \nBeginn: Di. 12.5.2026 \nZeit: 18.15 – 20.15 Uhr \nDauer: 12 Abende\, dienstags \nKursgebühr: 420 Euro \nOrt: Online \n\n\n\n\n\nDer Kurs ist außerdem ein wichtiges Modul der Ausbildung an der Astrologie-Schule Bremen \nReservierung
URL:https://www.astrologenverband.de/terminkalender/online-seminar-horoskope-fuer-kinder/2026-05-12/
LOCATION:Online\, Astrologie-Schule Bremen\, Deutschland
CATEGORIES:DAV Regionalstelle,Fernstudium,Seminar Online
END:VEVENT
BEGIN:VEVENT
DTSTART;TZID=Europe/Berlin:20260512T190000
DTEND;TZID=Europe/Berlin:20260512T203000
DTSTAMP:20260426T053805
CREATED:20260418T151846Z
LAST-MODIFIED:20260418T151846Z
UID:10006364-1778612400-1778617800@www.astrologenverband.de
SUMMARY:„Im Schatten der Finsternisse – Macht\, Zyklen und globale Zusammenhänge“ von Franziska Engel
DESCRIPTION:Sonnen- und Mondfinsternisse zählen zu sehr eindrucksvollen Phänomenen astrologischer Zyklen. Häufig kann man sie mit bloßem Auge beobachten. So wurden sie bereits im Altertum als Omen verstanden\, insbesondere im Zusammenhang mit den Mächtigen der Welt\, mit Fragen von Machtgewinn und Machtverlust. \nIm Vortrag gibt es eine kurze Einführung in die Entstehung und Berechnung von Finsternissen. Dann wird das Thema am Beispiel der Amtszyklen deutscher Bundeskanzler und anderer Machthaber bildhaft verdeutlicht. Auf die Weltkarte projiziert\, kann man globale „Hotspots“ für Ereignisse beobachten.
URL:https://www.astrologenverband.de/terminkalender/im-schatten-der-finsternisse-macht-zyklen-und-globale-zusammenhaenge-von-franziska-engel/
LOCATION:ONline Astrologische Arbeitsgemeinchaft Stuttgart .V.\, Dieter.Gollong@t-online.de
ORGANIZER;CN="Astrologische%20Arbeitsgemeinschaft%20Stuttgart%20e.%20V":MAILTO:astrologie.ag.stuttgart@t-online.de
END:VEVENT
BEGIN:VEVENT
DTSTART;TZID=Europe/Berlin:20260512T190000
DTEND;TZID=Europe/Berlin:20260512T210000
DTSTAMP:20260426T053805
CREATED:20260129T191059Z
LAST-MODIFIED:20260410T153354Z
UID:10005947-1778612400-1778619600@www.astrologenverband.de
SUMMARY:Fachausbildung Astromedizin 19
DESCRIPTION:Fachausbildung für medizinisch interessierte Astrologen und astrologisch interessierte Therapeuten\n60 Veranstaltungen in 30 Monaten\, jeweils 19-21 Uhr\nLive mit Interaktion auf meiner Online-Akademie\nDen TeilnehmerInnen stehen Skript\, Präsentation und Videoaufnahme zur Verfügung. \nFachseminare über die verschiedenen Organbereiche: \n1.Das zentrale und periphere Nervensystem – Forschung anhand von Fallbeispielen: Schwindel\, Epilepsie\, Apoplexie\, Enzephalitis\, Morbus Parkinson und Polyneuropathie\n2. Das endokrine System 1 – Erkrankungen von Schilddrüse und Nebenschilddrüse anhand von Fallbeispielen: Unter- und Überfunktion\, Hashimoto\n3. Das endokrine System 2 – Hypothalamus\, Hypophyse\, Epiphyse\, Thymus\, Nebenniere und ihre möglichen Fehlfunktionen mit Auswirkungen: z. B. Cushing\, Wachstumsstörungen\, Unfruchtbarkeit\, Virilismus und Hirsutismus\n4. Blut und lymphoretikuläres System – Schwerpunkte: Anämie\, Leukämie\, Hodgkin\, Non Hodgkin\, AIDS\n5. Kreislaufsystem – Erkrankungen von Arterien und Venen – Schwerpunkt Verschlüsse und Aneurysmen\n6. Herz und Atmungssystem – Schwerpunkte der Fallanalysen: Herzfehler\, Asthma und Lungenembolie\n7. Verdauungssystem 1 – Erkrankungen des Magen-Darm-Traktes: z. B. Morbus Crohn und Colitis ulcerosa\n8. Verdauungssystem 2 – Leber\, Galle\, Bauchspeicheldrüse – Schwerpunkte: Hepatitis\, Leberzirrhose\, Gallensteinleiden\n9. Stoffwechsel – insbesondere Diabetes aus astromedizinischer Sicht\n10.Ausscheidungssystem – Erkrankungen der Nieren – Forschungsschwerpunkt: Die Beteiligung von Isis bei Nierenleiden\n11.Bewegungsapparat 1 – Gelenk- und Wirbelsäulenerkrankungen – Schwerpunkt: Arthrose und Morbus Bechterew\n12. Bewegungsapparat 2 – Kollagenosen\, Vaskulitiden\, Schwerpunktthema: Fibromyalgie \nWeitere Info: www.astromedizin.info\nAusbildungsplan anfordern: hp.heidetrautmann@astromedizin.info
URL:https://www.astrologenverband.de/terminkalender/fachausbildung-astromedizin-19/
LOCATION:Online-Akademie Heide Trautmann\, Schillerstraße\, Blieskastel\, 66440\, Deutschland
ORGANIZER;CN="Heide%20Trautmann%2C%20Heilpraktikerin%20und%20Astromedizinerin":MAILTO:hp.heidetrautmann@astromedizin.info
END:VEVENT
END:VCALENDAR