BEGIN:VCALENDAR
VERSION:2.0
PRODID:-//Astrologie | Deutscher Astrologenverband e.V. - ECPv6.1.0//NONSGML v1.0//EN
CALSCALE:GREGORIAN
METHOD:PUBLISH
X-ORIGINAL-URL:https://www.astrologenverband.de
X-WR-CALDESC:Veranstaltungen für Astrologie | Deutscher Astrologenverband e.V.
REFRESH-INTERVAL;VALUE=DURATION:PT1H
X-Robots-Tag:noindex
X-PUBLISHED-TTL:PT1H
BEGIN:VTIMEZONE
TZID:Europe/Berlin
BEGIN:DAYLIGHT
TZOFFSETFROM:+0100
TZOFFSETTO:+0200
TZNAME:CEST
DTSTART:20260329T010000
END:DAYLIGHT
BEGIN:STANDARD
TZOFFSETFROM:+0200
TZOFFSETTO:+0100
TZNAME:CET
DTSTART:20261025T010000
END:STANDARD
END:VTIMEZONE
BEGIN:VEVENT
DTSTART;TZID=Europe/Berlin:20260321T140000
DTEND;TZID=Europe/Berlin:20260321T180000
DTSTAMP:20260424T003806
CREATED:20260112T161940Z
LAST-MODIFIED:20260112T161940Z
UID:10005900-1774101600-1774116000@www.astrologenverband.de
SUMMARY:Tag der Astrologie - Veranstaltung in Düsseldorf
DESCRIPTION:Tag der Astrologie in Düsseldorf mit Maria Schlicker\nAuch in diesem Jahr gibt es in Düsseldorf wieder eine Veranstaltung zum Tag der Astrologie.\nMaria Schlicker lädt Dich herzlich ein\, diesen besonderen astrologischen Neubeginn gemeinsam mit anderen Astrologie-Interessierten zu erleben. \nDen Auftakt bildet mein Vortrag zum Widder-Ingress\, dem Startpunkt des astrologischen Jahres. Du erhältst Einblicke in die aktuellen Zeitqualitäten\, kollektiven Themen und die Dynamik\, die dieser Ingress für uns alle mit sich bringt: wie gewohnt verständlich\, inspirierend und praxisnah vermittelt. \nIm Anschluss tauchen wir in einen interaktiven Workshop ein.  \nGemeinsam lernen wir die Energien der Planeten kennen\, setzen sie in Beziehung zueinander und wenden dieses Wissen direkt an. Schritt für Schritt deuten wir zusammen ein Horoskop und machen Astrologie unmittelbar erfahrbar. \nIn den Pausen bleibt Zeit für persönlichen Austausch\, Gespräche und Vernetzung. Kaffee\, Tee und Gebäck stehen für dich bereit und laden zum Verweilen ein. \nOrt:           Bridge-Akademie\, Wiesenstr. 21\, Düsseldorf-Heerdt \nTicket:  20€ inklusive Kaffee\, Tee und Kuchen  \nAnmelden kannst Du Dich über meine Website.
URL:https://www.astrologenverband.de/terminkalender/tag-der-astrologie-veranstaltung-in-duesseldorf/
LOCATION:Tag der Astrologie Düssedorf\, Comeniusstr. 1\, Düsseldorf\, 40545
CATEGORIES:DAV Regionalstelle,Vortrag Präsenz
ORGANIZER;CN="Astrologin%20Maria%20Schlicker":MAILTO:info@maria-schlicker.de
END:VEVENT
END:VCALENDAR