BEGIN:VCALENDAR
VERSION:2.0
PRODID:-//Astrologie | Deutscher Astrologenverband e.V. - ECPv6.1.0//NONSGML v1.0//EN
CALSCALE:GREGORIAN
METHOD:PUBLISH
X-ORIGINAL-URL:https://www.astrologenverband.de
X-WR-CALDESC:Veranstaltungen für Astrologie | Deutscher Astrologenverband e.V.
REFRESH-INTERVAL;VALUE=DURATION:PT1H
X-Robots-Tag:noindex
X-PUBLISHED-TTL:PT1H
BEGIN:VTIMEZONE
TZID:Europe/Berlin
BEGIN:DAYLIGHT
TZOFFSETFROM:+0100
TZOFFSETTO:+0200
TZNAME:CEST
DTSTART:20260329T010000
END:DAYLIGHT
BEGIN:STANDARD
TZOFFSETFROM:+0200
TZOFFSETTO:+0100
TZNAME:CET
DTSTART:20261025T010000
END:STANDARD
END:VTIMEZONE
BEGIN:VEVENT
DTSTART;TZID=Europe/Berlin:20260316T180000
DTEND;TZID=Europe/Berlin:20260316T210000
DTSTAMP:20260422T161520
CREATED:20250201T110824Z
LAST-MODIFIED:20250802T110232Z
UID:10005492-1773684000-1773694800@www.astrologenverband.de
SUMMARY:Sexualität im Horoskop
DESCRIPTION:Eine Online-Fortbildungsreihe über die Faktoren von Beziehung und Sexualität im Horoskop und der Umgang mit dem Thema in der astrologisch-psychologischen Beratung. \nIn einer astrologischen Beratung gibt es unzählige Bereiche\, die angesprochen und thematisiert werden. Auch über Mars und Venus im Horoskop reden wir ganz selbstverständlich\, solange es nichts mit Sexualität zu tun hat. Obwohl diese für unsere psychische wie physische Gesundheit außerordentlich wichtig ist\, scheint dieses Thema noch immer ein großes Tabu und von Scham begleitet zu sein. Auch in den Horoskopberatungen bleibt die Sexualität unerwähnt\, die wenigsten Berater/innen berühren es. Sehr wichtig für die Umsetzung in der Praxis ist die Frage: Wann und wie kann ich dieses Thema seriös\, einfühlsam\, angemessen\, deutlich\, locker – also „richtig“ zur Sprache bringen? \nWarum Sex ein Tabu ist\, welche Wissensgrundlagen vorliegen sollten und wie man damit als beratende Astrologin konstruktiv umgehen kann\, wird Astrologin und Sexualtherapeutin Birgit Lummer an anonymisierten Fallbeispielen aus ihrer Praxis auf spannende\, humorvolle Art näher bringen.  \nWeitere Informationen\nDurchführung als Online-ZOOM Seminar\nGesamtkosten 225€ für 4 Module\nAnmeldung bis 20.02.2026 – einfach eine E-Mail an astro@lummer.de \nFür wen\nFür interessierte Astrologinnen und Astrologinnen\nFür Astrologinnen und Astrologen\, die beraten wollen\nFür Astrologinnen und Astrologen\, die bereits beratend tätig sind\nFür Psychotherapeutinnen und Therapeuten mit astrologischen Grundkenntnissen \nZiele\nKenntnisse über Beziehung\, Liebe und Sex und ihre Spiegelungen im Horoskop\nKenntnisse über die Grundlagen der astrologischen Beziehungs- und Sexualberatung\nPraktische Anwendung der Kenntnisse in der astrologisch-psychologischen Beratung \nTERMINE und INHALTE\nMontag\, den 02.03.2026 von 18.30 bis 21.30 Uhr via online-ZOOM\nModul 1:   Allgemeines zu Mars und Venus in Beziehungen\nHoroskope zu Beziehung und Partnerschaft sind wichtige Fundamente der Astrologie. Der Inhalt dieses ersten Moduls sind unverzichtbare Kenntnisse über gesellschaftliche und kulturelle Grundlagen über Beziehungen und Sexualität als Grundlage für eine seriöse Beratung\, auch über Mars und Venus hinaus.  \nMontag\, den 09.03.2026 von 18.30 bis 21.30 Uhr via online-ZOOM\nModul 2:      Störungen der Sexualität und ihre astrologische Entsprechung\nIn diesem Modul geht es um sexuelle Probleme\, ihre Entstehung und der Umgang damit. Wie zeigt sich das im Horoskop und welche Faktoren sind zusätzlich zu beachten. Neben den anatomischen Grundlagen geht es um den Zusammenhang von Gesundheit und Sexualität. \nMontag\, den 16.03.2026 von 18.30 bis 21.30 Uhr via online-ZOOM\nModul 3:      Grundlagen der astrologischen Sexualberatung\nIn diesem Modul geht es um die astrologische Deutung von Themen rund um Beziehungen und Sex. Wie interpretiert man die Kombination und das Wechselspiel von Mars und Venus? Warum ist Sex ein Tabu-Thema? Wie zeigen astrologische Partnerschaftsvergleiche das Zusammenspiel aller Planeten. Und was bedeutet die Aussage „Mein Sex spiegelt mich“. \nMontag\, den 30.03.2026 von 18.30 Uhr bis 21.30 Uhr via online-ZOOM\nModul 4:      Anwendung des Erlernten anhand praktischer Fallbeispiele\nIn diesem Modul wird das Erlernte in die Beratung integriert. Warum und wie sollte Sexualität angesprochen werden? Welche Sprache finden Beraterin und Klientin um über sexuelles Erleben und Verhalten zu sprechen? Wie kann die Sexualität in die ganzheitliche Horoskopberatung einbezogen werden? Wie sieht die Gesprächsführung in der Einzelberatung und in der Paarberatung aus? \nIn jedem Modul werden Fallbeispiele zur Verdeutlichung und Vertiefung der Theorie dargestellt. \nHier mehr Infos…
URL:https://www.astrologenverband.de/terminkalender/sexualitaet-im-horoskop/2026-03-16/
LOCATION:Online / Schule Lummer und Borchardt
CATEGORIES:Seminar Online
ORGANIZER;CN="Astrologische%20Psychologie%20Birgit%20Lummer%20und%20Saskia%20Borchardt":MAILTO:astro@lummer.de
END:VEVENT
BEGIN:VEVENT
DTSTART;TZID=Europe/Berlin:20260316T183000
DTEND;TZID=Europe/Berlin:20260316T210000
DTSTAMP:20260422T161520
CREATED:20250802T110858Z
LAST-MODIFIED:20250802T110858Z
UID:10005521-1773685800-1773694800@www.astrologenverband.de
SUMMARY:Astrologische Psychologie Grundlagen Level 1
DESCRIPTION:Das Einmaleins der Astrologie – einfach\, klar und übersichtlich  \nDu lernst die wichtigsten Vokabeln eines Horoskopes. Planeten\, Häuser \, Aspekte. Und gelernt wird natürlich immer am eigenen Horoskop. Das ist spannend und lehrreich zugleich. Du brauchst keine Vorkenntnisse\, sondern Neugier und einen offenen Geist. Diese Grundlagenkurse Level 1 mit den Modulen 0 bis 12 ist die erste Stufe eines dreigliedrigen zertifizierten Systems. Im Level 2 lernst Du dann alles über die Astrologische Psychologie. \n\nInhalte \nModul 0: Grundsätzliches zur Astrologie\, zum Horoskop und zur Astrologischen Psychologie \nModul 1: Widder\, Mars\, 1. Haus / Grundbegriffe \nModul 2: Stier\, Venus\, 2. Haus / Das Horoskop als Raumgefüge \nModul 3: Zwillinge\, Merkur\, 3. Haus / Grundlagen der Aspekte \nModul 4: Krebs\, Mond\, 4. Haus / Die 5 Schichten des Horoskopes \nModul 5: Löwe\, Sonne\, 5. Haus / Grundlagen des Alterspunktes \nModul 6: Jungfrau\, 6. Haus / Grundlagen und Funktionsweise der Astrologie \nModul 7: Waage\, 7. Haus / Grundlagen der Prognose \nModul 8: Skorpion\, Pluto\, 8. Haus / Der Entwicklungsgedanke \nModul 9: Schütze\, Jupiter\, 9. Haus / Die Planetentafel \nModul 10: Steinbock\, Saturn\, 10. Haus / Die Symbolsprache \nModul 11: Wassermann\, Uranus\, 11. Haus / Die 3 Ebenen des ICH \nModul 12: Fische\, Neptun\, 12. Haus / Die Entwicklung der Persönlichkeitsplaneten \n\nZur Referentin Saskia Borchardt:\nSaskia Borchardt ist zertifizierte Astrologisch-Psychologische Beraterin und Lehrerin der Huber-Methode. \nOnline\nDie Online-Seminare finden live als Zoom-Meetings statt. Sie sind keine vorab aufgezeichneten Kurse zum Selbststudium\, sondern Live-Schulungen mit persönlicher Betreuung. \nUmfang\, Ablauf und Termine\nDie Ausbildung Grundlagen dauert ca. ein halbes Jahr. Die Online-Seminare finden immer Montags statt von 18.30 bis 21 Uhr. Die Arbeitsunterlagen werden jeweils zur Verfügung gestellt. \nAbschluss Level 1\nZertifikat I Grundlagen Astrologie\nDie Grundlagen dienen als Voraussetzung für den Einstieg in das Studium Astrologische Psychologie Level 2 (Huber-Methode)
URL:https://www.astrologenverband.de/terminkalender/astrologische-psychologie-grundlagen-level-1/2026-03-16/
LOCATION:Online / Schule Lummer und Borchardt
CATEGORIES:Seminar Online
ORGANIZER;CN="Astrologische%20Psychologie%20Birgit%20Lummer%20und%20Saskia%20Borchardt":MAILTO:astro@lummer.de
END:VEVENT
BEGIN:VEVENT
DTSTART;TZID=Europe/Berlin:20260316T193000
DTEND;TZID=Europe/Berlin:20260316T213000
DTSTAMP:20260422T161520
CREATED:20250129T151732Z
LAST-MODIFIED:20250210T165206Z
UID:10004608-1773689400-1773696600@www.astrologenverband.de
SUMMARY:Online-Aufbaukurs Partnerschaftsastrologie (2)
DESCRIPTION:in 15 Abend-Webinaren (jeweils montags 19:30 Uhr – 21:30 Uhr) erhalten sie durch die Astrologin Petra Dörfert eine umfassende Einführung in das Thema Partnerschaftsastrologie. Kursinhalte sind neben den Methoden Synastrie\, Composit und Combin die gründliche Analyse der Radix auf Partnerschaftsthemen hin sowie die Frage\, wie man typische Partnerschaftsprobleme erkennt und löst. \nSämtliche Informationen zur Ausbildung finden Sie hier. \nFür die Anmeldung nehmen Sie bitte per E-Mail oder telefonisch Kontakt mit mir auf (siehe unten)\, dann sende ich Ihnen das Anmeldeformular zu. \nDer Aufbaukurs Partnerschaftsastrologie richtet sich an Fortgeschrittene und ist Teil der 3-4-jährigen Online-Ausbildung Astrologie mit dem einjährigen Grundkurs und den weiteren Aufbaukursen Prognose\, Beratertraining und DAV-Prüfungsvorbereitung (jedes Modul ist einzeln buchbar). Mehr dazu finden Sie auf der Homepage der Online Akademie Astrologie Petra Dörfert.
URL:https://www.astrologenverband.de/terminkalender/online-aufbaukurs-partnerschaftsastrologie-2/
LOCATION:Online\, Deutschland
CATEGORIES:DAV Ausbildungszentrum,Seminar Online
ORGANIZER;CN="Online%20Akademie%20Astrologie%20Petra%20D%C3%B6rfert%20%2F%20DAV%20Ausbildungszentrum":MAILTO:info@online-akademie-astrologie.com
END:VEVENT
END:VCALENDAR