BEGIN:VCALENDAR
VERSION:2.0
PRODID:-//Astrologie | Deutscher Astrologenverband e.V. - ECPv6.1.0//NONSGML v1.0//EN
CALSCALE:GREGORIAN
METHOD:PUBLISH
X-ORIGINAL-URL:https://www.astrologenverband.de
X-WR-CALDESC:Veranstaltungen für Astrologie | Deutscher Astrologenverband e.V.
REFRESH-INTERVAL;VALUE=DURATION:PT1H
X-Robots-Tag:noindex
X-PUBLISHED-TTL:PT1H
BEGIN:VTIMEZONE
TZID:Europe/Berlin
BEGIN:DAYLIGHT
TZOFFSETFROM:+0100
TZOFFSETTO:+0200
TZNAME:CEST
DTSTART:20260329T010000
END:DAYLIGHT
BEGIN:STANDARD
TZOFFSETFROM:+0200
TZOFFSETTO:+0100
TZNAME:CET
DTSTART:20261025T010000
END:STANDARD
END:VTIMEZONE
BEGIN:VEVENT
DTSTART;TZID=Europe/Berlin:20260305T190000
DTEND;TZID=Europe/Berlin:20260305T210000
DTSTAMP:20260424T092407
CREATED:20241206T133324Z
LAST-MODIFIED:20251127T095017Z
UID:10004303-1772737200-1772744400@www.astrologenverband.de
SUMMARY:DAV ASTRO-TREFF
DESCRIPTION:DAV-ASTRO-TREFF\n05.03.2026 um 19 Uhr / Anmeldung bis 01. März 2026\nAstrologie und Social-Media\nAstrologie auf Social Media ist mehr als nur Horoskope posten – es ist ein Spielfeld\, das sich lohnt\, wenn man es strategisch und authentisch betreibt. Es geht um die richtige Mischung aus Wissen\, Unterhaltung und Interaktion. Was können wir tun? Was lohnt sich? Wie kann man eine treue Fangemeinde aufbauen und sogar geschäftlich profitieren? Diese und weitere Fragen werden wir gemeinsam diskutieren. Unterstützt werden wir von unseren versierten Mitgliedern Tanja Brock\, Jana Kubatzki und Robert Wagner\,\nEs moderiert Franziska Engel.\nDauer ca. zwei Stunden. \nDu bist DAV Mitglied? Du möchtest teilnehmen?\nAnmeldung bis 01. März 2026\nEinfach eine Mail schreiben an dav@astrologenverband.de. Du bekommst zwei Tage vor dem Termin den Zoom-Link für die Teilnahme zugesandt. \n 
URL:https://www.astrologenverband.de/terminkalender/dav-astro-treff-2/
LOCATION:ONLINE  ZOOM
CATEGORIES:Seminar Online
ORGANIZER;CN="DAV":MAILTO:dav@astrologenverband.de
END:VEVENT
END:VCALENDAR