BEGIN:VCALENDAR
VERSION:2.0
PRODID:-//Astrologie | Deutscher Astrologenverband e.V. - ECPv6.1.0//NONSGML v1.0//EN
CALSCALE:GREGORIAN
METHOD:PUBLISH
X-ORIGINAL-URL:https://www.astrologenverband.de
X-WR-CALDESC:Veranstaltungen für Astrologie | Deutscher Astrologenverband e.V.
REFRESH-INTERVAL;VALUE=DURATION:PT1H
X-Robots-Tag:noindex
X-PUBLISHED-TTL:PT1H
BEGIN:VTIMEZONE
TZID:Europe/Berlin
BEGIN:DAYLIGHT
TZOFFSETFROM:+0100
TZOFFSETTO:+0200
TZNAME:CEST
DTSTART:20260329T010000
END:DAYLIGHT
BEGIN:STANDARD
TZOFFSETFROM:+0200
TZOFFSETTO:+0100
TZNAME:CET
DTSTART:20261025T010000
END:STANDARD
END:VTIMEZONE
BEGIN:VEVENT
DTSTART;TZID=Europe/Berlin:20260304T183000
DTEND;TZID=Europe/Berlin:20260304T213000
DTSTAMP:20260424T092410
CREATED:20240513T121704Z
LAST-MODIFIED:20250802T111905Z
UID:10003193-1772649000-1772659800@www.astrologenverband.de
SUMMARY:Alterspunkt\, Lebensphasen und Prognosemethoden M15
DESCRIPTION:Du hast astrologische Kenntnisse und möchtest mehr erfahren über die Huber-Methode? \nDie Kurse Level 2 mit den Modulen 13 bis 22 ist die zweite Stufe eines dreigliedrigen zertifizierten Systems. Du kannst alle Module als Gesamtpaket buchen. Wenn Du Dich für ein Thema besonders interessierst\, dann ist Teilnahme an einzelnen Modulen auch möglich. Und gelernt wird natürlich immer am eigenen Horoskop. Das ist spannend und lehrreich zugleich. \n\nHeute Modul 15 mit den Inhalten… \nAlterspunkt\, Lebensphasen und Prognosemethoden.\nGrundsätzliches und die Entdeckung / Weitere Prognosemethoden / Wirkungen auf den Menschen / Struktur und Technik / Grundlagen der AP-Berechnung / Der Alterspunkt und die Entwicklungspsychologie / Lebensrhythmen und Abschnitte des Alterspunktes / Die Lebensphasen in den Häusern / Der Alterspunkt durch die Tierkreiszeichen / Die Aspekte des Alterspunktes / Allgemeine Regeln zum Aspektablauf / Die psychologische Bedeutung / Die psychologische Bedeutung der Alterspunkt-Biographie \nTermine findest Du hier…\n3 Abende je 3 Stunden \n\nUmfang\nDie Online-Kurse finden live als Zoom-Meetings jeweils Mittwoch von 18.30 bis 21.30 Uhr statt. Sie sind keine vorab aufgezeichneten Kurse zum Selbststudium\, sondern Live-Schulungen mit persönlicher Betreuung.\nDauer 1 1/2 Jahre. Ein Modul hat einen Umfang von 6 oder auch 9 Stunden. Die Teilnahme an einzelnen Modulen ist möglich. Anmeldung per Mail astro@lummer.de \nInhalte\nModul 13    Einführung in die Astrologische Psychologie\nModul 14    Die Häuser als Lebensbereiche der Persönlichkeit\nModul 15    Die Entwicklung in den Lebensphasen\nModul 16    Die Aspekte als innerer Schaltplan\nModul 17    Die persönliche Prägung durch die Familie\nModul 18    Der Mensch zwischen Individualität und Umwelt\nModul 19    Karmische Astrologie als Spiegel Persönlichkeit\nModul 20    Intelligenz und Beruf(ung) im Horoskop\nModul 21    Das neue Verständnis von Beziehung und Liebe\nModul 22    Deutungspraxis\, praxisbegleitende Übungen \nAbschluss Level 2\nZertifikat Level II  Astrologische Psychologie\nHast Du die Absicht\, jetzt oder später beratend tätig zu sein\, dann gilt dieses Zertifikat als Voraussetzung für den Einstieg in die Kurse zum/zur Berater/in  Zertifikat Level 3
URL:https://www.astrologenverband.de/terminkalender/alterspunkt-lebensphasen-und-prognosemethoden/
LOCATION:Online / Schule Lummer und Borchardt
CATEGORIES:Seminar Online
ORGANIZER;CN="Astrologische%20Psychologie%20Birgit%20Lummer%20und%20Saskia%20Borchardt":MAILTO:astro@lummer.de
END:VEVENT
END:VCALENDAR