BEGIN:VCALENDAR
VERSION:2.0
PRODID:-//Astrologie | Deutscher Astrologenverband e.V. - ECPv6.1.0//NONSGML v1.0//EN
CALSCALE:GREGORIAN
METHOD:PUBLISH
X-ORIGINAL-URL:https://www.astrologenverband.de
X-WR-CALDESC:Veranstaltungen für Astrologie | Deutscher Astrologenverband e.V.
REFRESH-INTERVAL;VALUE=DURATION:PT1H
X-Robots-Tag:noindex
X-PUBLISHED-TTL:PT1H
BEGIN:VTIMEZONE
TZID:Europe/Berlin
BEGIN:DAYLIGHT
TZOFFSETFROM:+0100
TZOFFSETTO:+0200
TZNAME:CEST
DTSTART:20260329T010000
END:DAYLIGHT
BEGIN:STANDARD
TZOFFSETFROM:+0200
TZOFFSETTO:+0100
TZNAME:CET
DTSTART:20261025T010000
END:STANDARD
END:VTIMEZONE
BEGIN:VEVENT
DTSTART;TZID=Europe/Berlin:20260221T140000
DTEND;TZID=Europe/Berlin:20260222T170000
DTSTAMP:20260426T053806
CREATED:20260201T194409Z
LAST-MODIFIED:20260201T194409Z
UID:10005964-1771682400-1771779600@www.astrologenverband.de
SUMMARY:Astrologie-Grundausbildung Kurs 2 (von 10) mit Sabine Lechleuthner am 21. + 22. Februar 2026
DESCRIPTION:Astrologie- und Tarotschule München: In Kurs 2 lautet unser Schwerpunktthema: Eine Reise durch den Tierkreis. \nDie Mythologie des Tierkreises\, der unseren Entwicklungsweg auf der Erde symbolisiert. Die Sternzeichen! Tiefe Einblicke in kosmisches Geschehen – wie Himmel und Erde verbunden sind\, und welche Rolle Sie dabei spielen! \nPräsenz-Seminar und gleichzeitig Live-Webinar! Kurse werden aufgezeichnet und zugesandt… siehe Kurz-Video mit Sabine Lechleuthner. \nSamstag: 21. Februar von 14:00 – 19:00 Uhr und Sonntag\, 22. Februar von 10:00 – 17:00 Uhr mit 1 Std. Mittagspause \nPreis: 230 Euro \nInfos und Anmeldung: \n https://astro-tarot-muenchen.de/go/de/24-59/grundausbildung-astrologie-2-von-10 \n 
URL:https://www.astrologenverband.de/terminkalender/astrologie-grundausbildung-kurs-2-von-10-mit-sabine-lechleuthner-am-21-22-februar-2026/
LOCATION:Treffpunkt Philosophie\, Schwanthaler Str. 91 /III\, München\, Bayern\, 80336
ORGANIZER;CN="Astrologie-%20und%20Tarotschule%20M%C3%BCnchen%20Sabine%20Lechleuthner":MAILTO:info@astro-tarot-muenchen.de
END:VEVENT
END:VCALENDAR