BEGIN:VCALENDAR
VERSION:2.0
PRODID:-//Astrologie | Deutscher Astrologenverband e.V. - ECPv6.1.0//NONSGML v1.0//EN
CALSCALE:GREGORIAN
METHOD:PUBLISH
X-WR-CALNAME:Astrologie | Deutscher Astrologenverband e.V.
X-ORIGINAL-URL:https://www.astrologenverband.de
X-WR-CALDESC:Veranstaltungen für Astrologie | Deutscher Astrologenverband e.V.
REFRESH-INTERVAL;VALUE=DURATION:PT1H
X-Robots-Tag:noindex
X-PUBLISHED-TTL:PT1H
BEGIN:VTIMEZONE
TZID:Europe/Berlin
BEGIN:DAYLIGHT
TZOFFSETFROM:+0100
TZOFFSETTO:+0200
TZNAME:CEST
DTSTART:20260329T010000
END:DAYLIGHT
BEGIN:STANDARD
TZOFFSETFROM:+0200
TZOFFSETTO:+0100
TZNAME:CET
DTSTART:20261025T010000
END:STANDARD
END:VTIMEZONE
BEGIN:VEVENT
DTSTART;TZID=Europe/Berlin:20260207T140000
DTEND;TZID=Europe/Berlin:20260208T170000
DTSTAMP:20260425T231037
CREATED:20260201T185150Z
LAST-MODIFIED:20260201T185255Z
UID:10005963-1770472800-1770570000@www.astrologenverband.de
SUMMARY:Mundan-Astrologie mit Rafael Gil Brand am 7. + 8. Februar 2026
DESCRIPTION:Im Rahmen der Astrologie- unn Tarotschule München findet am 7. + 8. Februar 2026 ein Astrologie-Fortbildungsseminar mit Rafael Gil Brand zum Thema „Mundan-Astrologie“ statt. \nBeginn: Samstag\, 7. Februar um 14:00 Uhr – 19:00 Uhr und Sonntag\, 8. Februar\, 10:00 – 17:00 Uhr mit 1 Std. Mittagspause von 13:00 – 14:00 Uhr \nDas Seminar findet in Präsenz und gleichzeitig als Live-Webinar statt. Es wird aufgezeichnet und anschließend per Link an die TeilnehmerInnen verschickt. \nPreis: 230 Euro \nMehr Infos unter: \nhttps://astro-tarot-muenchen.de/go/de/9-320/mundan-astrologie \nWir widmen uns dem aktuellen Zeitgeschehen auf globaler\, gesellschaftlicher und politischer Ebene. Alle wichtigen Deutungselemente der Mundan-Astrologie werden vermittelt: Staatshoroskope\, Finsternisse\, Zyklen der Langsamläufer … (mit ausführlichem Skript) und Kurz-Video… plus Artikel unter „Aktuell“ \nEs wird sicher sehr spannend\, wir freuen uns auf Sie. \nSabine Lechleuthner
URL:https://www.astrologenverband.de/terminkalender/mundan-astrologie-mit-rafael-gil-brand/
LOCATION:Treffpunkt Philosophie\, Schwanthaler Str. 91 /III\, München\, Bayern\, 80336
ORGANIZER;CN="Astrologie-%20und%20Tarotschule%20M%C3%BCnchen%20Sabine%20Lechleuthner":MAILTO:info@astro-tarot-muenchen.de
END:VEVENT
END:VCALENDAR