BEGIN:VCALENDAR
VERSION:2.0
PRODID:-//Astrologie | Deutscher Astrologenverband e.V. - ECPv6.1.0//NONSGML v1.0//EN
CALSCALE:GREGORIAN
METHOD:PUBLISH
X-ORIGINAL-URL:https://www.astrologenverband.de
X-WR-CALDESC:Veranstaltungen für Astrologie | Deutscher Astrologenverband e.V.
REFRESH-INTERVAL;VALUE=DURATION:PT1H
X-Robots-Tag:noindex
X-PUBLISHED-TTL:PT1H
BEGIN:VTIMEZONE
TZID:Europe/Berlin
BEGIN:DAYLIGHT
TZOFFSETFROM:+0100
TZOFFSETTO:+0200
TZNAME:CEST
DTSTART:20260329T010000
END:DAYLIGHT
BEGIN:STANDARD
TZOFFSETFROM:+0200
TZOFFSETTO:+0100
TZNAME:CET
DTSTART:20261025T010000
END:STANDARD
END:VTIMEZONE
BEGIN:VEVENT
DTSTART;TZID=Europe/Berlin:20260204T183000
DTEND;TZID=Europe/Berlin:20260204T213000
DTSTAMP:20260426T053811
CREATED:20240513T121244Z
LAST-MODIFIED:20250802T111637Z
UID:10003192-1770229800-1770240600@www.astrologenverband.de
SUMMARY:Die Häuser als Lebensbereiche M14
DESCRIPTION:Du hast astrologische Kenntnisse und möchtest mehr erfahren über die Huber-Methode? \nDie Kurse Level 2 mit den Modulen 13 bis 22 ist die zweite Stufe eines dreigliedrigen zertifizierten Systems. Du kannst alle Module als Gesamtpaket buchen. Wenn Du Dich für ein Thema besonders interessierst\, dann ist Teilnahme an einzelnen Modulen auch möglich. Und gelernt wird natürlich immer am eigenen Horoskop. Das ist spannend und lehrreich zugleich. \n\nHeute Modul 14 mit den Inhalten… \nDie Häuser als Lebensbereiche der Persönlichkeit. \nGrundsätzliche Betrachtung und psychologische Bedeutung / Das Häusersystem / Der Aszendent / Das Häusersystem als Raumgefüge / Zuordnung zu Kreuzen und Temperamenten / Die Qualitäten der 12 Häuser / Die Häuserachsen / Das dynamische Häusersystem / Die Integration der Persönlichkeit und ihre psychologische Deutung \nUmfang \n\nDie Online-Kurse finden live als Zoom-Meetings jeweils Mittwoch von 18.30 bis 21.30 Uhr statt. Sie sind keine vorab aufgezeichneten Kurse zum Selbststudium\, sondern Live-Schulungen mit persönlicher Betreuung.\nDauer 1 1/2 Jahre. Ein Modul hat einen Umfang von 6 oder auch 9 Stunden. Die Teilnahme an einzelnen Modulen ist möglich. \nInhalte\nModul 13    Einführung in die Astrologische Psychologie\nModul 14    Die Häuser als Lebensbereiche der Persönlichkeit\nModul 15    Die Entwicklung in den Lebensphasen\nModul 16    Die Aspekte als innerer Schaltplan\nModul 17    Die persönliche Prägung durch die Familie\nModul 18    Der Mensch zwischen Individualität und Umwelt\nModul 19    Karmische Astrologie als Spiegel Persönlichkeit\nModul 20    Intelligenz und Beruf(ung) im Horoskop\nModul 21    Das neue Verständnis von Beziehung und Liebe\nModul 22    Deutungspraxis\, praxisbegleitende Übungen \nAbschluss Level 2\nZertifikat Level II  Astrologische Psychologie\nHast Du die Absicht\, jetzt oder später beratend tätig zu sein\, dann gilt dieses Zertifikat als Voraussetzung für den Einstieg in die Kurse zum/zur Berater/in  Zertifikat Level 3
URL:https://www.astrologenverband.de/terminkalender/die-haeuser-als-lebensbereiche/
LOCATION:Online / Schule Lummer und Borchardt
CATEGORIES:Seminar Online
ORGANIZER;CN="Astrologische%20Psychologie%20Birgit%20Lummer%20und%20Saskia%20Borchardt":MAILTO:astro@lummer.de
END:VEVENT
BEGIN:VEVENT
DTSTART;TZID=Europe/Berlin:20260204T190000
DTEND;TZID=Europe/Berlin:20260204T210000
DTSTAMP:20260426T053811
CREATED:20251117T173007Z
LAST-MODIFIED:20260113T103651Z
UID:10005907-1770231600-1770238800@www.astrologenverband.de
SUMMARY:Online: Astrologie-Aufbaukurs
DESCRIPTION:Wer die Tierkreiszeichen\, die Planeten und deren Symbole kennt\, ist in diesem Aufbaukurs willkommen! Schwerpunkte des Kurses sind das Auffinden wichtiger Themen und die sinnvolle Verwendung der Bausteine aus dem Horoskop. \nDie lebensnahe Deutung von Horoskopen wird Thema dieses Kurses\, in dem wir unser Grundwissen anwenden und vertiefen. Hier werden wir mit interessanten Beispielhoroskopen arbeiten\, von Personen und von Ereignissen. Insbesondere üben wir dabei\, welche Reihenfolge wir bei der Deutung im Auge behalten sollten und welche Aspekte immer wieder auffallen. Wie herausfordernde Konstellationen am besten zu nutzen sind\, wird ebenfalls ein wichtiges Thema sein. \nSo lernen wir einiges über die Aspekte\, auch indem wir die Themen der Planeten verstehen und miteinander kombinieren. Außerdem befassen wir uns mit den wichtigsten Prognosemethoden. Praktisch ausgerichtet lernen wir zudem einiges über Ortlinien im Horoskop\, und über die Zuordnung von Konstellationen bei besonderen Ereignissen. \nGemeinsam werden wir über Zoom das Unterrichtsmaterial am Bildschirm anschauen\, besprechen und einstudieren. Zudem werden die Videos aufgenommen\, so dass es möglich ist\, das Gelernte in Ruhe nachzuarbeiten oder jene Abende dennoch zu erleben\, an denen Sie vielleicht nicht live teilnehmen können. Die Videos sind ausschließlich für die Teilnehmenden bestimmt. Das Bildmaterial\, die Texte und gelegentliche Hausaufgaben gibt es dann per E-Mail\, zusammen mit den wöchentlich versendeten Videos vom Kurs. \n\n\n\n\n\n\n\n\nTHEMEN \n\nPraktische Deutungsübungen\nDer Siebener-Rhythmus im Horoskop\nPrognosemethoden\, Transite\, Direktionen\, Solare\nBesonderheiten im Horoskop erkennen\nKombinierendes Deuten astrologischer Konstellationen\nReiseorte und Wohnungseinrichtung\nHoroskope für Ereignisse und Fragen\nAktuelle Konstellationen\n\n\n\n\n\n\n\nINFO \nBeginn: Mi. 14.1.2026 \nZeit: 19.00-21.00 Uhr \nDauer: 14 Abende\, mittwochs \nKursgebühr: 392 Euro \nOrt: Online als Zoom-Konferenz \n\n\n\n\n\n\n\n\n\nTelefon: (0049) (0)421-72929 \nVoranmeldung
URL:https://www.astrologenverband.de/terminkalender/astrologie-aufbaukurs-2-3/2026-02-04/
LOCATION:Online\, Astrologie-Schule Bremen\, Deutschland
CATEGORIES:DAV Regionalstelle,Fernstudium,Seminar Online
END:VEVENT
END:VCALENDAR