BEGIN:VCALENDAR
VERSION:2.0
PRODID:-//Astrologie | Deutscher Astrologenverband e.V. - ECPv6.1.0//NONSGML v1.0//EN
CALSCALE:GREGORIAN
METHOD:PUBLISH
X-ORIGINAL-URL:https://www.astrologenverband.de
X-WR-CALDESC:Veranstaltungen für Astrologie | Deutscher Astrologenverband e.V.
REFRESH-INTERVAL;VALUE=DURATION:PT1H
X-Robots-Tag:noindex
X-PUBLISHED-TTL:PT1H
BEGIN:VTIMEZONE
TZID:Europe/Berlin
BEGIN:DAYLIGHT
TZOFFSETFROM:+0100
TZOFFSETTO:+0200
TZNAME:CEST
DTSTART:20260329T010000
END:DAYLIGHT
BEGIN:STANDARD
TZOFFSETFROM:+0200
TZOFFSETTO:+0100
TZNAME:CET
DTSTART:20261025T010000
END:STANDARD
END:VTIMEZONE
BEGIN:VEVENT
DTSTART;TZID=Europe/Berlin:20260128T110000
DTEND;TZID=Europe/Berlin:20260128T120000
DTSTAMP:20260421T053950
CREATED:20251202T104339Z
LAST-MODIFIED:20251202T104647Z
UID:10005838-1769598000-1769601600@www.astrologenverband.de
SUMMARY:Kostenloses Info-Webinar: Die Ausbildung in Traditioneller Astrologie kennenlernen
DESCRIPTION:Live online – unverbindlich & gratis (45–60 Minuten) · per Zoom 28. Januar 2026 (11:00 Uhr) & 05. Februar 2026 (19:00 Uhr)\nDer Zoom-Link wird nach der Anmeldung per E-Mail verschickt. \nWer sich für eine Ausbildung in Traditioneller Astrologie interessiert\, hat oft viele Fragen: Wie sind Inhalte und Ablauf strukturiert? Welche Methoden werden vermittelt? Und wie unterscheidet sich traditionelle von moderner Astrologie?\nUm einen transparenten Überblick zu geben\, biete ich zwei kostenlose und unverbindliche Live-Info-Termine an. Sie richten sich an alle\, die überlegen\, die Grundausbildung in Traditioneller Astrologie zu beginnen. Die nächste Ausbildungsgruppe startet voraussichtlich im Frühjahr 2026. \nWas dich erwartet \n\nkompakter Überblick über Aufbau\, Inhalte und Struktur der Ausbildung\nEinblick in die Module und die inhaltlichen und didaktischen Schwerpunkte\nVorstellung der Unterrichtsformate (Live-Zoom\, Materialien\, Übungen)\nInformationen zur Zielgruppe und zu organisatorischen Rahmenbedingungen\nRaum für alle Fragen rund um Ablauf\, Voraussetzungen und Anmeldung\n\nFür wen ist der Termin gedacht? \nFür alle\, die sich für die Traditionelle Astrologie interessieren – unabhängig davon\, ob bereits erste Kenntnisse vorhanden sind oder ob du ganz neu einsteigst. \nWarum teilnehmen? \nDer Info-Termin ist kostenlos und unverbindlich.\nEr unterstützt dich dabei\, einzuschätzen\, ob die Ausbildung zu deinen Interessen und Vorstellungen passt.\nWer sich für eine Ausbildung in Traditioneller Astrologie interessiert\, hat oft viele Fragen: Wie sind Inhalte und Ablauf strukturiert? Welche Methoden werden vermittelt? Und wie unterscheidet sich traditionelle von moderner Astrologie?\nUm einen transparenten Überblick zu geben\, biete ich zwei kostenlose und unverbindliche Live-Info-Termine an. Sie richten sich an alle\, die überlegen\, die Grundausbildung in Traditioneller Astrologie zu beginnen. \nTermine (kostenlos & unverbindlich) \nPer Zoom – der Link wird nach der Anmeldung per Mail verschickt.\nMittwoch\, 28. Januar 2026 – 11:00 Uhr\nDonnerstag\, 05. Februar 2026 – 19:00 Uhr \nAnmeldung bitte per Mail an: info@birgitvonborstel.de\nBitte den gewünschten Termin in der Nachricht angeben. \nMehr Info zur Ausbildung in Traditioneller Astrologie gibt es hier.
URL:https://www.astrologenverband.de/terminkalender/kostenloses-info-webinar-die-ausbildung-in-traditioneller-astrologie-kennenlernen/2026-01-28/
LOCATION:ONLINE  ZOOM
CATEGORIES:DAV Ausbildungszentrum,Seminar Online,Vortrag Online
ORGANIZER;CN="Birgit%20von%20Borstel%2C%20Ausbildungszentrum%20Prenzlauer%20Berg":MAILTO:info@birgitvonborstel.de
END:VEVENT
BEGIN:VEVENT
DTSTART;TZID=Europe/Berlin:20260128T190000
DTEND;TZID=Europe/Berlin:20260128T210000
DTSTAMP:20260421T053950
CREATED:20251117T173007Z
LAST-MODIFIED:20260113T103651Z
UID:10005906-1769626800-1769634000@www.astrologenverband.de
SUMMARY:Online: Astrologie-Aufbaukurs
DESCRIPTION:Wer die Tierkreiszeichen\, die Planeten und deren Symbole kennt\, ist in diesem Aufbaukurs willkommen! Schwerpunkte des Kurses sind das Auffinden wichtiger Themen und die sinnvolle Verwendung der Bausteine aus dem Horoskop. \nDie lebensnahe Deutung von Horoskopen wird Thema dieses Kurses\, in dem wir unser Grundwissen anwenden und vertiefen. Hier werden wir mit interessanten Beispielhoroskopen arbeiten\, von Personen und von Ereignissen. Insbesondere üben wir dabei\, welche Reihenfolge wir bei der Deutung im Auge behalten sollten und welche Aspekte immer wieder auffallen. Wie herausfordernde Konstellationen am besten zu nutzen sind\, wird ebenfalls ein wichtiges Thema sein. \nSo lernen wir einiges über die Aspekte\, auch indem wir die Themen der Planeten verstehen und miteinander kombinieren. Außerdem befassen wir uns mit den wichtigsten Prognosemethoden. Praktisch ausgerichtet lernen wir zudem einiges über Ortlinien im Horoskop\, und über die Zuordnung von Konstellationen bei besonderen Ereignissen. \nGemeinsam werden wir über Zoom das Unterrichtsmaterial am Bildschirm anschauen\, besprechen und einstudieren. Zudem werden die Videos aufgenommen\, so dass es möglich ist\, das Gelernte in Ruhe nachzuarbeiten oder jene Abende dennoch zu erleben\, an denen Sie vielleicht nicht live teilnehmen können. Die Videos sind ausschließlich für die Teilnehmenden bestimmt. Das Bildmaterial\, die Texte und gelegentliche Hausaufgaben gibt es dann per E-Mail\, zusammen mit den wöchentlich versendeten Videos vom Kurs. \n\n\n\n\n\n\n\n\nTHEMEN \n\nPraktische Deutungsübungen\nDer Siebener-Rhythmus im Horoskop\nPrognosemethoden\, Transite\, Direktionen\, Solare\nBesonderheiten im Horoskop erkennen\nKombinierendes Deuten astrologischer Konstellationen\nReiseorte und Wohnungseinrichtung\nHoroskope für Ereignisse und Fragen\nAktuelle Konstellationen\n\n\n\n\n\n\n\nINFO \nBeginn: Mi. 14.1.2026 \nZeit: 19.00-21.00 Uhr \nDauer: 14 Abende\, mittwochs \nKursgebühr: 392 Euro \nOrt: Online als Zoom-Konferenz \n\n\n\n\n\n\n\n\n\nTelefon: (0049) (0)421-72929 \nVoranmeldung
URL:https://www.astrologenverband.de/terminkalender/astrologie-aufbaukurs-2-3/2026-01-28/
LOCATION:Online\, Astrologie-Schule Bremen\, Deutschland
CATEGORIES:DAV Regionalstelle,Fernstudium,Seminar Online
END:VEVENT
BEGIN:VEVENT
DTSTART;TZID=Europe/Berlin:20260128T193000
DTEND;TZID=Europe/Berlin:20260128T213000
DTSTAMP:20260421T053950
CREATED:20250202T131654Z
LAST-MODIFIED:20250202T131654Z
UID:10004715-1769628600-1769635800@www.astrologenverband.de
SUMMARY:Online-Ausbildung Astromedizin (11)
DESCRIPTION:In 21 Abenden (jeweils mittwochs von 19:30 – 21:30 Uhr) erhalten Sie durch die Astrologin Petra Dörfert eine umfassende Einführung in die Astromedizin. Neben den Grundlagen (Zuordnung von Organen und Krankheiten zu den Tierkreiszeichen\, Häusern und Planeten) beschäftigen wir uns mit zahlreichen körperlichen und psychischen Erkrankungen\, der Frage der Prävention\, der Kinderwunschberatung sowie der Berechnung von OP-Terminen. \nSämtliche Informationen zur Ausbildung finden Sie hier. \nFür die Anmeldung nehmen Sie bitte per E-Mail oder telefonisch Kontakt mit mir auf (siehe unten)\, dann sende ich Ihnen das Anmeldeformular zu. \nDer nächste Astromedizin-Zyklus startet im kommenden September!
URL:https://www.astrologenverband.de/terminkalender/online-ausbildung-astromedizin-11/
LOCATION:Online\, Deutschland
CATEGORIES:DAV Ausbildungszentrum,Seminar Online
ORGANIZER;CN="Online%20Akademie%20Astrologie%20Petra%20D%C3%B6rfert%20%2F%20DAV%20Ausbildungszentrum":MAILTO:info@online-akademie-astrologie.com
END:VEVENT
END:VCALENDAR