BEGIN:VCALENDAR
VERSION:2.0
PRODID:-//Astrologie | Deutscher Astrologenverband e.V. - ECPv6.1.0//NONSGML v1.0//EN
CALSCALE:GREGORIAN
METHOD:PUBLISH
X-WR-CALNAME:Astrologie | Deutscher Astrologenverband e.V.
X-ORIGINAL-URL:https://www.astrologenverband.de
X-WR-CALDESC:Veranstaltungen für Astrologie | Deutscher Astrologenverband e.V.
REFRESH-INTERVAL;VALUE=DURATION:PT1H
X-Robots-Tag:noindex
X-PUBLISHED-TTL:PT1H
BEGIN:VTIMEZONE
TZID:Europe/Berlin
BEGIN:DAYLIGHT
TZOFFSETFROM:+0100
TZOFFSETTO:+0200
TZNAME:CEST
DTSTART:20260329T010000
END:DAYLIGHT
BEGIN:STANDARD
TZOFFSETFROM:+0200
TZOFFSETTO:+0100
TZNAME:CET
DTSTART:20261025T010000
END:STANDARD
END:VTIMEZONE
BEGIN:VEVENT
DTSTART;TZID=Europe/Berlin:20260124T140000
DTEND;TZID=Europe/Berlin:20260125T170000
DTSTAMP:20260421T074128
CREATED:20250903T053237Z
LAST-MODIFIED:20250903T053532Z
UID:10005627-1769263200-1769360400@www.astrologenverband.de
SUMMARY:START der Astrologie-Grundausbildung mit Sabine Lechleuthner am 24. + 25. Januar 2026
DESCRIPTION:START der Astrologie-Grundausbildung am 24. + 25. Januar 2026 mit Sabine Lechleuthner im Rahmen der Astrologie- und Tarotschule München \nDie Grundausbildung umfasst 10 Wochenenden von Januar bis November 1x im Monat (außer August) \nDie Ausbildung findet in Präsenz und gleichzeitig als Live-Webinar statt. \nIn jedem Kurs lernen Sie einzelne Bausteine eines Horoskops kennen (Planeten\, Sternzeichen\, Häuser\, Achsen\, Elemente …)\, wir setzen sie zusammen\, kombinieren und deuten. Zusätzlich gibt es ganz viel spannendes Hintergrundwissen. \nTheorie und Praxis wechseln sich ab. Wir arbeiten mit Teilnehmerhoroskopen und später auch mit Horoskopen berühmter Persönlichkeiten. Am Ende der Ausbildung sind Sie in der Lage für sich und andere das Horoskop zu deuten. Sie erhalten vor jedem Kurs ausführliches Unterrichtsmaterial\, können jederzeit Fragen stellen. Alle Kursdaten finden Sie auf meiner Website. \nOrt: Treffpunkt Philosophie\, Schwanthalerstr. 91\, 80336 München \nZeit: Samstag\, 24. Januar\, 14:00 – 19:00 Uhr und Sonntag\, 25. Januar\, 10:00 – 17:00 Uhr mit 1 Std. Mittagspause \nPreis: 230 Euro pro Wochenende \nAnmeldung unter: https://astro-tarot-muenchen.de/go/de/24-58/start-grundausbildung-astrologie-1-von-10 \nSiehe auch: Kurzvideo zur Ausbildung auf der Website! \n\noder bei Sabine Lechleuthner\, Tel: 089-436 22 97 oder mail: info@astro-tarot-muenchen.de\n\n\nIch freue mich auf Sie!\nHerzlich\, Sabine Lechleuthner
URL:https://www.astrologenverband.de/terminkalender/start-der-astrologie-grundausbildung-mit-sabine-lechleuthner-am-24-25-januar-2026/
LOCATION:Treffpunkt Philosophie\, Schwanthaler Str. 91 /III\, München\, Bayern\, 80336
ORGANIZER;CN="Astrologie-%20und%20Tarotschule%20M%C3%BCnchen%20Sabine%20Lechleuthner":MAILTO:info@astro-tarot-muenchen.de
END:VEVENT
BEGIN:VEVENT
DTSTART;TZID=Europe/Berlin:20260125T110000
DTEND;TZID=Europe/Berlin:20260125T170000
DTSTAMP:20260421T074128
CREATED:20250802T121408Z
LAST-MODIFIED:20250802T121507Z
UID:10005562-1769338800-1769360400@www.astrologenverband.de
SUMMARY:LIVE offenes Sonntagstreffen Deutungspraxis
DESCRIPTION:Mal wieder live gemeinsam an einem Tisch! Das Sonntagstreffen ist für alle Astrologinnen offen\, die persönlich und mit einem guten Kaffee über Horoskope sprechen möchten.\n\n\n\n\nTeilnehmer/innen aus allen astrologischen Fachrichtungen sind herzlich eingeladen. Die Treffen beinhalten jeweils ein spezielles astrologisches Thema.\nIm persönlichen Austausch erweitern wir unser Wissen und unsere Beratungskompetenzen. Es gibt Gelegenheit sich kennenzulernen und Kontakte zu knüpfen. \nUnser heutiges Thema: Gemeinsames Deuten\nGemeinsam werden wir Horoskope besprechen\, die die Teilnehmerinnen mitbringen oder es gibt Fragen zum eigenen Horoskop. In einem gemeinsamen Erfahrungsaustausch besprechen wir Themen\, Probleme oder offene Fragen zu vorliegenden Horoskopen. Bitte Horoskopdaten zur Verfügung stellen. Die Erlaubnis des jeweiligen Horoskopeigners sollte selbstverständlich gegeben sein. \n\n\nWir treffen uns im Seminarraum in Lippstadt\, Rüschenkamp 12.\nBrötchen\, Wasser\, Kaffee\, Tee und Gebäck stehen zur Verfügung. Bitte dicke Socken mitbringen. Teilnahmebeitrag 30€. \nAnmeldung einfach eine E-Mail an astro@lummer.de \n\n\n\nHier mehr Infos…
URL:https://www.astrologenverband.de/terminkalender/live-offenes-sonntagstreffen-deutungspraxis-3/
LOCATION:Lippstadt / Schule Lummer und Borchardt\, Rüschenkamp12\, Lippstadt\, 59558\, Deutschland
CATEGORIES:Seminar Präsenz
ORGANIZER;CN="Astrologische%20Psychologie%20Birgit%20Lummer%20und%20Saskia%20Borchardt":MAILTO:astro@lummer.de
END:VEVENT
END:VCALENDAR